Workbook
Name CoastalSaltmarsh: Table15[Coastalsaltmarsh]
Name CoastalSaltmarsh: Table15[Coastalsaltmarsh]
Name CoastalSaltmarsh: Table15[Coastalsaltmarsh]
Name Cropland: Table2[Cropland]
Name Cropland: Table2[Cropland]
Name Cropland: Table2[Cropland]
Name Grassland: Table3[Grassland]
Name Grassland: Table3[Grassland]
Name Grassland: Table3[Grassland]
Name Heathlandandshrub: Table4[Heathlandandshrub]
Name Heathlandandshrub: Table4[Heathlandandshrub]
Name Heathlandandshrub: Table4[Heathlandandshrub]
Name Hedgerow: Table11[HedgerowsandLinesoftrees]
Name HedgerowsandLinesofTrees: Table11[HedgerowsandLinesoftrees]
Name Intertidalhardstructures: Table5[Intertidalhardstructures]
Name Intertidalhardstructures: Table5[Intertidalhardstructures]
Name Intertidalhardstructures: Table5[Intertidalhardstructures]
Name Intertidalsediment: Table6[Intertidalsediment]
Name Intertidalsediment: Table6[Intertidalsediment]
Name Intertidalsediment: Table6[Intertidalsediment]
Name Lakes: Table7[Lakes]
Name Lakes: Table7[Lakes]
Name Lakes: Table7[Lakes]
Name Lineoftrees: Table12[Lineoftrees]
Name Lineoftrees: Table12[Lineoftrees]
Name Lineoftrees: Table12[Lineoftrees]
Name Rivers: Table13[Watercourses]
Name Rivers: Table13[Watercourses]
Name Rivers: Table13[Watercourses]
Name Sparselyvegetatedland: Table8[Sparselyvegetatedland]
Name Sparselyvegetatedland: Table8[Sparselyvegetatedland]
Name Sparselyvegetatedland: Table8[Sparselyvegetatedland]
Name Urban: Table9[Urban]
Name Urban: Table9[Urban]
Name Urban: Table9[Urban]
Name Watercourses: '11. Lists'!$Y$2:$Y$4
Name Woodlandandforest: Table10[Woodlandandforest]
Name Woodlandandforest: Table10[Woodlandandforest]
Name Woodlandandforest: Table10[Woodlandandforest]

Sheet 1. Introduction
A6: created by Sam Arthur @ FPCR | B6: Small Sites Metric (The Statutory Biodiversity Metric)
B11: Version 1.2.3 Release Date: | F11: 3rd July 2025
B17: Cell style conventions
D19: Enter data
D21: Automated equation
D23: Result
D25: Title cell
D26: Title cell alt colour
B27: ▲ | D27: Error
B28: ⚠ | D28: Attention required | J28: Technical Requirements - Excel Versions: 2010, 2013, 2016, 2019, Office 365, Excel for Android
D29: Use of this cell is not required

Sheet 2. Site Details
B2: Sheet Name | D2: Site Details
B3: 1. Planning authority: | D3: South Holland District Council
B4: 2. Site name: | D4: H08-0036-26 Polytunnel Site
B5: 3. Applicant: | D5: Matthew Verdegaal
B6: 4. Planning application type: | D6: Full planning application
B7: 5. Planning application reference: | D7: H08-0036-26
B8: 6. Metric completed by (name & job title): | D8: Matthew Verdegaal - Applicant
B9: 7. Date of metric completion: | D9: 46121
B10: 8. Revision number: | D10: Proposed polytunnel with sealed base and boundary wildflower / hedge planting plan
B11: 9. Masterplan document title / drawing number: | D11: Proposed polytunnel and boundary planting plan
B12: Net Gain Targets
B13: 10. Targeted % increase in Units | C13: 10a. Area habitats | D13: 10 | E13: =IF(D13<10,"Caution - % target reduced below default ▲",IF(D13>10,"Caution -Target increased above default ⚠",""))
C14: 10b. Hedgerows | D14: 10 | E14: =IF(D14<10,"Caution - % target reduced below default ▲",IF(D14>10,"Caution -Target increased above default ⚠",""))
C15: 10c. Watercourses | D15: 10 | E15: =IF(D15<10,"Caution - % target reduced below default ▲",IF(D15>10,"Caution -Target increased above default ⚠",""))
B17: 11. Optional target increase in units if baseline value is zero | C17: 11a. Area habitat units | D17: 0 | E17: =IF(D17=0,"","Unit increase Targets must be agreed with LPA ⚠")
C18: 11b. Hedgerow units | D18: 0 | E18: =IF(D18=0,"","Unit increase Targets must be agreed with LPA ⚠")
C19: 11c. Watercourse units | D19: 0 | E19: =IF(D19=0,"","Unit increase Targets must be agreed with LPA ⚠")
B21: For planning authority use only
B22: 12. Planning authority reviewer:
B23: 13. Date of planning authority review:

Sheet 3. Desktop Assessment
B2: Site Name: | C2: =IF('2. Site Details'!D4="","Enter site name on 2. Site Details",'2. Site Details'!D4) -> H08-0036-26 Polytunnel Site
B3: Sheet Name | C3: Desktop Assessment
B5: Development
B6: 14. Select the type of proposed development. If Other provide details at Q.25 below | C6: Other | D6: =IF(AND(C6="Residential",C9="Unknown number"),"Site area must be less than 5,000 m2",IF(C6="","","Site area must be less than 10,000 m2")) -> Site area must be less than 10,000 m2 | E6: =IF(AND(C9="Unknown number", C6="Residential"),"Site area limited by unknown number of dwellings ⚠", "")
B7: 15. Site area (m2) | C7: 6366.13 | D7: =IF(AND(D6="Site area must be less than 10,000 m2",C7>=10000),"ERROR- Site too large for metric - USE MAIN METRIC ▲",IF(AND(D6="Site area must be less than 5,000 m2",C7>=5000),"ERROR- Site too large for metric - USE MAIN METRIC ▲",""))
B8: =IF(OR(C6="Residential",C6="Other"),"N/A",IF(C6="","","16. Building footprint (m2) of commercial buildings proposed within the development site (or zero if none)")) -> N/A | D8: =IF(AND(B8="n/a",C8<>""),"ERROR- Not required",IF(AND(C8<>"",C8>=1000),"ERROR- Footprint too large for metric - USE MAIN METRIC",IF(AND(C8<>"",C8>C7),"ERROR - Footprint larger than development area","")))
B9: =IF(OR(C6="Commercial",C6="Other"),"N/A",IF(C6="","","17. Number of dwellings proposed within the development site")) -> N/A | D9: =IF(AND(B9="n/a",C9<>""),"ERROR- Not required ▲",IF(OR(AND(C6="Residential",C9="Over 9 dwellings"),AND(C6="Mixed",C9="Over 9 dwellings")),"ERROR- Number of dwellings too large for metric - USE MAIN METRIC ▲",IF(AND(B9="17. Number of dwellings proposed within the development site",C9=""),"ERROR - You must specify number of dwellings ▲","")))
B10: Designated sites and priority habitats
B11: 18. Any designated sites on or within 500m of the site? | C11: No | D11: =IF(C11="On site","ERROR- Site too complex for metric - USE MAIN METRIC ▲",IF(C11="Within 500m of site boundary","Consider using main metric tool ⚠",""))
B12: 19. Any priority habitats on or within 500m of the site? | C12: No | D12: =IF(C12="On site","ERROR- Site too complex for metric - USE MAIN METRIC ▲",IF(C12="Within 500m of site boundary","Consider using main metric tool ⚠",""))
B13: 20. List the designated sites and/or priority habitats | C13: No designated sites or priority habitats identified from user-provided information.
B14: 21. Information sources used for assessment of designated sites and priority habitats (See guidance) | C14: User-provided site description / planning submission information
B15: European protected species
B16: 22. Any european protected species present on site | C16: No | D16: =IF(C16="Yes","ERROR- Site too complex for metric - USE MAIN METRIC ▲","")
B18: Site walkover
B19: 23. Site walkover completed? | C19: Yes | D19: =IF(C19="Walkover completed by competent person","A competent person should be able to confidently identify the habitats onsite",IF(C19="No Walkover Undertaken","ERROR- Site walkover required",""))
B20: 24. Date of site walkover - DD/MM/YY | C20: 46121 | D20: =IF(C20="","Walkover date required ▲","Site walkover data valid until "&TEXT(EDATE(C20,6),"dd/mm/yy")) -> Site walkover data valid until 09/10/26
B21: 25. Who completed the walkover? (Name and job title) | C21: Matthew Verdegaal - Applicant walkover
B22: Additional details
B23: 26. Any additional information or notes | C23: Baseline assumed to include only the polytunnel footprint and enhancement area (6366.13m²) of modified grassland. Proposed development includes one polytunnel approx. 9.1m x 132ft with a sealed base and new non-native boundary hedging (150m laurel and 70m leylandii).
C26: Development is a small horticultural polytunnel scheme on a grass site. Baseline area is limited to the footprint and enhancement area only. Proposed habitat enhancement comprises 6000m² of wildflower grassland in moderate condition, with 150m laurel and 70m leylandii planting.

Sheet 4. Supporting Information
B2: Site Name: | D2: =IF('2. Site Details'!D4="","Enter site name on 2. Site Details",'2. Site Details'!D4) -> H08-0036-26 Polytunnel Site | E2: =IF(OR('3. Desktop Assessment'!C19="Walkover completed by competent person",'3. Desktop Assessment'!C19="No walkover undertaken"),IF(COUNTA(D8:E8,D10:E10,D14:E14,D16:E16,D18:E18,D22:E22,D26:E26,D30:E30,D34:E34,D38:E38,D42:E42,D46:E46,D12:E12,D20:E20,D24:E24,D28:E28,D32:E32,D36:E36,D40:E40,D44:E44)=0,"Error - Site photographs required to support application",""),"")
B3: Sheet Name | D3: Supporting Information
B5: Baseline Habitat Photos | D5: Insert photographs to support assumptions made in the metric
B7: Ref | C7: Habitat type | D7: Photo 1 | E7: Photo 2
B8: 1 | C8: 09/04/26 | D8: No photo supplied
C9: Modified grassland
B10: 2 | C10: 09/04/26 | D10: No photo supplied
C11: =IF('5. Area Habitats'!D12=0,"",'5. Area Habitats'!D12)
B12: 3 | C12: 09/04/26 | D12: No photo supplied
C13: =IF('5. Area Habitats'!D13=0,"",'5. Area Habitats'!D13)
B14: Additional photo entries | C14: No further photographs provided
C47: =IF('5. Area Habitats'!D30=0,"",'5. Area Habitats'!D30)
B50: Supporting note | C50: Applicant has not supplied habitat photographs. Metric completed from user site description: existing grass site, no existing hedges/trees, no watercourses, one proposed polytunnel, and new non-native boundary hedging.

Sheet 5. Area Habitats
O1: Retained Units | P1: =IFERROR(SUM(AE11:AE31), "Error ▲") -> 0 | R1: Data beyond this column is automated
B2: Site Name | C2: =IF('2. Site Details'!D4="","Enter site name on 2. Site Details",'2. Site Details'!D4) -> H08-0036-26 Polytunnel Site | F2: Instructions: 1. Enter data into 1a. Baseline habitats table 2. Enter data on habitats to be created into 1b. Habitats to be created 3. Enter data on habitats to be enhanced into 1c. Habitats to be enhanced 4. Enter data on individual trees into 1d. Tree area calculator | J2: {=IFERROR(IF(OR((ISNUMBER(SEARCH("▲",A7:Q101)))),"Input Errors Present On Sheet - Red Cells Or ▲ Highlight Errors","All Key Rules Satisfied ✓ "),"Technical Errors On Sheet ▲")} -> All Key Rules Satisfied ✓ | O2: Lost Units | P2: =IFERROR(N32, "Error ▲") -> 0.146452
B3: Sheet Name | C3: 5. Area Habitats | O3: Created Units | P3: =IFERROR(L61, "Error ▲") -> 0
O4: Enhancement Units | P4: =IFERROR(L89, "Error ▲") -> 3.8064391
O5: Net Change | P5: =IFERROR((P1+L61+L89)-L32, "Error ▲") -> 1.2599871
B7: 1a. Baseline habitats
B9: Ref | C9: Habitat | F9: C. Strategic significance | I9: Areas (m2) | L9: Baseline results | O9: Comments | T9: Habitat distinctiveness | W9: Habitat condition | AB9: Strategic significance | AE9: Ecological baseline | AH9: Suggested action to address habitat losses | AI9: Enhancement rules
C10: A. Broad Habitat | D10: B. Habitat type | I10: D. Total Area | J10: E. Area retained | K10: F. Area enhanced | L10: Total habitat units onsite | M10: Area Lost | N10: Units lost | O10: User comments | P10: LPA comments | T10: Distinctiveness | V10: Score | W10: Condition | X10: Score | AB10: Strategic significance | AC10: Strategic significance | AD10: Strategic significance multiplier | AE10: Baseline units retained | AF10: Baseline units to be enhanced | AG10: Area lost
B11: 1 | C11: Grassland | D11: Modified grassland | F11: Area/compensation not in local strategy/ no local strategy | I11: 6366.13 | J11: 0 | K11: 6000 | L11: =IF(C11="","",IFERROR(IF(I11="","",((I11/10000)*V11*X11)*AD11),"Error ▲")) -> 2.546452 | M11: =IF(I11="","",IF(J11+K11>I11,"Area Error ▲",I11-J11-K11)) -> 366.13 | N11: =IFERROR(IF(I11="","",IF(M11="Area Error ▲","Area Error ▲",((M11/10000)*V11*X11)*AD11)),"This intervention is not permitted within the SSM ▲") -> 0.146452 | O11: Baseline area limited to polytunnel footprint and enhancement area (6366.13m²). Polytunnel footprint 366.13m² treated as developed land/sealed surface. Wildflower enhancement area 6000m². | T11: =IF(C11="","",VLOOKUP(D11,'9. All Habitats + Multipliers'!$C$4:$K$102,5,FALSE)) -> Low | V11: =IF(T11="","",VLOOKUP(T11,'11. Lists'!$B$47:$D$49,2,FALSE)) -> 2 | W11: =IF(C11="","",VLOOKUP(D11,'10. Condition and Temporal'!$B$6:$C$103,2,FALSE)) -> Moderate | X11: =IF(W11="","",VLOOKUP(W11,'11. Lists'!$F$47:$G$51,2,FALSE)) -> 2 | AB11: =IF(F11="","",F11) -> Area/compensation not in local strategy/ no local strategy | AC11: =IF(AB11="","",VLOOKUP(AB11,'11. Lists'!$F$36:$H$38,2,FALSE)) -> Low Strategic Significance | AD11: =IF(AB11="","",VLOOKUP(AB11,'11. Lists'!$F$36:$H$38,3,FALSE)) -> 1 | AE11: =IF(D11="","",((J11/10000)*V11*X11)*AD11) -> 0 | AF11: =IF(D11="","",((K11/10000)*V11*X11)*AD11) -> 2.4 | AG11: =IF(D11="","",M11) -> 366.13 | AH11: =IF(T11="","",VLOOKUP(T11,'11. Lists'!$B$47:$D$49,3,FALSE)) -> Same distinctiveness or better habitat required | AI11: =IF(D11="","",VLOOKUP(D11,'10. Condition and Temporal'!$B$6:$L$103,4,FALSE)) -> Modified grassland, Other lowland acid grassland, Other neutral grassland, Upland acid grassland
L12: =IF(C12="","",IFERROR(IF(I12="","",((I12/10000)*V12*X12)*AD12),"Error ▲")) | M12: =IF(I12="","",IF(J12+K12>I12,"Area Error ▲",I12-J12-K12)) | N12: =IFERROR(IF(I12="","",IF(M12="Area Error ▲","Area Error ▲",((M12/10000)*V12*X12)*AD12)),"This intervention is not permitted within the SSM ▲") | T12: =IF(C12="","",VLOOKUP(D12,'9. All Habitats + Multipliers'!$C$4:$K$102,5,FALSE)) | V12: =IF(T12="","",VLOOKUP(T12,'11. Lists'!$B$47:$D$49,2,FALSE)) | W12: =IF(C12="","",VLOOKUP(D12,'10. Condition and Temporal'!$B$6:$C$103,2,FALSE)) | X12: =IF(W12="","",VLOOKUP(W12,'11. Lists'!$F$47:$G$51,2,FALSE)) | AB12: =IF(F12="","",F12) | AC12: =IF(AB12="","",VLOOKUP(AB12,'11. Lists'!$F$36:$H$38,2,FALSE)) | AD12: =IF(AB12="","",VLOOKUP(AB12,'11. Lists'!$F$36:$H$38,3,FALSE)) | AE12: =IF(D12="","",((J12/10000)*V12*X12)*AD12) | AF12: =IF(D12="","",((K12/10000)*V12*X12)*AD12) | AG12: =IF(D12="","",M12) | AH12: =IF(T12="","",VLOOKUP(T12,'11. Lists'!$B$47:$D$49,3,FALSE)) | AI12: =IF(D12="","",VLOOKUP(D12,'10. Condition and Temporal'!$B$6:$L$103,4,FALSE))
L13: =IF(C13="","",IFERROR(IF(I13="","",((I13/10000)*V13*X13)*AD13),"Error ▲")) | M13: =IF(I13="","",IF(J13+K13>I13,"Area Error ▲",I13-J13-K13)) | N13: =IFERROR(IF(I13="","",IF(M13="Area Error ▲","Area Error ▲",((M13/10000)*V13*X13)*AD13)),"This intervention is not permitted within the SSM ▲") | T13: =IF(C13="","",VLOOKUP(D13,'9. All Habitats + Multipliers'!$C$4:$K$102,5,FALSE)) | V13: =IF(T13="","",VLOOKUP(T13,'11. Lists'!$B$47:$D$49,2,FALSE)) | W13: =IF(C13="","",VLOOKUP(D13,'10. Condition and Temporal'!$B$6:$C$103,2,FALSE)) | X13: =IF(W13="","",VLOOKUP(W13,'11. Lists'!$F$47:$G$51,2,FALSE)) | AB13: =IF(F13="","",F13) | AC13: =IF(AB13="","",VLOOKUP(AB13,'11. Lists'!$F$36:$H$38,2,FALSE)) | AD13: =IF(AB13="","",VLOOKUP(AB13,'11. Lists'!$F$36:$H$38,3,FALSE)) | AE13: =IF(D13="","",((J13/10000)*V13*X13)*AD13) | AF13: =IF(D13="","",((K13/10000)*V13*X13)*AD13) | AG13: =IF(D13="","",M13) | AH13: =IF(T13="","",VLOOKUP(T13,'11. Lists'!$B$47:$D$49,3,FALSE)) | AI13: =IF(D13="","",VLOOKUP(D13,'10. Condition and Temporal'!$B$6:$L$103,4,FALSE))
L14: =IF(C14="","",IFERROR(IF(I14="","",((I14/10000)*V14*X14)*AD14),"Error ▲")) | M14: =IF(I14="","",IF(J14+K14>I14,"Area Error ▲",I14-J14-K14)) | N14: =IFERROR(IF(I14="","",IF(M14="Area Error ▲","Area Error ▲",((M14/10000)*V14*X14)*AD14)),"This intervention is not permitted within the SSM ▲") | T14: =IF(C14="","",VLOOKUP(D14,'9. All Habitats + Multipliers'!$C$4:$K$102,5,FALSE)) | V14: =IF(T14="","",VLOOKUP(T14,'11. Lists'!$B$47:$D$49,2,FALSE)) | W14: =IF(C14="","",VLOOKUP(D14,'10. Condition and Temporal'!$B$6:$C$103,2,FALSE)) | X14: =IF(W14="","",VLOOKUP(W14,'11. Lists'!$F$47:$G$51,2,FALSE)) | AB14: =IF(F14="","",F14) | AC14: =IF(AB14="","",VLOOKUP(AB14,'11. Lists'!$F$36:$H$38,2,FALSE)) | AD14: =IF(AB14="","",VLOOKUP(AB14,'11. Lists'!$F$36:$H$38,3,FALSE)) | AE14: =IF(D14="","",((J14/10000)*V14*X14)*AD14) | AF14: =IF(D14="","",((K14/10000)*V14*X14)*AD14) | AG14: =IF(D14="","",M14) | AH14: =IF(T14="","",VLOOKUP(T14,'11. Lists'!$B$47:$D$49,3,FALSE)) | AI14: =IF(D14="","",VLOOKUP(D14,'10. Condition and Temporal'!$B$6:$L$103,4,FALSE))
L15: =IF(C15="","",IFERROR(IF(I15="","",((I15/10000)*V15*X15)*AD15),"Error ▲")) | M15: =IF(I15="","",IF(J15+K15>I15,"Area Error ▲",I15-J15-K15)) | N15: =IFERROR(IF(I15="","",IF(M15="Area Error ▲","Area Error ▲",((M15/10000)*V15*X15)*AD15)),"This intervention is not permitted within the SSM ▲") | T15: =IF(C15="","",VLOOKUP(D15,'9. All Habitats + Multipliers'!$C$4:$K$102,5,FALSE)) | V15: =IF(T15="","",VLOOKUP(T15,'11. Lists'!$B$47:$D$49,2,FALSE)) | W15: =IF(C15="","",VLOOKUP(D15,'10. Condition and Temporal'!$B$6:$C$103,2,FALSE)) | X15: =IF(W15="","",VLOOKUP(W15,'11. Lists'!$F$47:$G$51,2,FALSE)) | AB15: =IF(F15="","",F15) | AC15: =IF(AB15="","",VLOOKUP(AB15,'11. Lists'!$F$36:$H$38,2,FALSE)) | AD15: =IF(AB15="","",VLOOKUP(AB15,'11. Lists'!$F$36:$H$38,3,FALSE)) | AE15: =IF(D15="","",((J15/10000)*V15*X15)*AD15) | AF15: =IF(D15="","",((K15/10000)*V15*X15)*AD15) | AG15: =IF(D15="","",M15) | AH15: =IF(T15="","",VLOOKUP(T15,'11. Lists'!$B$47:$D$49,3,FALSE)) | AI15: =IF(D15="","",VLOOKUP(D15,'10. Condition and Temporal'!$B$6:$L$103,4,FALSE))
L16: =IF(C16="","",IFERROR(IF(I16="","",((I16/10000)*V16*X16)*AD16),"Error ▲")) | M16: =IF(I16="","",IF(J16+K16>I16,"Area Error ▲",I16-J16-K16)) | N16: =IFERROR(IF(I16="","",IF(M16="Area Error ▲","Area Error ▲",((M16/10000)*V16*X16)*AD16)),"This intervention is not permitted within the SSM ▲") | T16: =IF(C16="","",VLOOKUP(D16,'9. All Habitats + Multipliers'!$C$4:$K$102,5,FALSE)) | V16: =IF(T16="","",VLOOKUP(T16,'11. Lists'!$B$47:$D$49,2,FALSE)) | W16: =IF(C16="","",VLOOKUP(D16,'10. Condition and Temporal'!$B$6:$C$103,2,FALSE)) | X16: =IF(W16="","",VLOOKUP(W16,'11. Lists'!$F$47:$G$51,2,FALSE)) | AB16: =IF(F16="","",F16) | AC16: =IF(AB16="","",VLOOKUP(AB16,'11. Lists'!$F$36:$H$38,2,FALSE)) | AD16: =IF(AB16="","",VLOOKUP(AB16,'11. Lists'!$F$36:$H$38,3,FALSE)) | AE16: =IF(D16="","",((J16/10000)*V16*X16)*AD16) | AF16: =IF(D16="","",((K16/10000)*V16*X16)*AD16) | AG16: =IF(D16="","",M16) | AH16: =IF(T16="","",VLOOKUP(T16,'11. Lists'!$B$47:$D$49,3,FALSE)) | AI16: =IF(D16="","",VLOOKUP(D16,'10. Condition and Temporal'!$B$6:$L$103,4,FALSE))
L17: =IF(C17="","",IFERROR(IF(I17="","",((I17/10000)*V17*X17)*AD17),"Error ▲")) | M17: =IF(I17="","",IF(J17+K17>I17,"Area Error ▲",I17-J17-K17)) | N17: =IFERROR(IF(I17="","",IF(M17="Area Error ▲","Area Error ▲",((M17/10000)*V17*X17)*AD17)),"This intervention is not permitted within the SSM ▲") | T17: =IF(C17="","",VLOOKUP(D17,'9. All Habitats + Multipliers'!$C$4:$K$102,5,FALSE)) | V17: =IF(T17="","",VLOOKUP(T17,'11. Lists'!$B$47:$D$49,2,FALSE)) | W17: =IF(C17="","",VLOOKUP(D17,'10. Condition and Temporal'!$B$6:$C$103,2,FALSE)) | X17: =IF(W17="","",VLOOKUP(W17,'11. Lists'!$F$47:$G$51,2,FALSE)) | AB17: =IF(F17="","",F17) | AC17: =IF(AB17="","",VLOOKUP(AB17,'11. Lists'!$F$36:$H$38,2,FALSE)) | AD17: =IF(AB17="","",VLOOKUP(AB17,'11. Lists'!$F$36:$H$38,3,FALSE)) | AE17: =IF(D17="","",((J17/10000)*V17*X17)*AD17) | AF17: =IF(D17="","",((K17/10000)*V17*X17)*AD17) | AG17: =IF(D17="","",M17) | AH17: =IF(T17="","",VLOOKUP(T17,'11. Lists'!$B$47:$D$49,3,FALSE)) | AI17: =IF(D17="","",VLOOKUP(D17,'10. Condition and Temporal'!$B$6:$L$103,4,FALSE))
L18: =IF(C18="","",IFERROR(IF(I18="","",((I18/10000)*V18*X18)*AD18),"Error ▲")) | M18: =IF(I18="","",IF(J18+K18>I18,"Area Error ▲",I18-J18-K18)) | N18: =IFERROR(IF(I18="","",IF(M18="Area Error ▲","Area Error ▲",((M18/10000)*V18*X18)*AD18)),"This intervention is not permitted within the SSM ▲") | T18: =IF(C18="","",VLOOKUP(D18,'9. All Habitats + Multipliers'!$C$4:$K$102,5,FALSE)) | V18: =IF(T18="","",VLOOKUP(T18,'11. Lists'!$B$47:$D$49,2,FALSE)) | W18: =IF(C18="","",VLOOKUP(D18,'10. Condition and Temporal'!$B$6:$C$103,2,FALSE)) | X18: =IF(W18="","",VLOOKUP(W18,'11. Lists'!$F$47:$G$51,2,FALSE)) | AB18: =IF(F18="","",F18) | AC18: =IF(AB18="","",VLOOKUP(AB18,'11. Lists'!$F$36:$H$38,2,FALSE)) | AD18: =IF(AB18="","",VLOOKUP(AB18,'11. Lists'!$F$36:$H$38,3,FALSE)) | AE18: =IF(D18="","",((J18/10000)*V18*X18)*AD18) | AF18: =IF(D18="","",((K18/10000)*V18*X18)*AD18) | AG18: =IF(D18="","",M18) | AH18: =IF(T18="","",VLOOKUP(T18,'11. Lists'!$B$47:$D$49,3,FALSE)) | AI18: =IF(D18="","",VLOOKUP(D18,'10. Condition and Temporal'!$B$6:$L$103,4,FALSE))
L19: =IF(C19="","",IFERROR(IF(I19="","",((I19/10000)*V19*X19)*AD19),"Error ▲")) | M19: =IF(I19="","",IF(J19+K19>I19,"Area Error ▲",I19-J19-K19)) | N19: =IFERROR(IF(I19="","",IF(M19="Area Error ▲","Area Error ▲",((M19/10000)*V19*X19)*AD19)),"This intervention is not permitted within the SSM ▲") | T19: =IF(C19="","",VLOOKUP(D19,'9. All Habitats + Multipliers'!$C$4:$K$102,5,FALSE)) | V19: =IF(T19="","",VLOOKUP(T19,'11. Lists'!$B$47:$D$49,2,FALSE)) | W19: =IF(C19="","",VLOOKUP(D19,'10. Condition and Temporal'!$B$6:$C$103,2,FALSE)) | X19: =IF(W19="","",VLOOKUP(W19,'11. Lists'!$F$47:$G$51,2,FALSE)) | AB19: =IF(F19="","",F19) | AC19: =IF(AB19="","",VLOOKUP(AB19,'11. Lists'!$F$36:$H$38,2,FALSE)) | AD19: =IF(AB19="","",VLOOKUP(AB19,'11. Lists'!$F$36:$H$38,3,FALSE)) | AE19: =IF(D19="","",((J19/10000)*V19*X19)*AD19) | AF19: =IF(D19="","",((K19/10000)*V19*X19)*AD19) | AG19: =IF(D19="","",M19) | AH19: =IF(T19="","",VLOOKUP(T19,'11. Lists'!$B$47:$D$49,3,FALSE)) | AI19: =IF(D19="","",VLOOKUP(D19,'10. Condition and Temporal'!$B$6:$L$103,4,FALSE))
L20: =IF(C20="","",IFERROR(IF(I20="","",((I20/10000)*V20*X20)*AD20),"Error ▲")) | M20: =IF(I20="","",IF(J20+K20>I20,"Area Error ▲",I20-J20-K20)) | N20: =IFERROR(IF(I20="","",IF(M20="Area Error ▲","Area Error ▲",((M20/10000)*V20*X20)*AD20)),"This intervention is not permitted within the SSM ▲") | T20: =IF(C20="","",VLOOKUP(D20,'9. All Habitats + Multipliers'!$C$4:$K$102,5,FALSE)) | V20: =IF(T20="","",VLOOKUP(T20,'11. Lists'!$B$47:$D$49,2,FALSE)) | W20: =IF(C20="","",VLOOKUP(D20,'10. Condition and Temporal'!$B$6:$C$103,2,FALSE)) | X20: =IF(W20="","",VLOOKUP(W20,'11. Lists'!$F$47:$G$51,2,FALSE)) | AB20: =IF(F20="","",F20) | AC20: =IF(AB20="","",VLOOKUP(AB20,'11. Lists'!$F$36:$H$38,2,FALSE)) | AD20: =IF(AB20="","",VLOOKUP(AB20,'11. Lists'!$F$36:$H$38,3,FALSE)) | AE20: =IF(D20="","",((J20/10000)*V20*X20)*AD20) | AF20: =IF(D20="","",((K20/10000)*V20*X20)*AD20) | AG20: =IF(D20="","",M20) | AH20: =IF(T20="","",VLOOKUP(T20,'11. Lists'!$B$47:$D$49,3,FALSE)) | AI20: =IF(D20="","",VLOOKUP(D20,'10. Condition and Temporal'!$B$6:$L$103,4,FALSE))
L21: =IF(C21="","",IFERROR(IF(I21="","",((I21/10000)*V21*X21)*AD21),"Error ▲")) | M21: =IF(I21="","",IF(J21+K21>I21,"Area Error ▲",I21-J21-K21)) | N21: =IFERROR(IF(I21="","",IF(M21="Area Error ▲","Area Error ▲",((M21/10000)*V21*X21)*AD21)),"This intervention is not permitted within the SSM ▲") | T21: =IF(C21="","",VLOOKUP(D21,'9. All Habitats + Multipliers'!$C$4:$K$102,5,FALSE)) | V21: =IF(T21="","",VLOOKUP(T21,'11. Lists'!$B$47:$D$49,2,FALSE)) | W21: =IF(C21="","",VLOOKUP(D21,'10. Condition and Temporal'!$B$6:$C$103,2,FALSE)) | X21: =IF(W21="","",VLOOKUP(W21,'11. Lists'!$F$47:$G$51,2,FALSE)) | AB21: =IF(F21="","",F21) | AC21: =IF(AB21="","",VLOOKUP(AB21,'11. Lists'!$F$36:$H$38,2,FALSE)) | AD21: =IF(AB21="","",VLOOKUP(AB21,'11. Lists'!$F$36:$H$38,3,FALSE)) | AE21: =IF(D21="","",((J21/10000)*V21*X21)*AD21) | AF21: =IF(D21="","",((K21/10000)*V21*X21)*AD21) | AG21: =IF(D21="","",M21) | AH21: =IF(T21="","",VLOOKUP(T21,'11. Lists'!$B$47:$D$49,3,FALSE)) | AI21: =IF(D21="","",VLOOKUP(D21,'10. Condition and Temporal'!$B$6:$L$103,4,FALSE))
L22: =IF(C22="","",IFERROR(IF(I22="","",((I22/10000)*V22*X22)*AD22),"Error ▲")) | M22: =IF(I22="","",IF(J22+K22>I22,"Area Error ▲",I22-J22-K22)) | N22: =IFERROR(IF(I22="","",IF(M22="Area Error ▲","Area Error ▲",((M22/10000)*V22*X22)*AD22)),"This intervention is not permitted within the SSM ▲") | T22: =IF(C22="","",VLOOKUP(D22,'9. All Habitats + Multipliers'!$C$4:$K$102,5,FALSE)) | V22: =IF(T22="","",VLOOKUP(T22,'11. Lists'!$B$47:$D$49,2,FALSE)) | W22: =IF(C22="","",VLOOKUP(D22,'10. Condition and Temporal'!$B$6:$C$103,2,FALSE)) | X22: =IF(W22="","",VLOOKUP(W22,'11. Lists'!$F$47:$G$51,2,FALSE)) | AB22: =IF(F22="","",F22) | AC22: =IF(AB22="","",VLOOKUP(AB22,'11. Lists'!$F$36:$H$38,2,FALSE)) | AD22: =IF(AB22="","",VLOOKUP(AB22,'11. Lists'!$F$36:$H$38,3,FALSE)) | AE22: =IF(D22="","",((J22/10000)*V22*X22)*AD22) | AF22: =IF(D22="","",((K22/10000)*V22*X22)*AD22) | AG22: =IF(D22="","",M22) | AH22: =IF(T22="","",VLOOKUP(T22,'11. Lists'!$B$47:$D$49,3,FALSE)) | AI22: =IF(D22="","",VLOOKUP(D22,'10. Condition and Temporal'!$B$6:$L$103,4,FALSE))
L23: =IF(C23="","",IFERROR(IF(I23="","",((I23/10000)*V23*X23)*AD23),"Error ▲")) | M23: =IF(I23="","",IF(J23+K23>I23,"Area Error ▲",I23-J23-K23)) | N23: =IFERROR(IF(I23="","",IF(M23="Area Error ▲","Area Error ▲",((M23/10000)*V23*X23)*AD23)),"This intervention is not permitted within the SSM ▲") | T23: =IF(C23="","",VLOOKUP(D23,'9. All Habitats + Multipliers'!$C$4:$K$102,5,FALSE)) | V23: =IF(T23="","",VLOOKUP(T23,'11. Lists'!$B$47:$D$49,2,FALSE)) | W23: =IF(C23="","",VLOOKUP(D23,'10. Condition and Temporal'!$B$6:$C$103,2,FALSE)) | X23: =IF(W23="","",VLOOKUP(W23,'11. Lists'!$F$47:$G$51,2,FALSE)) | AB23: =IF(F23="","",F23) | AC23: =IF(AB23="","",VLOOKUP(AB23,'11. Lists'!$F$36:$H$38,2,FALSE)) | AD23: =IF(AB23="","",VLOOKUP(AB23,'11. Lists'!$F$36:$H$38,3,FALSE)) | AE23: =IF(D23="","",((J23/10000)*V23*X23)*AD23) | AF23: =IF(D23="","",((K23/10000)*V23*X23)*AD23) | AG23: =IF(D23="","",M23) | AH23: =IF(T23="","",VLOOKUP(T23,'11. Lists'!$B$47:$D$49,3,FALSE)) | AI23: =IF(D23="","",VLOOKUP(D23,'10. Condition and Temporal'!$B$6:$L$103,4,FALSE))
... L30: =IF(C30="","",IFERROR(IF(I30="","",((I30/10000)*V30*X30)*AD30),"Error ▲")) | M30: =IF(I30="","",IF(J30+K30>I30,"Area Error ▲",I30-J30-K30)) | N30: =IFERROR(IF(I30="","",IF(M30="Area Error ▲","Area Error ▲",((M30/10000)*V30*X30)*AD30)),"This intervention is not permitted within the SSM ▲") | T30: =IF(C30="","",VLOOKUP(D30,'9. All Habitats + Multipliers'!$C$4:$K$102,5,FALSE)) | V30: =IF(T30="","",VLOOKUP(T30,'11. Lists'!$B$47:$D$49,2,FALSE)) | W30: =IF(C30="","",VLOOKUP(D30,'10. Condition and Temporal'!$B$6:$C$103,2,FALSE)) | X30: =IF(W30="","",VLOOKUP(W30,'11. Lists'!$F$47:$G$51,2,FALSE)) | AB30: =IF(F30="","",F30) | AC30: =IF(AB30="","",VLOOKUP(AB30,'11. Lists'!$F$36:$H$38,2,FALSE)) | AD30: =IF(AB30="","",VLOOKUP(AB30,'11. Lists'!$F$36:$H$38,3,FALSE)) | AE30: =IF(D30="","",((J30/10000)*V30*X30)*AD30) | AF30: =IF(D30="","",((K30/10000)*V30*X30)*AD30) | AG30: =IF(D30="","",M30) | AH30: =IF(T30="","",VLOOKUP(T30,'11. Lists'!$B$47:$D$49,3,FALSE)) | AI30: =IF(D30="","",VLOOKUP(D30,'10. Condition and Temporal'!$B$6:$L$103,4,FALSE))
B31: Trees | C31: Individual trees | D31: Urban/rural tree | F31: Formally identified in local strategy | I31: =I99 -> 0 | J31: =L99 -> 0 | L31: =IF(C31="","",((I31/10000)*V31*X31)*AD31) -> 0 | M31: =IF(C31="","",I31-J31-K31) -> 0 | N31: =IF(C31="","",((M31/10000)*V31*X31)*AD31) -> 0 | T31: =IF(C31="","",VLOOKUP(D31,'9. All Habitats + Multipliers'!$C$4:$K$102,5,FALSE)) -> Medium | V31: =IF(T31="","",VLOOKUP(T31,'11. Lists'!$B$47:$D$49,2,FALSE)) -> 4 | W31: =IF(C31="","",VLOOKUP(D31,'10. Condition and Temporal'!$B$6:$C$103,2,FALSE)) -> Moderate | X31: =IF(W31="","",VLOOKUP(W31,'11. Lists'!$F$47:$G$51,2,FALSE)) -> 2 | AB31: =IF(F31="","",F31) -> Formally identified in local strategy | AC31: =IF(AB31="","",VLOOKUP(AB31,'11. Lists'!$F$36:$H$38,2,FALSE)) -> High strategic significance | AD31: =IF(AB31="","",VLOOKUP(AB31,'11. Lists'!$F$36:$H$38,3,FALSE)) -> 1.15 | AE31: =IF(D31="","",((J31/10000)*V31*X31)*(AD31)) -> 0 | AF31: =IF(D31="","",((K31/10000)*V31*X31)*(AD31)) -> 0 | AG31: =IF(D31="","",M31) -> 0 | AH31: =IF(T31="","",VLOOKUP(T31,'11. Lists'!$B$47:$D$49,3,FALSE)) -> Same broad habitat or a higher distinctiveness habitat required | AI31: =IF(D31="","",VLOOKUP(D31,'10. Condition and Temporal'!$B$6:$L$103,4,FALSE)) -> Urban/rural tree
H32: Totals (areas excl trees, green walls and intertidal hard structures) | I32: =SUMIFS(I11:I30,D11:D30,"<>"&'11. Lists'!Q10,D11:D30,"<>"&'11. Lists'!Q11,D11:D30,"<>"&'11. Lists'!I4,D11:D30,"<>"&'11. Lists'!I2,D11:D30,"<>"&'11. Lists'!I3) -> 6366.13 | J32: =SUMIFS(J11:J30,D11:D30,"<>"&'11. Lists'!Q10,D11:D30,"<>"&'11. Lists'!Q11,D11:D30,"<>"&'11. Lists'!I4,D11:D30,"<>"&'11. Lists'!I2,D11:D30,"<>"&'11. Lists'!I3) -> 0 | K32: =SUMIFS(K11:K30,D11:D30,"<>"&'11. Lists'!Q10,D11:D30,"<>"&'11. Lists'!Q11,D11:D30,"<>"&'11. Lists'!I4,D11:D30,"<>"&'11. Lists'!I2,D11:D30,"<>"&'11. Lists'!I3) -> 6000 | L32: =SUM(L11:L31) -> 2.546452 | M32: =SUMIFS(M11:M30,D11:D30,"<>"&'11. Lists'!Q10,D11:D30,"<>"&'11. Lists'!Q11,D11:D30,"<>"&'11. Lists'!I4,D11:D30,"<>"&'11. Lists'!I2,D11:D30,"<>"&'11. Lists'!I3) -> 366.13 | N32: =SUM(N11:N31) -> 0.146452
H33: Error Check 1 | I33: =IF(I32=0, "Areas Acceptable ✓", IF(AND('3. Desktop Assessment'!C6="Residential", I32<10000, '3. Desktop Assessment'!C9="Between 1 - 9 dwellings"),"Areas Acceptable ✓", IF(AND('3. Desktop Assessment'!C6="Residential", I32<5000, '3. Desktop Assessment'!C9="Unknown number"), "Areas Acceptable ✓", IF(AND('3. Desktop Assessment'!C6="Commercial", I32<10000, '3. Desktop Assessment'!C8<1000),"Areas Acceptable ✓", IF(AND('3. Desktop Assessment'!C6="Mixed", I32<10000, '3. Desktop Assessment'!C9="Between 1 - 9 dwellings", '3. Desktop Assessment'!C8<1000),"Areas Acceptable ✓", IF(AND('3. Desktop Assessment'!C6="Mixed", I32<5000, '3. Desktop Assessment'!C9="Unknown number", '3. Desktop Assessment'!C8<1000), "Areas Acceptable ✓", IF(AND('3. Desktop Assessment'!C6="Other", I32<10000),"Areas Acceptable ✓", "Error - Site exceeds areas appropriate for the small sites metric ▲"))))))) -> Areas Acceptable ✓ | O33: =IFERROR(FIND("Error",I33),0) -> 0
H34: Error Check 2 | I34: =IF(I32<J32+K32,"Error - Areas Retained and Enhanced Exceed Total Area ▲","Areas Acceptable ✓") -> Areas Acceptable ✓ | O34: =IFERROR(FIND("Error",I34),0) -> 0
H35: Error Check 3 | I35: =IF(I32=0,"Areas Acceptable ✓",IF(I32<>'3. Desktop Assessment'!C7,"Error - Areas Entered Does Not Match Stated Site Area ▲","Areas Acceptable ✓")) -> Areas Acceptable ✓ | O35: =IFERROR(FIND("Error",I35),0) -> 0 | R35: Data beyond this column is automated
B36: 1b. Habitats to be created | O36: =COUNTIF(L11:N30,"*"&"error"&"*") -> 0
B38: Ref | E38: Condition Assessment | H38: D. Strategic significance | I38: E. Total Area (m2) | L38: Habitat units created onsite | O38: Comments | T38: Habitat distinctiveness | W38: Habitat condition | AB38: Strategic significance | AE38: Temporal multiplier | AG38: Difficulty multipliers
C39: A. Broad Habitat | D39: B. Habitat type | E39: Acceptable condition options | F39: C. Targeted condition | O39: User comments | P39: LPA comments | T39: Distinctiveness | V39: Score | W39: Condition | X39: Score | AB39: Strategic significance | AC39: Strategic significance | AD39: Strategic significance multiplier | AE39: Time to target condition/years | AF39: Time to target multiplier | AG39: Difficulty of creation category | AH39: Difficulty of creation multiplier
B40: 1 | C40: Urban | D40: Developed land; sealed surface | E40: =IF(D40="","",VLOOKUP(D40,'10. Condition and Temporal'!$B$6:$D$103,3,FALSE)) -> N/A - Other | F40: N/A - Other | H40: Area/compensation not in local strategy/ no local strategy | I40: 366.13 | L40: =IF(C40="","",IFERROR(IF(I40="","",((I40/10000)*(V40*X40))*(AH40*AF40)*AD40),"This intervention is not permitted within the SSM ▲")) -> 0 | O40: Single polytunnel footprint 9.1m x 132ft (approx. 366.13m²). | T40: =IF(C40="","",VLOOKUP(D40,'9. All Habitats + Multipliers'!$C$4:$K$102,5,FALSE)) -> V.Low | V40: =IF(T40="","",VLOOKUP(T40,'11. Lists'!$B$47:$D$49,2,FALSE)) -> 0 | W40: =IF(F40="","",F40) -> N/A - Other | X40: =IF(W40="","",VLOOKUP(W40,'11. Lists'!$F$47:$G$51,2,FALSE)) -> 0 | AB40: =IF(H40="","",H40) -> Area/compensation not in local strategy/ no local strategy | AC40: =IF(AB40="","",VLOOKUP(AB40,'11. Lists'!$F$36:$H$38,2,FALSE)) -> Low Strategic Significance | AD40: =IF(AB40="","",VLOOKUP(AB40,'11. Lists'!$F$36:$H$38,3,FALSE)) -> 1 | AE40: =IF(F40="","",IF(F40="Moderate",VLOOKUP(D40,'10. Condition and Temporal'!$B$6:$L$103,6,FALSE),IF(F40="Good",VLOOKUP(D40,'10. Condition and Temporal'!$B$6:$L$103,7,FALSE),IF(F40="Poor",VLOOKUP(D40,'10. Condition and Temporal'!$B$6:$L$103,8,FALSE),IF(F40="Condition Assessment N/A",VLOOKUP(D40,'10. Condition and Temporal'!$B$6:$L$103,9,FALSE),IF(F40="N/A - Other",VLOOKUP(D40,'10. Condition and Temporal'!$B$6:$L$103,10,FALSE))))))) -> 0 | AF40: =IF(AE40="","",VLOOKUP(AE40,'11. Lists'!$I$47:$K$80,3,FALSE)) -> 1 | AG40: =IF(D40="","",VLOOKUP(D40,'9. All Habitats + Multipliers'!$C$4:$K$102,7,FALSE)) -> Low | AH40: =IF(AG40="","",VLOOKUP(AG40,'11. Lists'!$J$35:$K$38,2,FALSE)) -> 1
L41: =IF(C41="","",IFERROR(IF(I41="","",((I41/10000)*(V41*X41))*(AH41*AF41)*AD41),"This intervention is not permitted within the SSM ▲")) | T41: =IF(C41="","",VLOOKUP(D41,'9. All Habitats + Multipliers'!$C$4:$K$102,5,FALSE)) | V41: =IF(T41="","",VLOOKUP(T41,'11. Lists'!$B$47:$D$49,2,FALSE)) | W41: =IF(F41="","",F41) | X41: =IF(W41="","",VLOOKUP(W41,'11. Lists'!$F$47:$G$51,2,FALSE)) | AB41: =IF(H41="","",H41) | AC41: =IF(AB41="","",VLOOKUP(AB41,'11. Lists'!$F$36:$H$38,2,FALSE)) | AD41: =IF(AB41="","",VLOOKUP(AB41,'11. Lists'!$F$36:$H$38,3,FALSE)) | AE41: =IF(F41="","",IF(F41="Moderate",VLOOKUP(D41,'10. Condition and Temporal'!$B$6:$L$103,6,FALSE),IF(F41="Good",VLOOKUP(D41,'10. Condition and Temporal'!$B$6:$L$103,7,FALSE),IF(F41="Poor",VLOOKUP(D41,'10. Condition and Temporal'!$B$6:$L$103,8,FALSE),IF(F41="Condition Assessment N/A",VLOOKUP(D41,'10. Condition and Temporal'!$B$6:$L$103,9,FALSE),IF(F41="N/A - Other",VLOOKUP(D41,'10. Condition and Temporal'!$B$6:$L$103,10,FALSE))))))) | AF41: =IF(AE41="","",VLOOKUP(AE41,'11. Lists'!$I$47:$K$80,3,FALSE)) | AG41: =IF(D41="","",VLOOKUP(D41,'9. All Habitats + Multipliers'!$C$4:$K$102,7,FALSE)) | AH41: =IF(AG41="","",VLOOKUP(AG41,'11. Lists'!$J$35:$K$38,2,FALSE))
L42: =IF(C42="","",IFERROR(IF(I42="","",((I42/10000)*(V42*X42))*(AH42*AF42)*AD42),"This intervention is not permitted within the SSM ▲")) | T42: =IF(C42="","",VLOOKUP(D42,'9. All Habitats + Multipliers'!$C$4:$K$102,5,FALSE)) | V42: =IF(T42="","",VLOOKUP(T42,'11. Lists'!$B$47:$D$49,2,FALSE)) | W42: =IF(F42="","",F42) | X42: =IF(W42="","",VLOOKUP(W42,'11. Lists'!$F$47:$G$51,2,FALSE)) | AB42: =IF(H42="","",H42) | AC42: =IF(AB42="","",VLOOKUP(AB42,'11. Lists'!$F$36:$H$38,2,FALSE)) | AD42: =IF(AB42="","",VLOOKUP(AB42,'11. Lists'!$F$36:$H$38,3,FALSE)) | AE42: =IF(F42="","",IF(F42="Moderate",VLOOKUP(D42,'10. Condition and Temporal'!$B$6:$L$103,6,FALSE),IF(F42="Good",VLOOKUP(D42,'10. Condition and Temporal'!$B$6:$L$103,7,FALSE),IF(F42="Poor",VLOOKUP(D42,'10. Condition and Temporal'!$B$6:$L$103,8,FALSE),IF(F42="Condition Assessment N/A",VLOOKUP(D42,'10. Condition and Temporal'!$B$6:$L$103,9,FALSE),IF(F42="N/A - Other",VLOOKUP(D42,'10. Condition and Temporal'!$B$6:$L$103,10,FALSE))))))) | AF42: =IF(AE42="","",VLOOKUP(AE42,'11. Lists'!$I$47:$K$80,3,FALSE)) | AG42: =IF(D42="","",VLOOKUP(D42,'9. All Habitats + Multipliers'!$C$4:$K$102,7,FALSE)) | AH42: =IF(AG42="","",VLOOKUP(AG42,'11. Lists'!$J$35:$K$38,2,FALSE))
L43: =IF(C43="","",IFERROR(IF(I43="","",((I43/10000)*(V43*X43))*(AH43*AF43)*AD43),"This intervention is not permitted within the SSM ▲")) | T43: =IF(C43="","",VLOOKUP(D43,'9. All Habitats + Multipliers'!$C$4:$K$102,5,FALSE)) | V43: =IF(T43="","",VLOOKUP(T43,'11. Lists'!$B$47:$D$49,2,FALSE)) | W43: =IF(F43="","",F43) | X43: =IF(W43="","",VLOOKUP(W43,'11. Lists'!$F$47:$G$51,2,FALSE)) | AB43: =IF(H43="","",H43) | AC43: =IF(AB43="","",VLOOKUP(AB43,'11. Lists'!$F$36:$H$38,2,FALSE)) | AD43: =IF(AB43="","",VLOOKUP(AB43,'11. Lists'!$F$36:$H$38,3,FALSE)) | AE43: =IF(F43="","",IF(F43="Moderate",VLOOKUP(D43,'10. Condition and Temporal'!$B$6:$L$103,6,FALSE),IF(F43="Good",VLOOKUP(D43,'10. Condition and Temporal'!$B$6:$L$103,7,FALSE),IF(F43="Poor",VLOOKUP(D43,'10. Condition and Temporal'!$B$6:$L$103,8,FALSE),IF(F43="Condition Assessment N/A",VLOOKUP(D43,'10. Condition and Temporal'!$B$6:$L$103,9,FALSE),IF(F43="N/A - Other",VLOOKUP(D43,'10. Condition and Temporal'!$B$6:$L$103,10,FALSE))))))) | AF43: =IF(AE43="","",VLOOKUP(AE43,'11. Lists'!$I$47:$K$80,3,FALSE)) | AG43: =IF(D43="","",VLOOKUP(D43,'9. All Habitats + Multipliers'!$C$4:$K$102,7,FALSE)) | AH43: =IF(AG43="","",VLOOKUP(AG43,'11. Lists'!$J$35:$K$38,2,FALSE))
L44: =IF(C44="","",IFERROR(IF(I44="","",((I44/10000)*(V44*X44))*(AH44*AF44)*AD44),"This intervention is not permitted within the SSM ▲")) | T44: =IF(C44="","",VLOOKUP(D44,'9. All Habitats + Multipliers'!$C$4:$K$102,5,FALSE)) | V44: =IF(T44="","",VLOOKUP(T44,'11. Lists'!$B$47:$D$49,2,FALSE)) | W44: =IF(F44="","",F44) | X44: =IF(W44="","",VLOOKUP(W44,'11. Lists'!$F$47:$G$51,2,FALSE)) | AB44: =IF(H44="","",H44) | AC44: =IF(AB44="","",VLOOKUP(AB44,'11. Lists'!$F$36:$H$38,2,FALSE)) | AD44: =IF(AB44="","",VLOOKUP(AB44,'11. Lists'!$F$36:$H$38,3,FALSE)) | AE44: =IF(F44="","",IF(F44="Moderate",VLOOKUP(D44,'10. Condition and Temporal'!$B$6:$L$103,6,FALSE),IF(F44="Good",VLOOKUP(D44,'10. Condition and Temporal'!$B$6:$L$103,7,FALSE),IF(F44="Poor",VLOOKUP(D44,'10. Condition and Temporal'!$B$6:$L$103,8,FALSE),IF(F44="Condition Assessment N/A",VLOOKUP(D44,'10. Condition and Temporal'!$B$6:$L$103,9,FALSE),IF(F44="N/A - Other",VLOOKUP(D44,'10. Condition and Temporal'!$B$6:$L$103,10,FALSE))))))) | AF44: =IF(AE44="","",VLOOKUP(AE44,'11. Lists'!$I$47:$K$80,3,FALSE)) | AG44: =IF(D44="","",VLOOKUP(D44,'9. All Habitats + Multipliers'!$C$4:$K$102,7,FALSE)) | AH44: =IF(AG44="","",VLOOKUP(AG44,'11. Lists'!$J$35:$K$38,2,FALSE))
L45: =IF(C45="","",IFERROR(IF(I45="","",((I45/10000)*(V45*X45))*(AH45*AF45)*AD45),"This intervention is not permitted within the SSM ▲")) | T45: =IF(C45="","",VLOOKUP(D45,'9. All Habitats + Multipliers'!$C$4:$K$102,5,FALSE)) | V45: =IF(T45="","",VLOOKUP(T45,'11. Lists'!$B$47:$D$49,2,FALSE)) | W45: =IF(F45="","",F45) | X45: =IF(W45="","",VLOOKUP(W45,'11. Lists'!$F$47:$G$51,2,FALSE)) | AB45: =IF(H45="","",H45) | AC45: =IF(AB45="","",VLOOKUP(AB45,'11. Lists'!$F$36:$H$38,2,FALSE)) | AD45: =IF(AB45="","",VLOOKUP(AB45,'11. Lists'!$F$36:$H$38,3,FALSE)) | AE45: =IF(F45="","",IF(F45="Moderate",VLOOKUP(D45,'10. Condition and Temporal'!$B$6:$L$103,6,FALSE),IF(F45="Good",VLOOKUP(D45,'10. Condition and Temporal'!$B$6:$L$103,7,FALSE),IF(F45="Poor",VLOOKUP(D45,'10. Condition and Temporal'!$B$6:$L$103,8,FALSE),IF(F45="Condition Assessment N/A",VLOOKUP(D45,'10. Condition and Temporal'!$B$6:$L$103,9,FALSE),IF(F45="N/A - Other",VLOOKUP(D45,'10. Condition and Temporal'!$B$6:$L$103,10,FALSE))))))) | AF45: =IF(AE45="","",VLOOKUP(AE45,'11. Lists'!$I$47:$K$80,3,FALSE)) | AG45: =IF(D45="","",VLOOKUP(D45,'9. All Habitats + Multipliers'!$C$4:$K$102,7,FALSE)) | AH45: =IF(AG45="","",VLOOKUP(AG45,'11. Lists'!$J$35:$K$38,2,FALSE))
L46: =IF(C46="","",IFERROR(IF(I46="","",((I46/10000)*(V46*X46))*(AH46*AF46)*AD46),"This intervention is not permitted within the SSM ▲")) | T46: =IF(C46="","",VLOOKUP(D46,'9. All Habitats + Multipliers'!$C$4:$K$102,5,FALSE)) | V46: =IF(T46="","",VLOOKUP(T46,'11. Lists'!$B$47:$D$49,2,FALSE)) | W46: =IF(F46="","",F46) | X46: =IF(W46="","",VLOOKUP(W46,'11. Lists'!$F$47:$G$51,2,FALSE)) | AB46: =IF(H46="","",H46) | AC46: =IF(AB46="","",VLOOKUP(AB46,'11. Lists'!$F$36:$H$38,2,FALSE)) | AD46: =IF(AB46="","",VLOOKUP(AB46,'11. Lists'!$F$36:$H$38,3,FALSE)) | AE46: =IF(F46="","",IF(F46="Moderate",VLOOKUP(D46,'10. Condition and Temporal'!$B$6:$L$103,6,FALSE),IF(F46="Good",VLOOKUP(D46,'10. Condition and Temporal'!$B$6:$L$103,7,FALSE),IF(F46="Poor",VLOOKUP(D46,'10. Condition and Temporal'!$B$6:$L$103,8,FALSE),IF(F46="Condition Assessment N/A",VLOOKUP(D46,'10. Condition and Temporal'!$B$6:$L$103,9,FALSE),IF(F46="N/A - Other",VLOOKUP(D46,'10. Condition and Temporal'!$B$6:$L$103,10,FALSE))))))) | AF46: =IF(AE46="","",VLOOKUP(AE46,'11. Lists'!$I$47:$K$80,3,FALSE)) | AG46: =IF(D46="","",VLOOKUP(D46,'9. All Habitats + Multipliers'!$C$4:$K$102,7,FALSE)) | AH46: =IF(AG46="","",VLOOKUP(AG46,'11. Lists'!$J$35:$K$38,2,FALSE))
L47: =IF(C47="","",IFERROR(IF(I47="","",((I47/10000)*(V47*X47))*(AH47*AF47)*AD47),"This intervention is not permitted within the SSM ▲")) | T47: =IF(C47="","",VLOOKUP(D47,'9. All Habitats + Multipliers'!$C$4:$K$102,5,FALSE)) | V47: =IF(T47="","",VLOOKUP(T47,'11. Lists'!$B$47:$D$49,2,FALSE)) | W47: =IF(F47="","",F47) | X47: =IF(W47="","",VLOOKUP(W47,'11. Lists'!$F$47:$G$51,2,FALSE)) | AB47: =IF(H47="","",H47) | AC47: =IF(AB47="","",VLOOKUP(AB47,'11. Lists'!$F$36:$H$38,2,FALSE)) | AD47: =IF(AB47="","",VLOOKUP(AB47,'11. Lists'!$F$36:$H$38,3,FALSE)) | AE47: =IF(F47="","",IF(F47="Moderate",VLOOKUP(D47,'10. Condition and Temporal'!$B$6:$L$103,6,FALSE),IF(F47="Good",VLOOKUP(D47,'10. Condition and Temporal'!$B$6:$L$103,7,FALSE),IF(F47="Poor",VLOOKUP(D47,'10. Condition and Temporal'!$B$6:$L$103,8,FALSE),IF(F47="Condition Assessment N/A",VLOOKUP(D47,'10. Condition and Temporal'!$B$6:$L$103,9,FALSE),IF(F47="N/A - Other",VLOOKUP(D47,'10. Condition and Temporal'!$B$6:$L$103,10,FALSE))))))) | AF47: =IF(AE47="","",VLOOKUP(AE47,'11. Lists'!$I$47:$K$80,3,FALSE)) | AG47: =IF(D47="","",VLOOKUP(D47,'9. All Habitats + Multipliers'!$C$4:$K$102,7,FALSE)) | AH47: =IF(AG47="","",VLOOKUP(AG47,'11. Lists'!$J$35:$K$38,2,FALSE))
L48: =IF(C48="","",IFERROR(IF(I48="","",((I48/10000)*(V48*X48))*(AH48*AF48)*AD48),"This intervention is not permitted within the SSM ▲")) | T48: =IF(C48="","",VLOOKUP(D48,'9. All Habitats + Multipliers'!$C$4:$K$102,5,FALSE)) | V48: =IF(T48="","",VLOOKUP(T48,'11. Lists'!$B$47:$D$49,2,FALSE)) | W48: =IF(F48="","",F48) | X48: =IF(W48="","",VLOOKUP(W48,'11. Lists'!$F$47:$G$51,2,FALSE)) | AB48: =IF(H48="","",H48) | AC48: =IF(AB48="","",VLOOKUP(AB48,'11. Lists'!$F$36:$H$38,2,FALSE)) | AD48: =IF(AB48="","",VLOOKUP(AB48,'11. Lists'!$F$36:$H$38,3,FALSE)) | AE48: =IF(F48="","",IF(F48="Moderate",VLOOKUP(D48,'10. Condition and Temporal'!$B$6:$L$103,6,FALSE),IF(F48="Good",VLOOKUP(D48,'10. Condition and Temporal'!$B$6:$L$103,7,FALSE),IF(F48="Poor",VLOOKUP(D48,'10. Condition and Temporal'!$B$6:$L$103,8,FALSE),IF(F48="Condition Assessment N/A",VLOOKUP(D48,'10. Condition and Temporal'!$B$6:$L$103,9,FALSE),IF(F48="N/A - Other",VLOOKUP(D48,'10. Condition and Temporal'!$B$6:$L$103,10,FALSE))))))) | AF48: =IF(AE48="","",VLOOKUP(AE48,'11. Lists'!$I$47:$K$80,3,FALSE)) | AG48: =IF(D48="","",VLOOKUP(D48,'9. All Habitats + Multipliers'!$C$4:$K$102,7,FALSE)) | AH48: =IF(AG48="","",VLOOKUP(AG48,'11. Lists'!$J$35:$K$38,2,FALSE))
L49: =IF(C49="","",IFERROR(IF(I49="","",((I49/10000)*(V49*X49))*(AH49*AF49)*AD49),"This intervention is not permitted within the SSM ▲")) | T49: =IF(C49="","",VLOOKUP(D49,'9. All Habitats + Multipliers'!$C$4:$K$102,5,FALSE)) | V49: =IF(T49="","",VLOOKUP(T49,'11. Lists'!$B$47:$D$49,2,FALSE)) | W49: =IF(F49="","",F49) | X49: =IF(W49="","",VLOOKUP(W49,'11. Lists'!$F$47:$G$51,2,FALSE)) | AB49: =IF(H49="","",H49) | AC49: =IF(AB49="","",VLOOKUP(AB49,'11. Lists'!$F$36:$H$38,2,FALSE)) | AD49: =IF(AB49="","",VLOOKUP(AB49,'11. Lists'!$F$36:$H$38,3,FALSE)) | AE49: =IF(F49="","",IF(F49="Moderate",VLOOKUP(D49,'10. Condition and Temporal'!$B$6:$L$103,6,FALSE),IF(F49="Good",VLOOKUP(D49,'10. Condition and Temporal'!$B$6:$L$103,7,FALSE),IF(F49="Poor",VLOOKUP(D49,'10. Condition and Temporal'!$B$6:$L$103,8,FALSE),IF(F49="Condition Assessment N/A",VLOOKUP(D49,'10. Condition and Temporal'!$B$6:$L$103,9,FALSE),IF(F49="N/A - Other",VLOOKUP(D49,'10. Condition and Temporal'!$B$6:$L$103,10,FALSE))))))) | AF49: =IF(AE49="","",VLOOKUP(AE49,'11. Lists'!$I$47:$K$80,3,FALSE)) | AG49: =IF(D49="","",VLOOKUP(D49,'9. All Habitats + Multipliers'!$C$4:$K$102,7,FALSE)) | AH49: =IF(AG49="","",VLOOKUP(AG49,'11. Lists'!$J$35:$K$38,2,FALSE))
L50: =IF(C50="","",IFERROR(IF(I50="","",((I50/10000)*(V50*X50))*(AH50*AF50)*AD50),"This intervention is not permitted within the SSM ▲")) | T50: =IF(C50="","",VLOOKUP(D50,'9. All Habitats + Multipliers'!$C$4:$K$102,5,FALSE)) | V50: =IF(T50="","",VLOOKUP(T50,'11. Lists'!$B$47:$D$49,2,FALSE)) | W50: =IF(F50="","",F50) | X50: =IF(W50="","",VLOOKUP(W50,'11. Lists'!$F$47:$G$51,2,FALSE)) | AB50: =IF(H50="","",H50) | AC50: =IF(AB50="","",VLOOKUP(AB50,'11. Lists'!$F$36:$H$38,2,FALSE)) | AD50: =IF(AB50="","",VLOOKUP(AB50,'11. Lists'!$F$36:$H$38,3,FALSE)) | AE50: =IF(F50="","",IF(F50="Moderate",VLOOKUP(D50,'10. Condition and Temporal'!$B$6:$L$103,6,FALSE),IF(F50="Good",VLOOKUP(D50,'10. Condition and Temporal'!$B$6:$L$103,7,FALSE),IF(F50="Poor",VLOOKUP(D50,'10. Condition and Temporal'!$B$6:$L$103,8,FALSE),IF(F50="Condition Assessment N/A",VLOOKUP(D50,'10. Condition and Temporal'!$B$6:$L$103,9,FALSE),IF(F50="N/A - Other",VLOOKUP(D50,'10. Condition and Temporal'!$B$6:$L$103,10,FALSE))))))) | AF50: =IF(AE50="","",VLOOKUP(AE50,'11. Lists'!$I$47:$K$80,3,FALSE)) | AG50: =IF(D50="","",VLOOKUP(D50,'9. All Habitats + Multipliers'!$C$4:$K$102,7,FALSE)) | AH50: =IF(AG50="","",VLOOKUP(AG50,'11. Lists'!$J$35:$K$38,2,FALSE))
L51: =IF(C51="","",IFERROR(IF(I51="","",((I51/10000)*(V51*X51))*(AH51*AF51)*AD51),"This intervention is not permitted within the SSM ▲")) | T51: =IF(C51="","",VLOOKUP(D51,'9. All Habitats + Multipliers'!$C$4:$K$102,5,FALSE)) | V51: =IF(T51="","",VLOOKUP(T51,'11. Lists'!$B$47:$D$49,2,FALSE)) | W51: =IF(F51="","",F51) | X51: =IF(W51="","",VLOOKUP(W51,'11. Lists'!$F$47:$G$51,2,FALSE)) | AB51: =IF(H51="","",H51) | AC51: =IF(AB51="","",VLOOKUP(AB51,'11. Lists'!$F$36:$H$38,2,FALSE)) | AD51: =IF(AB51="","",VLOOKUP(AB51,'11. Lists'!$F$36:$H$38,3,FALSE)) | AE51: =IF(F51="","",IF(F51="Moderate",VLOOKUP(D51,'10. Condition and Temporal'!$B$6:$L$103,6,FALSE),IF(F51="Good",VLOOKUP(D51,'10. Condition and Temporal'!$B$6:$L$103,7,FALSE),IF(F51="Poor",VLOOKUP(D51,'10. Condition and Temporal'!$B$6:$L$103,8,FALSE),IF(F51="Condition Assessment N/A",VLOOKUP(D51,'10. Condition and Temporal'!$B$6:$L$103,9,FALSE),IF(F51="N/A - Other",VLOOKUP(D51,'10. Condition and Temporal'!$B$6:$L$103,10,FALSE))))))) | AF51: =IF(AE51="","",VLOOKUP(AE51,'11. Lists'!$I$47:$K$80,3,FALSE)) | AG51: =IF(D51="","",VLOOKUP(D51,'9. All Habitats + Multipliers'!$C$4:$K$102,7,FALSE)) | AH51: =IF(AG51="","",VLOOKUP(AG51,'11. Lists'!$J$35:$K$38,2,FALSE))
L52: =IF(C52="","",IFERROR(IF(I52="","",((I52/10000)*(V52*X52))*(AH52*AF52)*AD52),"This intervention is not permitted within the SSM ▲")) | T52: =IF(C52="","",VLOOKUP(D52,'9. All Habitats + Multipliers'!$C$4:$K$102,5,FALSE)) | V52: =IF(T52="","",VLOOKUP(T52,'11. Lists'!$B$47:$D$49,2,FALSE)) | W52: =IF(F52="","",F52) | X52: =IF(W52="","",VLOOKUP(W52,'11. Lists'!$F$47:$G$51,2,FALSE)) | AB52: =IF(H52="","",H52) | AC52: =IF(AB52="","",VLOOKUP(AB52,'11. Lists'!$F$36:$H$38,2,FALSE)) | AD52: =IF(AB52="","",VLOOKUP(AB52,'11. Lists'!$F$36:$H$38,3,FALSE)) | AE52: =IF(F52="","",IF(F52="Moderate",VLOOKUP(D52,'10. Condition and Temporal'!$B$6:$L$103,6,FALSE),IF(F52="Good",VLOOKUP(D52,'10. Condition and Temporal'!$B$6:$L$103,7,FALSE),IF(F52="Poor",VLOOKUP(D52,'10. Condition and Temporal'!$B$6:$L$103,8,FALSE),IF(F52="Condition Assessment N/A",VLOOKUP(D52,'10. Condition and Temporal'!$B$6:$L$103,9,FALSE),IF(F52="N/A - Other",VLOOKUP(D52,'10. Condition and Temporal'!$B$6:$L$103,10,FALSE))))))) | AF52: =IF(AE52="","",VLOOKUP(AE52,'11. Lists'!$I$47:$K$80,3,FALSE)) | AG52: =IF(D52="","",VLOOKUP(D52,'9. All Habitats + Multipliers'!$C$4:$K$102,7,FALSE)) | AH52: =IF(AG52="","",VLOOKUP(AG52,'11. Lists'!$J$35:$K$38,2,FALSE))
... L59: =IF(C59="","",IFERROR(IF(I59="","",((I59/10000)*(V59*X59))*(AH59*AF59)*AD59),"This intervention is not permitted within the SSM ▲")) | T59: =IF(C59="","",VLOOKUP(D59,'9. All Habitats + Multipliers'!$C$4:$K$102,5,FALSE)) | V59: =IF(T59="","",VLOOKUP(T59,'11. Lists'!$B$47:$D$49,2,FALSE)) | W59: =IF(F59="","",F59) | X59: =IF(W59="","",VLOOKUP(W59,'11. Lists'!$F$47:$G$51,2,FALSE)) | AB59: =IF(H59="","",H59) | AC59: =IF(AB59="","",VLOOKUP(AB59,'11. Lists'!$F$36:$H$38,2,FALSE)) | AD59: =IF(AB59="","",VLOOKUP(AB59,'11. Lists'!$F$36:$H$38,3,FALSE)) | AE59: =IF(F59="","",IF(F59="Moderate",VLOOKUP(D59,'10. Condition and Temporal'!$B$6:$L$103,6,FALSE),IF(F59="Good",VLOOKUP(D59,'10. Condition and Temporal'!$B$6:$L$103,7,FALSE),IF(F59="Poor",VLOOKUP(D59,'10. Condition and Temporal'!$B$6:$L$103,8,FALSE),IF(F59="Condition Assessment N/A",VLOOKUP(D59,'10. Condition and Temporal'!$B$6:$L$103,9,FALSE),IF(F59="N/A - Other",VLOOKUP(D59,'10. Condition and Temporal'!$B$6:$L$103,10,FALSE))))))) | AF59: =IF(AE59="","",VLOOKUP(AE59,'11. Lists'!$I$47:$K$80,3,FALSE)) | AG59: =IF(D59="","",VLOOKUP(D59,'9. All Habitats + Multipliers'!$C$4:$K$102,7,FALSE)) | AH59: =IF(AG59="","",VLOOKUP(AG59,'11. Lists'!$J$35:$K$38,2,FALSE))
B60: Trees | C60: Individual trees | D60: Urban/rural tree | E60: Moderate | F60: Moderate | H60: Area/compensation not in local strategy/ no local strategy | I60: =O99 -> 0 | L60: =IF(D60="","",((I60/10000)*(V60*X60))*(AH60*AF60)*AD60) -> 0 | T60: =IF(C60="","",VLOOKUP(D60,'9. All Habitats + Multipliers'!$C$4:$K$102,5,FALSE)) -> Medium | V60: =IF(T60="","",VLOOKUP(T60,'11. Lists'!$B$47:$D$49,2,FALSE)) -> 4 | W60: =IF(F60="","",F60) -> Moderate | X60: =IF(W60="","",VLOOKUP(W60,'11. Lists'!$F$47:$G$51,2,FALSE)) -> 2 | AB60: =IF(H60="","",H60) -> Area/compensation not in local strategy/ no local strategy | AC60: =IF(AB60="","",VLOOKUP(AB60,'11. Lists'!$F$36:$H$38,2,FALSE)) -> Low Strategic Significance | AD60: =IF(AB60="","",VLOOKUP(AB60,'11. Lists'!$F$36:$H$38,3,FALSE)) -> 1 | AE60: =IF(F60="","",IF(F60="Moderate",VLOOKUP(D60,'10. Condition and Temporal'!$B$6:$L$103,6,FALSE),IF('5. Area Habitats'!F60="Good",VLOOKUP(D60,'10. Condition and Temporal'!$B$6:$L$103,7,FALSE),VLOOKUP(D60,'10. Condition and Temporal'!$B$6:$L$103,8,FALSE)))) -> 27 | AF60: =IF(AE60="","",VLOOKUP(AE60,'11. Lists'!$I$47:$K$80,3,FALSE)) -> 0.38215316 | AG60: =IF(D60="","",VLOOKUP(D60,'9. All Habitats + Multipliers'!$C$4:$K$102,7,FALSE)) -> Low | AH60: =IF(AG60="","",VLOOKUP(AG60,'11. Lists'!$J$35:$K$38,2,FALSE)) -> 1
H61: Totals (areas excl trees, green walls and intertidal hard structures) | I61: =SUMIFS(I40:I59,D40:D59,"<>"&'11. Lists'!Q10,D40:D59,"<>"&'11. Lists'!Q11,D40:D59,"<>"&'11. Lists'!I4,D40:D59,"<>"&'11. Lists'!I2,D40:D59,"<>"&'11. Lists'!I3) -> 366.13 | L61: =SUM(L40:N60) -> 0
H62: Error Check 4 | I62: =IF(AND(M32=0,I61=0),"Areas Acceptable ✓",IF(OR(I61-M32<=-0.001,(I61-M32>=0.001)),("Error - Area of habitat creation must match area lost ▲"),("Areas Acceptable ✓"))) -> Areas Acceptable ✓ | O62: =IFERROR(FIND("Error",I62),0) -> 0
I63: =SUM($I$40:$K$60) -> 366.13 | BA63: Divider
B64: 1c. Habitats to be enhanced | BA64: ,
R65: Data beyond this column is automated
B66: Baseline ref | C66: Existing Habitat Type | E66: Enhanced Habitat type | H66: B. Strategic significance | I66: Area Enhanced | J66: Enhanced Condition | L66: Total Units | M66: Net Improvement | O66: Comments | T66: Baseline Values | AE66: Distinctiveness change acceptable? | AF66: Enhanced multipliers | AQ66: Condition enhancement - Time to target condition/years | AR66: Enhanced multipliers | BA66: Number of options | BB66: =COUNTIF(BB68:BB87,"?*") -> 4 | BC66: =COUNTIF(BC68:BC87,"?*") -> 0 | BD66: =COUNTIF(BD68:BD87,"?*") -> 0 | BE66: =COUNTIF(BE68:BE87,"?*") -> 0 | BF66: =COUNTIF(BF68:BF87,"?*") -> 0 | BG66: =COUNTIF(BG68:BG87,"?*") -> 0 | BH66: =COUNTIF(BH68:BH87,"?*") -> 0 | BI66: =COUNTIF(BI68:BI87,"?*") -> 0 | ... BU66: =COUNTIF(BU68:BU87,"?*") -> 0
C67: Broad habitat type | D67: Existing habitat type | E67: Enhancement Type | F67: A. Enhanced habitat type | O67: User comments | P67: LPA comments | T67: Area enhanced | U67: Baseline distinctiveness band | V67: Baseline distinctiveness score | W67: Baseline condition category | X67: Baseline condition score | AB67: Baseline strategic significance category | AC67: Baseline strategic significance score | AD67: Baseline value of area enhanced | AF67: Area enhanced | AG67: Distinctiveness | AH67: Score | AI67: Condition | AJ67: Score | AN67: Strategic significance | AO67: Strategic significance | AP67: Strategic significance multiplier | AR67: Condition enhancement - Time to target multiplier | AS67: Distinctiveness enhancement - Time to target condition/years | AT67: Distinctiveness enhancement - Time to target multiplier | AU67: Difficulty of enhancement category | AV67: Difficulty of enhancement multiplier | AW67: Acceptable habitat types | AX67: Enhancement type | AY67: Enhancement broad habitat type | BA67: Option number | BB67: 1 | BC67: 2 | BD67: 3 | BE67: 4 | BF67: 5 | BG67: 6 | BH67: 7 | BI67: 8 | BJ67: 9 | BK67: 10 | BL67: 11 | BM67: 12 | BN67: 13 | BO67: 14 | BP67: 15 | BQ67: 16 | BR67: 17 | BS67: 18 | BT67: 19 | BU67: 20 | BV67: List range | BW67: Column ref | BX67: list length
B68: 1 | C68: =IF(D68="","",C11) -> Grassland | D68: =IF(OR(K11=0, K11=""),"",D11) -> Modified grassland | E68: =IF(AX68="","",AX68) -> Distinctiveness | F68: Other neutral grassland | H68: =IF(D68="","",AB68) -> Area/compensation not in local strategy/ no local strategy | I68: 6000 | J68: Moderate | L68: =IFERROR(IF(D68="","",IF(AX68="Distinctiveness",(((((I68*AH68*AJ68)-(I68*V68*X68))*(AV68*AT68))+(I68*V68*X68))*(AP68))/10000,((((I68*AJ68*AH68)-(I68*V68*X68))*(AV68*AR68))+(I68*V68*X68))*AP68/10000)),"Error ▲") -> 3.8064391 | M68: =IFERROR(IF(F68="","",L68-AD68), "Error ▲") -> 1.4064391 | N68: Species-rich wildflower enhancement area totalling 6000m² across the wider site, managed in moderate condition. | T68: =IF(D68="","",K11) -> 6000 | U68: =IF($D68="","",T11) -> Low | V68: =IF($D68="","",V11) -> 2 | W68: =IF($D68="","",W11) -> Moderate | X68: =IF($D68="","",X11) -> 2 | AB68: =IF($D68="","",AB11) -> Area/compensation not in local strategy/ no local strategy | AC68: =IF($D68="","",AD11) -> 1 | AD68: =IF(AC68="","",(T68*V68*X68)*AC68/10000) -> 2.4 | AE68: =IF(AD68="","",IF(AH68<V68,"Not Acceptable","Acceptable")) -> Acceptable | AF68: =IF(D68="","",I68) -> 6000 | AG68: =IF(D68="","",VLOOKUP(F68,'9. All Habitats + Multipliers'!$C$4:$K$102,5,FALSE)) -> Medium | AH68: =IF(AG68="","",VLOOKUP(AG68,'11. Lists'!$B$47:$D$49,2,FALSE)) -> 4 | AI68: =IF(D68="","",J68) -> Moderate | AJ68: =IF(AI68="","",VLOOKUP(AI68,'11. Lists'!$F$47:$G$51,2,FALSE)) -> 2 | AN68: =IF(H68="","",H68) -> Area/compensation not in local strategy/ no local strategy | AO68: =IF(AN68="","",VLOOKUP(AN68,'11. Lists'!$F$36:$H$38,2,FALSE)) -> Low Strategic Significance | AP68: =IF(AN68="","",VLOOKUP(AN68,'11. Lists'!$F$36:$H$38,3,FALSE)) -> 1 | AQ68: =IF(D68="","",IF(AX68="Distinctiveness","N/A",VLOOKUP(F68,'10. Condition and Temporal'!$B$6:$L$103,11,FALSE))) -> N/A | AR68: =IF(AQ68="","",IF(AQ68="N/A","1",VLOOKUP(AQ68,'11. Lists'!$I$47:$K$80,3,FALSE))) -> 1 | AS68: =IF(D68="","",IF(AX68="Condition","N/A",VLOOKUP(F68,'10. Condition and Temporal'!$B$6:$M$106,12,FALSE))) -> 15 | AT68: =IF(AS68="","",IF(AS68="N/A","1",VLOOKUP(AS68,'11. Lists'!$I$47:$K$80,3,FALSE))) -> 0.58601631 | AU68: =IF(D68="","",VLOOKUP(F68,'9. All Habitats + Multipliers'!$C$4:$K$102,8,FALSE)) -> Low | AV68: =IF(AU68="","",VLOOKUP(AU68,'11. Lists'!$J$35:$K$38,2,FALSE)) -> 1 | AW68: =IF(D68="","",VLOOKUP(D68,'10. Condition and Temporal'!$B$6:$M$103,4,FALSE)) -> Modified grassland, Other lowland acid grassland, Other neutral grassland, Upland acid grassland | AX68: =IF(F68="","",IF(D68=F68,"Condition","Distinctiveness")) -> Distinctiveness | AY68: =IF(COUNTIF(F68,"*grassland*"),"Grassland",IF(COUNTIF(F68,"*scree*"),"Sparsely vegetated land",C68)) -> Grassland | BA68: 1 | BB68: =TRIM(MID(SUBSTITUTE($AW$68,$BA$64,REPT(" ",LEN($AW$68))),($BA68-1)*LEN($AW$68)+1,LEN($AW$68))) -> Modified grassland | BC68: =TRIM(MID(SUBSTITUTE($AW$69,$BA$64,REPT(" ",LEN($AW$69))),($BA68-1)*LEN($AW$69)+1,LEN($AW$69))) | BD68: =TRIM(MID(SUBSTITUTE($AW$70,$BA$64,REPT(" ",LEN($AW$70))),($BA68-1)*LEN($AW$70)+1,LEN($AW$70))) | BE68: =TRIM(MID(SUBSTITUTE($AW$71,$BA$64,REPT(" ",LEN($AW$71))),($BA68-1)*LEN($AW$71)+1,LEN($AW$71))) | BF68: =TRIM(MID(SUBSTITUTE($AW$72,$BA$64,REPT(" ",LEN($AW$72))),($BA68-1)*LEN($AW$72)+1,LEN($AW$72))) | BG68: =TRIM(MID(SUBSTITUTE($AW$73,$BA$64,REPT(" ",LEN($AW$73))),($BA68-1)*LEN($AW$73)+1,LEN($AW$73))) | BH68: =TRIM(MID(SUBSTITUTE($AW$74,$BA$64,REPT(" ",LEN($AW$74))),($BA68-1)*LEN($AW$74)+1,LEN($AW$74))) | BI68: =TRIM(MID(SUBSTITUTE($AW$75,$BA$64,REPT(" ",LEN($AW$75))),($BA68-1)*LEN($AW$75)+1,LEN($AW$75))) | BJ68: =TRIM(MID(SUBSTITUTE($AW$76,$BA$64,REPT(" ",LEN($AW$76))),($BA68-1)*LEN($AW$76)+1,LEN($AW$76))) | BK68: =TRIM(MID(SUBSTITUTE($AW$77,$BA$64,REPT(" ",LEN($AW$77))),($BA68-1)*LEN($AW$77)+1,LEN($AW$77))) | BL68: =TRIM(MID(SUBSTITUTE($AW$78,$BA$64,REPT(" ",LEN($AW$78))),($BA68-1)*LEN($AW$78)+1,LEN($AW$78))) | BM68: =TRIM(MID(SUBSTITUTE($AW$79,$BA$64,REPT(" ",LEN($AW$79))),($BA68-1)*LEN($AW$79)+1,LEN($AW$79))) | BN68: =TRIM(MID(SUBSTITUTE($AW$80,$BA$64,REPT(" ",LEN($AW$80))),($BA68-1)*LEN($AW$80)+1,LEN($AW$80))) | BO68: =TRIM(MID(SUBSTITUTE($AW$81,$BA$64,REPT(" ",LEN($AW$81))),($BA68-1)*LEN($AW$81)+1,LEN($AW$81))) | BP68: =TRIM(MID(SUBSTITUTE($AW$82,$BA$64,REPT(" ",LEN($AW$82))),($BA68-1)*LEN($AW$82)+1,LEN($AW$82))) | BQ68: =TRIM(MID(SUBSTITUTE($AW$83,$BA$64,REPT(" ",LEN($AW$83))),($BA68-1)*LEN($AW$83)+1,LEN($AW$83))) | BR68: =TRIM(MID(SUBSTITUTE($AW$84,$BA$64,REPT(" ",LEN($AW$84))),($BA68-1)*LEN($AW$84)+1,LEN($AW$84))) | BS68: =TRIM(MID(SUBSTITUTE($AW$85,$BA$64,REPT(" ",LEN($AW$85))),($BA68-1)*LEN($AW$85)+1,LEN($AW$85))) | BT68: =TRIM(MID(SUBSTITUTE($AW$86,$BA$64,REPT(" ",LEN($AW$86))),($BA68-1)*LEN($AW$86)+1,LEN($AW$86))) | BU68: =TRIM(MID(SUBSTITUTE($AW$87,$BA$64,REPT(" ",LEN($AW$87))),($BA68-1)*LEN($AW$87)+1,LEN($AW$87))) | BV68: =IF(BX68=0,"",CONCATENATE(BW68,"68:",BW68,BX68+67)) -> BB68:BB71 | BW68: BB | BX68: =BB66 -> 4
B69: 2 | C69: =IF(D69="","",C12) | D69: =IF(OR(K12=0, K12=""),"",D12) | E69: =IF(AX69="","",AX69) | H69: =IF(D69="","",AB69) | I69: =IF(OR(K12="", K12=0),"",K12) | J69: =IFERROR(IF(F69="","",VLOOKUP(F69,'10. Condition and Temporal'!$B$6:$F$103,5,FALSE)), "Error ▲") | L69: =IFERROR(IF(D69="","",IF(AX69="Distinctiveness",(((((I69*AH69*AJ69)-(I69*V69*X69))*(AV69*AT69))+(I69*V69*X69))*(AP69))/10000,((((I69*AJ69*AH69)-(I69*V69*X69))*(AV69*AR69))+(I69*V69*X69))*AP69/10000)),"Error ▲") | M69: =IFERROR(IF(F69="","",L69-AD69), "Error ▲") | T69: =IF(D69="","",K12) | U69: =IF($D69="","",T12) | V69: =IF($D69="","",V12) | W69: =IF($D69="","",W12) | X69: =IF($D69="","",X12) | AB69: =IF($D69="","",AB12) | AC69: =IF($D69="","",AD12) | AD69: =IF(AC69="","",(T69*V69*X69)*AC69/10000) | AE69: =IF(AD69="","",IF(AH69<V69,"Not Acceptable","Acceptable")) | AF69: =IF(D69="","",I69) | AG69: =IF(D69="","",VLOOKUP(F69,'9. All Habitats + Multipliers'!$C$4:$K$102,5,FALSE)) | AH69: =IF(AG69="","",VLOOKUP(AG69,'11. Lists'!$B$47:$D$49,2,FALSE)) | AI69: =IF(D69="","",J69) | AJ69: =IF(AI69="","",VLOOKUP(AI69,'11. Lists'!$F$47:$G$51,2,FALSE)) | AN69: =IF(H69="","",H69) | AO69: =IF(AN69="","",VLOOKUP(AN69,'11. Lists'!$F$36:$H$38,2,FALSE)) | AP69: =IF(AN69="","",VLOOKUP(AN69,'11. Lists'!$F$36:$H$38,3,FALSE)) | AQ69: =IF(D69="","",IF(AX69="Distinctiveness","N/A",VLOOKUP(F69,'10. Condition and Temporal'!$B$6:$L$103,11,FALSE))) | AR69: =IF(AQ69="","",IF(AQ69="N/A","1",VLOOKUP(AQ69,'11. Lists'!$I$47:$K$80,3,FALSE))) | AS69: =IF(D69="","",IF(AX69="Condition","N/A",VLOOKUP(F69,'10. Condition and Temporal'!$B$6:$M$106,12,FALSE))) | AT69: =IF(AS69="","",IF(AS69="N/A","1",VLOOKUP(AS69,'11. Lists'!$I$47:$K$80,3,FALSE))) | AU69: =IF(D69="","",VLOOKUP(F69,'9. All Habitats + Multipliers'!$C$4:$K$102,8,FALSE)) | AV69: =IF(AU69="","",VLOOKUP(AU69,'11. Lists'!$J$35:$K$38,2,FALSE)) | AW69: =IF(D69="","",VLOOKUP(D69,'10. Condition and Temporal'!$B$6:$M$103,4,FALSE)) | AX69: =IF(F69="","",IF(D69=F69,"Condition","Distinctiveness")) | AY69: =IF(COUNTIF(F69,"*grassland*"),"Grassland",IF(COUNTIF(F69,"*scree*"),"Sparsely vegetated land",C69)) | BA69: 3 | BB69: =TRIM(MID(SUBSTITUTE($AW$68,$BA$64,REPT(" ",LEN($AW$68))),($BA69-1)*LEN($AW$68)+1,LEN($AW$68))) -> Other neutral grassland | BC69: =TRIM(MID(SUBSTITUTE($AW$69,$BA$64,REPT(" ",LEN($AW$69))),($BA69-1)*LEN($AW$69)+1,LEN($AW$69))) | BD69: =TRIM(MID(SUBSTITUTE($AW$70,$BA$64,REPT(" ",LEN($AW$70))),($BA69-1)*LEN($AW$70)+1,LEN($AW$70))) | BE69: =TRIM(MID(SUBSTITUTE($AW$71,$BA$64,REPT(" ",LEN($AW$71))),($BA69-1)*LEN($AW$71)+1,LEN($AW$71))) | BF69: =TRIM(MID(SUBSTITUTE($AW$72,$BA$64,REPT(" ",LEN($AW$72))),($BA69-1)*LEN($AW$72)+1,LEN($AW$72))) | BG69: =TRIM(MID(SUBSTITUTE($AW$73,$BA$64,REPT(" ",LEN($AW$73))),($BA69-1)*LEN($AW$73)+1,LEN($AW$73))) | BH69: =TRIM(MID(SUBSTITUTE($AW$74,$BA$64,REPT(" ",LEN($AW$74))),($BA69-1)*LEN($AW$74)+1,LEN($AW$74))) | BI69: =TRIM(MID(SUBSTITUTE($AW$75,$BA$64,REPT(" ",LEN($AW$75))),($BA69-1)*LEN($AW$75)+1,LEN($AW$75))) | BJ69: =TRIM(MID(SUBSTITUTE($AW$76,$BA$64,REPT(" ",LEN($AW$76))),($BA69-1)*LEN($AW$76)+1,LEN($AW$76))) | BK69: =TRIM(MID(SUBSTITUTE($AW$77,$BA$64,REPT(" ",LEN($AW$77))),($BA69-1)*LEN($AW$77)+1,LEN($AW$77))) | BL69: =TRIM(MID(SUBSTITUTE($AW$78,$BA$64,REPT(" ",LEN($AW$78))),($BA69-1)*LEN($AW$78)+1,LEN($AW$78))) | BM69: =TRIM(MID(SUBSTITUTE($AW$79,$BA$64,REPT(" ",LEN($AW$79))),($BA69-1)*LEN($AW$79)+1,LEN($AW$79))) | BN69: =TRIM(MID(SUBSTITUTE($AW$80,$BA$64,REPT(" ",LEN($AW$80))),($BA69-1)*LEN($AW$80)+1,LEN($AW$80))) | BO69: =TRIM(MID(SUBSTITUTE($AW$81,$BA$64,REPT(" ",LEN($AW$81))),($BA69-1)*LEN($AW$81)+1,LEN($AW$81))) | BP69: =TRIM(MID(SUBSTITUTE($AW$82,$BA$64,REPT(" ",LEN($AW$82))),($BA69-1)*LEN($AW$82)+1,LEN($AW$82))) | BQ69: =TRIM(MID(SUBSTITUTE($AW$83,$BA$64,REPT(" ",LEN($AW$83))),($BA69-1)*LEN($AW$83)+1,LEN($AW$83))) | BR69: =TRIM(MID(SUBSTITUTE($AW$84,$BA$64,REPT(" ",LEN($AW$84))),($BA69-1)*LEN($AW$84)+1,LEN($AW$84))) | BS69: =TRIM(MID(SUBSTITUTE($AW$85,$BA$64,REPT(" ",LEN($AW$85))),($BA69-1)*LEN($AW$85)+1,LEN($AW$85))) | BT69: =TRIM(MID(SUBSTITUTE($AW$86,$BA$64,REPT(" ",LEN($AW$86))),($BA69-1)*LEN($AW$86)+1,LEN($AW$86))) | BU69: =TRIM(MID(SUBSTITUTE($AW$87,$BA$64,REPT(" ",LEN($AW$87))),($BA69-1)*LEN($AW$87)+1,LEN($AW$87))) | BV69: =IF(BX69=0,"",CONCATENATE(BW69,"68:",BW69,BX69+67)) | BW69: BD | BX69: =BD65 -> 0
B70: 3 | C70: =IF(D70="","",C13) | D70: =IF(OR(K13=0, K13=""),"",D13) | E70: =IF(AX70="","",AX70) | H70: =IF(D70="","",AB70) | I70: =IF(OR(K13="", K13=0),"",K13) | J70: =IFERROR(IF(F70="","",VLOOKUP(F70,'10. Condition and Temporal'!$B$6:$F$103,5,FALSE)), "Error ▲") | L70: =IFERROR(IF(D70="","",IF(AX70="Distinctiveness",(((((I70*AH70*AJ70)-(I70*V70*X70))*(AV70*AT70))+(I70*V70*X70))*(AP70))/10000,((((I70*AJ70*AH70)-(I70*V70*X70))*(AV70*AR70))+(I70*V70*X70))*AP70/10000)),"Error ▲") | M70: =IFERROR(IF(F70="","",L70-AD70), "Error ▲") | T70: =IF(D70="","",K13) | U70: =IF($D70="","",T13) | V70: =IF($D70="","",V13) | W70: =IF($D70="","",W13) | X70: =IF($D70="","",X13) | AB70: =IF($D70="","",AB13) | AC70: =IF($D70="","",AD13) | AD70: =IF(AC70="","",(T70*V70*X70)*AC70/10000) | AE70: =IF(AD70="","",IF(AH70<V70,"Not Acceptable","Acceptable")) | AF70: =IF(D70="","",I70) | AG70: =IF(D70="","",VLOOKUP(F70,'9. All Habitats + Multipliers'!$C$4:$K$102,5,FALSE)) | AH70: =IF(AG70="","",VLOOKUP(AG70,'11. Lists'!$B$47:$D$49,2,FALSE)) | AI70: =IF(D70="","",J70) | AJ70: =IF(AI70="","",VLOOKUP(AI70,'11. Lists'!$F$47:$G$51,2,FALSE)) | AN70: =IF(H70="","",H70) | AO70: =IF(AN70="","",VLOOKUP(AN70,'11. Lists'!$F$36:$H$38,2,FALSE)) | AP70: =IF(AN70="","",VLOOKUP(AN70,'11. Lists'!$F$36:$H$38,3,FALSE)) | AQ70: =IF(D70="","",IF(AX70="Distinctiveness","N/A",VLOOKUP(F70,'10. Condition and Temporal'!$B$6:$L$103,11,FALSE))) | AR70: =IF(AQ70="","",IF(AQ70="N/A","1",VLOOKUP(AQ70,'11. Lists'!$I$47:$K$80,3,FALSE))) | AS70: =IF(D70="","",IF(AX70="Condition","N/A",VLOOKUP(F70,'10. Condition and Temporal'!$B$6:$M$106,12,FALSE))) | AT70: =IF(AS70="","",IF(AS70="N/A","1",VLOOKUP(AS70,'11. Lists'!$I$47:$K$80,3,FALSE))) | AU70: =IF(D70="","",VLOOKUP(F70,'9. All Habitats + Multipliers'!$C$4:$K$102,8,FALSE)) | AV70: =IF(AU70="","",VLOOKUP(AU70,'11. Lists'!$J$35:$K$38,2,FALSE)) | AW70: =IF(D70="","",VLOOKUP(D70,'10. Condition and Temporal'!$B$6:$M$103,4,FALSE)) | AX70: =IF(F70="","",IF(D70=F70,"Condition","Distinctiveness")) | AY70: =IF(COUNTIF(F70,"*grassland*"),"Grassland",IF(COUNTIF(F70,"*scree*"),"Sparsely vegetated land",C70)) | BA70: 3 | BB70: =TRIM(MID(SUBSTITUTE($AW$68,$BA$64,REPT(" ",LEN($AW$68))),($BA70-1)*LEN($AW$68)+1,LEN($AW$68))) -> Other neutral grassland | BC70: =TRIM(MID(SUBSTITUTE($AW$69,$BA$64,REPT(" ",LEN($AW$69))),($BA70-1)*LEN($AW$69)+1,LEN($AW$69))) | BD70: =TRIM(MID(SUBSTITUTE($AW$70,$BA$64,REPT(" ",LEN($AW$70))),($BA70-1)*LEN($AW$70)+1,LEN($AW$70))) | BE70: =TRIM(MID(SUBSTITUTE($AW$71,$BA$64,REPT(" ",LEN($AW$71))),($BA70-1)*LEN($AW$71)+1,LEN($AW$71))) | BF70: =TRIM(MID(SUBSTITUTE($AW$72,$BA$64,REPT(" ",LEN($AW$72))),($BA70-1)*LEN($AW$72)+1,LEN($AW$72))) | BG70: =TRIM(MID(SUBSTITUTE($AW$73,$BA$64,REPT(" ",LEN($AW$73))),($BA70-1)*LEN($AW$73)+1,LEN($AW$73))) | BH70: =TRIM(MID(SUBSTITUTE($AW$74,$BA$64,REPT(" ",LEN($AW$74))),($BA70-1)*LEN($AW$74)+1,LEN($AW$74))) | BI70: =TRIM(MID(SUBSTITUTE($AW$75,$BA$64,REPT(" ",LEN($AW$75))),($BA70-1)*LEN($AW$75)+1,LEN($AW$75))) | BJ70: =TRIM(MID(SUBSTITUTE($AW$76,$BA$64,REPT(" ",LEN($AW$76))),($BA70-1)*LEN($AW$76)+1,LEN($AW$76))) | BK70: =TRIM(MID(SUBSTITUTE($AW$77,$BA$64,REPT(" ",LEN($AW$77))),($BA70-1)*LEN($AW$77)+1,LEN($AW$77))) | BL70: =TRIM(MID(SUBSTITUTE($AW$78,$BA$64,REPT(" ",LEN($AW$78))),($BA70-1)*LEN($AW$78)+1,LEN($AW$78))) | BM70: =TRIM(MID(SUBSTITUTE($AW$79,$BA$64,REPT(" ",LEN($AW$79))),($BA70-1)*LEN($AW$79)+1,LEN($AW$79))) | BN70: =TRIM(MID(SUBSTITUTE($AW$80,$BA$64,REPT(" ",LEN($AW$80))),($BA70-1)*LEN($AW$80)+1,LEN($AW$80))) | BO70: =TRIM(MID(SUBSTITUTE($AW$81,$BA$64,REPT(" ",LEN($AW$81))),($BA70-1)*LEN($AW$81)+1,LEN($AW$81))) | BP70: =TRIM(MID(SUBSTITUTE($AW$82,$BA$64,REPT(" ",LEN($AW$82))),($BA70-1)*LEN($AW$82)+1,LEN($AW$82))) | BQ70: =TRIM(MID(SUBSTITUTE($AW$83,$BA$64,REPT(" ",LEN($AW$83))),($BA70-1)*LEN($AW$83)+1,LEN($AW$83))) | BR70: =TRIM(MID(SUBSTITUTE($AW$84,$BA$64,REPT(" ",LEN($AW$84))),($BA70-1)*LEN($AW$84)+1,LEN($AW$84))) | BS70: =TRIM(MID(SUBSTITUTE($AW$85,$BA$64,REPT(" ",LEN($AW$85))),($BA70-1)*LEN($AW$85)+1,LEN($AW$85))) | BT70: =TRIM(MID(SUBSTITUTE($AW$86,$BA$64,REPT(" ",LEN($AW$86))),($BA70-1)*LEN($AW$86)+1,LEN($AW$86))) | BU70: =TRIM(MID(SUBSTITUTE($AW$87,$BA$64,REPT(" ",LEN($AW$87))),($BA70-1)*LEN($AW$87)+1,LEN($AW$87))) | BV70: =IF(BX70=0,"",CONCATENATE(BW70,"68:",BW70,BX70+67)) | BW70: BD | BX70: =BD66 -> 0
C71: =IF(D71="","",C14) | D71: =IF(OR(K14=0, K14=""),"",D14) | E71: =IF(AX71="","",AX71) | H71: =IF(D71="","",AB71) | I71: =IF(OR(K14="", K14=0),"",K14) | L71: =IFERROR(IF(D71="","",IF(AX71="Distinctiveness",(((((I71*AH71*AJ71)-(I71*V71*X71))*(AV71*AT71))+(I71*V71*X71))*(AP71))/10000,((((I71*AJ71*AH71)-(I71*V71*X71))*(AV71*AR71))+(I71*V71*X71))*AP71/10000)),"Error ▲") | M71: =IFERROR(IF(F71="","",L71-AD71), "Error ▲") | T71: =IF(D71="","",K14) | U71: =IF($D71="","",T14) | V71: =IF($D71="","",V14) | W71: =IF($D71="","",W14) | X71: =IF($D71="","",X14) | AB71: =IF($D71="","",AB14) | AC71: =IF($D71="","",AD14) | AD71: =IF(AC71="","",(T71*V71*X71)*AC71/10000) | AE71: =IF(AD71="","",IF(AH71<V71,"Not Acceptable","Acceptable")) | AF71: =IF(D71="","",I71) | AG71: =IF(D71="","",VLOOKUP(F71,'9. All Habitats + Multipliers'!$C$4:$K$102,5,FALSE)) | AH71: =IF(AG71="","",VLOOKUP(AG71,'11. Lists'!$B$47:$D$49,2,FALSE)) | AI71: =IF(D71="","",J71) | AJ71: =IF(AI71="","",VLOOKUP(AI71,'11. Lists'!$F$47:$G$51,2,FALSE)) | AN71: =IF(H71="","",H71) | AO71: =IF(AN71="","",VLOOKUP(AN71,'11. Lists'!$F$36:$H$38,2,FALSE)) | AP71: =IF(AN71="","",VLOOKUP(AN71,'11. Lists'!$F$36:$H$38,3,FALSE)) | AQ71: =IF(D71="","",IF(AX71="Distinctiveness","N/A",VLOOKUP(F71,'10. Condition and Temporal'!$B$6:$L$103,11,FALSE))) | AR71: =IF(AQ71="","",IF(AQ71="N/A","1",VLOOKUP(AQ71,'11. Lists'!$I$47:$K$80,3,FALSE))) | AS71: =IF(D71="","",IF(AX71="Condition","N/A",VLOOKUP(F71,'10. Condition and Temporal'!$B$6:$M$106,12,FALSE))) | AT71: =IF(AS71="","",IF(AS71="N/A","1",VLOOKUP(AS71,'11. Lists'!$I$47:$K$80,3,FALSE))) | AU71: =IF(D71="","",VLOOKUP(F71,'9. All Habitats + Multipliers'!$C$4:$K$102,8,FALSE)) | AV71: =IF(AU71="","",VLOOKUP(AU71,'11. Lists'!$J$35:$K$38,2,FALSE)) | AW71: =IF(D71="","",VLOOKUP(D71,'10. Condition and Temporal'!$B$6:$M$103,4,FALSE)) | AX71: =IF(F71="","",IF(D71=F71,"Condition","Distinctiveness")) | AY71: =IF(COUNTIF(F71,"*grassland*"),"Grassland",IF(COUNTIF(F71,"*scree*"),"Sparsely vegetated land",C71)) | BA71: 4 | BB71: =TRIM(MID(SUBSTITUTE($AW$68,$BA$64,REPT(" ",LEN($AW$68))),($BA71-1)*LEN($AW$68)+1,LEN($AW$68))) -> Upland acid grassland | BC71: =TRIM(MID(SUBSTITUTE($AW$69,$BA$64,REPT(" ",LEN($AW$69))),($BA71-1)*LEN($AW$69)+1,LEN($AW$69))) | BD71: =TRIM(MID(SUBSTITUTE($AW$70,$BA$64,REPT(" ",LEN($AW$70))),($BA71-1)*LEN($AW$70)+1,LEN($AW$70))) | BE71: =TRIM(MID(SUBSTITUTE($AW$71,$BA$64,REPT(" ",LEN($AW$71))),($BA71-1)*LEN($AW$71)+1,LEN($AW$71))) | BF71: =TRIM(MID(SUBSTITUTE($AW$72,$BA$64,REPT(" ",LEN($AW$72))),($BA71-1)*LEN($AW$72)+1,LEN($AW$72))) | BG71: =TRIM(MID(SUBSTITUTE($AW$73,$BA$64,REPT(" ",LEN($AW$73))),($BA71-1)*LEN($AW$73)+1,LEN($AW$73))) | BH71: =TRIM(MID(SUBSTITUTE($AW$74,$BA$64,REPT(" ",LEN($AW$74))),($BA71-1)*LEN($AW$74)+1,LEN($AW$74))) | BI71: =TRIM(MID(SUBSTITUTE($AW$75,$BA$64,REPT(" ",LEN($AW$75))),($BA71-1)*LEN($AW$75)+1,LEN($AW$75))) | BJ71: =TRIM(MID(SUBSTITUTE($AW$76,$BA$64,REPT(" ",LEN($AW$76))),($BA71-1)*LEN($AW$76)+1,LEN($AW$76))) | BK71: =TRIM(MID(SUBSTITUTE($AW$77,$BA$64,REPT(" ",LEN($AW$77))),($BA71-1)*LEN($AW$77)+1,LEN($AW$77))) | BL71: =TRIM(MID(SUBSTITUTE($AW$78,$BA$64,REPT(" ",LEN($AW$78))),($BA71-1)*LEN($AW$78)+1,LEN($AW$78))) | BM71: =TRIM(MID(SUBSTITUTE($AW$79,$BA$64,REPT(" ",LEN($AW$79))),($BA71-1)*LEN($AW$79)+1,LEN($AW$79))) | BN71: =TRIM(MID(SUBSTITUTE($AW$80,$BA$64,REPT(" ",LEN($AW$80))),($BA71-1)*LEN($AW$80)+1,LEN($AW$80))) | BO71: =TRIM(MID(SUBSTITUTE($AW$81,$BA$64,REPT(" ",LEN($AW$81))),($BA71-1)*LEN($AW$81)+1,LEN($AW$81))) | BP71: =TRIM(MID(SUBSTITUTE($AW$82,$BA$64,REPT(" ",LEN($AW$82))),($BA71-1)*LEN($AW$82)+1,LEN($AW$82))) | BQ71: =TRIM(MID(SUBSTITUTE($AW$83,$BA$64,REPT(" ",LEN($AW$83))),($BA71-1)*LEN($AW$83)+1,LEN($AW$83))) | BR71: =TRIM(MID(SUBSTITUTE($AW$84,$BA$64,REPT(" ",LEN($AW$84))),($BA71-1)*LEN($AW$84)+1,LEN($AW$84))) | BS71: =TRIM(MID(SUBSTITUTE($AW$85,$BA$64,REPT(" ",LEN($AW$85))),($BA71-1)*LEN($AW$85)+1,LEN($AW$85))) | BT71: =TRIM(MID(SUBSTITUTE($AW$86,$BA$64,REPT(" ",LEN($AW$86))),($BA71-1)*LEN($AW$86)+1,LEN($AW$86))) | BU71: =TRIM(MID(SUBSTITUTE($AW$87,$BA$64,REPT(" ",LEN($AW$87))),($BA71-1)*LEN($AW$87)+1,LEN($AW$87))) | BV71: =IF(BX71=0,"",CONCATENATE(BW71,"68:",BW71,BX71+67)) | BW71: BE | BX71: =BE66 -> 0
C72: =IF(D72="","",C15) | D72: =IF(OR(K15=0, K15=""),"",D15) | E72: =IF(AX72="","",AX72) | H72: =IF(D72="","",AB72) | I72: =IF(OR(K15="", K15=0),"",K15) | L72: =IFERROR(IF(D72="","",IF(AX72="Distinctiveness",(((((I72*AH72*AJ72)-(I72*V72*X72))*(AV72*AT72))+(I72*V72*X72))*(AP72))/10000,((((I72*AJ72*AH72)-(I72*V72*X72))*(AV72*AR72))+(I72*V72*X72))*AP72/10000)),"Error ▲") | M72: =IFERROR(IF(F72="","",L72-AD72), "Error ▲") | T72: =IF(D72="","",K15) | U72: =IF($D72="","",T15) | V72: =IF($D72="","",V15) | W72: =IF($D72="","",W15) | X72: =IF($D72="","",X15) | AB72: =IF($D72="","",AB15) | AC72: =IF($D72="","",AD15) | AD72: =IF(AC72="","",(T72*V72*X72)*AC72/10000) | AE72: =IF(AD72="","",IF(AH72<V72,"Not Acceptable","Acceptable")) | AF72: =IF(D72="","",I72) | AG72: =IF(D72="","",VLOOKUP(F72,'9. All Habitats + Multipliers'!$C$4:$K$102,5,FALSE)) | AH72: =IF(AG72="","",VLOOKUP(AG72,'11. Lists'!$B$47:$D$49,2,FALSE)) | AI72: =IF(D72="","",J72) | AJ72: =IF(AI72="","",VLOOKUP(AI72,'11. Lists'!$F$47:$G$51,2,FALSE)) | AN72: =IF(H72="","",H72) | AO72: =IF(AN72="","",VLOOKUP(AN72,'11. Lists'!$F$36:$H$38,2,FALSE)) | AP72: =IF(AN72="","",VLOOKUP(AN72,'11. Lists'!$F$36:$H$38,3,FALSE)) | AQ72: =IF(D72="","",IF(AX72="Distinctiveness","N/A",VLOOKUP(F72,'10. Condition and Temporal'!$B$6:$L$103,11,FALSE))) | AR72: =IF(AQ72="","",IF(AQ72="N/A","1",VLOOKUP(AQ72,'11. Lists'!$I$47:$K$80,3,FALSE))) | AS72: =IF(D72="","",IF(AX72="Condition","N/A",VLOOKUP(F72,'10. Condition and Temporal'!$B$6:$M$106,12,FALSE))) | AT72: =IF(AS72="","",IF(AS72="N/A","1",VLOOKUP(AS72,'11. Lists'!$I$47:$K$80,3,FALSE))) | AU72: =IF(D72="","",VLOOKUP(F72,'9. All Habitats + Multipliers'!$C$4:$K$102,8,FALSE)) | AV72: =IF(AU72="","",VLOOKUP(AU72,'11. Lists'!$J$35:$K$38,2,FALSE)) | AW72: =IF(D72="","",VLOOKUP(D72,'10. Condition and Temporal'!$B$6:$M$103,4,FALSE)) | AX72: =IF(F72="","",IF(D72=F72,"Condition","Distinctiveness")) | AY72: =IF(COUNTIF(F72,"*grassland*"),"Grassland",IF(COUNTIF(F72,"*scree*"),"Sparsely vegetated land",C72)) | BA72: 5 | BB72: =TRIM(MID(SUBSTITUTE($AW$68,$BA$64,REPT(" ",LEN($AW$68))),($BA72-1)*LEN($AW$68)+1,LEN($AW$68))) | BC72: =TRIM(MID(SUBSTITUTE($AW$69,$BA$64,REPT(" ",LEN($AW$69))),($BA72-1)*LEN($AW$69)+1,LEN($AW$69))) | BD72: =TRIM(MID(SUBSTITUTE($AW$70,$BA$64,REPT(" ",LEN($AW$70))),($BA72-1)*LEN($AW$70)+1,LEN($AW$70))) | BE72: =TRIM(MID(SUBSTITUTE($AW$71,$BA$64,REPT(" ",LEN($AW$71))),($BA72-1)*LEN($AW$71)+1,LEN($AW$71))) | BF72: =TRIM(MID(SUBSTITUTE($AW$72,$BA$64,REPT(" ",LEN($AW$72))),($BA72-1)*LEN($AW$72)+1,LEN($AW$72))) | BG72: =TRIM(MID(SUBSTITUTE($AW$73,$BA$64,REPT(" ",LEN($AW$73))),($BA72-1)*LEN($AW$73)+1,LEN($AW$73))) | BH72: =TRIM(MID(SUBSTITUTE($AW$74,$BA$64,REPT(" ",LEN($AW$74))),($BA72-1)*LEN($AW$74)+1,LEN($AW$74))) | BI72: =TRIM(MID(SUBSTITUTE($AW$75,$BA$64,REPT(" ",LEN($AW$75))),($BA72-1)*LEN($AW$75)+1,LEN($AW$75))) | BJ72: =TRIM(MID(SUBSTITUTE($AW$76,$BA$64,REPT(" ",LEN($AW$76))),($BA72-1)*LEN($AW$76)+1,LEN($AW$76))) | BK72: =TRIM(MID(SUBSTITUTE($AW$77,$BA$64,REPT(" ",LEN($AW$77))),($BA72-1)*LEN($AW$77)+1,LEN($AW$77))) | BL72: =TRIM(MID(SUBSTITUTE($AW$78,$BA$64,REPT(" ",LEN($AW$78))),($BA72-1)*LEN($AW$78)+1,LEN($AW$78))) | BM72: =TRIM(MID(SUBSTITUTE($AW$79,$BA$64,REPT(" ",LEN($AW$79))),($BA72-1)*LEN($AW$79)+1,LEN($AW$79))) | BN72: =TRIM(MID(SUBSTITUTE($AW$80,$BA$64,REPT(" ",LEN($AW$80))),($BA72-1)*LEN($AW$80)+1,LEN($AW$80))) | BO72: =TRIM(MID(SUBSTITUTE($AW$81,$BA$64,REPT(" ",LEN($AW$81))),($BA72-1)*LEN($AW$81)+1,LEN($AW$81))) | BP72: =TRIM(MID(SUBSTITUTE($AW$82,$BA$64,REPT(" ",LEN($AW$82))),($BA72-1)*LEN($AW$82)+1,LEN($AW$82))) | BQ72: =TRIM(MID(SUBSTITUTE($AW$83,$BA$64,REPT(" ",LEN($AW$83))),($BA72-1)*LEN($AW$83)+1,LEN($AW$83))) | BR72: =TRIM(MID(SUBSTITUTE($AW$84,$BA$64,REPT(" ",LEN($AW$84))),($BA72-1)*LEN($AW$84)+1,LEN($AW$84))) | BS72: =TRIM(MID(SUBSTITUTE($AW$85,$BA$64,REPT(" ",LEN($AW$85))),($BA72-1)*LEN($AW$85)+1,LEN($AW$85))) | BT72: =TRIM(MID(SUBSTITUTE($AW$86,$BA$64,REPT(" ",LEN($AW$86))),($BA72-1)*LEN($AW$86)+1,LEN($AW$86))) | BU72: =TRIM(MID(SUBSTITUTE($AW$87,$BA$64,REPT(" ",LEN($AW$87))),($BA72-1)*LEN($AW$87)+1,LEN($AW$87))) | BV72: =IF(BX72=0,"",CONCATENATE(BW72,"68:",BW72,BX72+67)) | BW72: BF | BX72: =BF66 -> 0
C73: =IF(D73="","",C16) | D73: =IF(OR(K16=0, K16=""),"",D16) | E73: =IF(AX73="","",AX73) | H73: =IF(D73="","",AB73) | I73: =IF(OR(K16="", K16=0),"",K16) | L73: =IFERROR(IF(D73="","",IF(AX73="Distinctiveness",(((((I73*AH73*AJ73)-(I73*V73*X73))*(AV73*AT73))+(I73*V73*X73))*(AP73))/10000,((((I73*AJ73*AH73)-(I73*V73*X73))*(AV73*AR73))+(I73*V73*X73))*AP73/10000)),"Error ▲") | M73: =IFERROR(IF(F73="","",L73-AD73), "Error ▲") | T73: =IF(D73="","",K16) | U73: =IF($D73="","",T16) | V73: =IF($D73="","",V16) | W73: =IF($D73="","",W16) | X73: =IF($D73="","",X16) | AB73: =IF($D73="","",AB16) | AC73: =IF($D73="","",AD16) | AD73: =IF(AC73="","",(T73*V73*X73)*AC73/10000) | AE73: =IF(AD73="","",IF(AH73<V73,"Not Acceptable","Acceptable")) | AF73: =IF(D73="","",I73) | AG73: =IF(D73="","",VLOOKUP(F73,'9. All Habitats + Multipliers'!$C$4:$K$102,5,FALSE)) | AH73: =IF(AG73="","",VLOOKUP(AG73,'11. Lists'!$B$47:$D$49,2,FALSE)) | AI73: =IF(D73="","",J73) | AJ73: =IF(AI73="","",VLOOKUP(AI73,'11. Lists'!$F$47:$G$51,2,FALSE)) | AN73: =IF(H73="","",H73) | AO73: =IF(AN73="","",VLOOKUP(AN73,'11. Lists'!$F$36:$H$38,2,FALSE)) | AP73: =IF(AN73="","",VLOOKUP(AN73,'11. Lists'!$F$36:$H$38,3,FALSE)) | AQ73: =IF(D73="","",IF(AX73="Distinctiveness","N/A",VLOOKUP(F73,'10. Condition and Temporal'!$B$6:$L$103,11,FALSE))) | AR73: =IF(AQ73="","",IF(AQ73="N/A","1",VLOOKUP(AQ73,'11. Lists'!$I$47:$K$80,3,FALSE))) | AS73: =IF(D73="","",IF(AX73="Condition","N/A",VLOOKUP(F73,'10. Condition and Temporal'!$B$6:$M$106,12,FALSE))) | AT73: =IF(AS73="","",IF(AS73="N/A","1",VLOOKUP(AS73,'11. Lists'!$I$47:$K$80,3,FALSE))) | AU73: =IF(D73="","",VLOOKUP(F73,'9. All Habitats + Multipliers'!$C$4:$K$102,8,FALSE)) | AV73: =IF(AU73="","",VLOOKUP(AU73,'11. Lists'!$J$35:$K$38,2,FALSE)) | AW73: =IF(D73="","",VLOOKUP(D73,'10. Condition and Temporal'!$B$6:$M$103,4,FALSE)) | AX73: =IF(F73="","",IF(D73=F73,"Condition","Distinctiveness")) | AY73: =IF(COUNTIF(F73,"*grassland*"),"Grassland",IF(COUNTIF(F73,"*scree*"),"Sparsely vegetated land",C73)) | BA73: 6 | BB73: =TRIM(MID(SUBSTITUTE($AW$68,$BA$64,REPT(" ",LEN($AW$68))),($BA73-1)*LEN($AW$68)+1,LEN($AW$68))) | BC73: =TRIM(MID(SUBSTITUTE($AW$69,$BA$64,REPT(" ",LEN($AW$69))),($BA73-1)*LEN($AW$69)+1,LEN($AW$69))) | BD73: =TRIM(MID(SUBSTITUTE($AW$70,$BA$64,REPT(" ",LEN($AW$70))),($BA73-1)*LEN($AW$70)+1,LEN($AW$70))) | BE73: =TRIM(MID(SUBSTITUTE($AW$71,$BA$64,REPT(" ",LEN($AW$71))),($BA73-1)*LEN($AW$71)+1,LEN($AW$71))) | BF73: =TRIM(MID(SUBSTITUTE($AW$72,$BA$64,REPT(" ",LEN($AW$72))),($BA73-1)*LEN($AW$72)+1,LEN($AW$72))) | BG73: =TRIM(MID(SUBSTITUTE($AW$73,$BA$64,REPT(" ",LEN($AW$73))),($BA73-1)*LEN($AW$73)+1,LEN($AW$73))) | BH73: =TRIM(MID(SUBSTITUTE($AW$74,$BA$64,REPT(" ",LEN($AW$74))),($BA73-1)*LEN($AW$74)+1,LEN($AW$74))) | BI73: =TRIM(MID(SUBSTITUTE($AW$75,$BA$64,REPT(" ",LEN($AW$75))),($BA73-1)*LEN($AW$75)+1,LEN($AW$75))) | BJ73: =TRIM(MID(SUBSTITUTE($AW$76,$BA$64,REPT(" ",LEN($AW$76))),($BA73-1)*LEN($AW$76)+1,LEN($AW$76))) | BK73: =TRIM(MID(SUBSTITUTE($AW$77,$BA$64,REPT(" ",LEN($AW$77))),($BA73-1)*LEN($AW$77)+1,LEN($AW$77))) | BL73: =TRIM(MID(SUBSTITUTE($AW$78,$BA$64,REPT(" ",LEN($AW$78))),($BA73-1)*LEN($AW$78)+1,LEN($AW$78))) | BM73: =TRIM(MID(SUBSTITUTE($AW$79,$BA$64,REPT(" ",LEN($AW$79))),($BA73-1)*LEN($AW$79)+1,LEN($AW$79))) | BN73: =TRIM(MID(SUBSTITUTE($AW$80,$BA$64,REPT(" ",LEN($AW$80))),($BA73-1)*LEN($AW$80)+1,LEN($AW$80))) | BO73: =TRIM(MID(SUBSTITUTE($AW$81,$BA$64,REPT(" ",LEN($AW$81))),($BA73-1)*LEN($AW$81)+1,LEN($AW$81))) | BP73: =TRIM(MID(SUBSTITUTE($AW$82,$BA$64,REPT(" ",LEN($AW$82))),($BA73-1)*LEN($AW$82)+1,LEN($AW$82))) | BQ73: =TRIM(MID(SUBSTITUTE($AW$83,$BA$64,REPT(" ",LEN($AW$83))),($BA73-1)*LEN($AW$83)+1,LEN($AW$83))) | BR73: =TRIM(MID(SUBSTITUTE($AW$84,$BA$64,REPT(" ",LEN($AW$84))),($BA73-1)*LEN($AW$84)+1,LEN($AW$84))) | BS73: =TRIM(MID(SUBSTITUTE($AW$85,$BA$64,REPT(" ",LEN($AW$85))),($BA73-1)*LEN($AW$85)+1,LEN($AW$85))) | BT73: =TRIM(MID(SUBSTITUTE($AW$86,$BA$64,REPT(" ",LEN($AW$86))),($BA73-1)*LEN($AW$86)+1,LEN($AW$86))) | BU73: =TRIM(MID(SUBSTITUTE($AW$87,$BA$64,REPT(" ",LEN($AW$87))),($BA73-1)*LEN($AW$87)+1,LEN($AW$87))) | BV73: =IF(BX73=0,"",CONCATENATE(BW73,"68:",BW73,BX73+67)) | BW73: BG | BX73: =BG66 -> 0
C74: =IF(D74="","",C17) | D74: =IF(OR(K17=0, K17=""),"",D17) | E74: =IF(AX74="","",AX74) | H74: =IF(D74="","",AB74) | I74: =IF(OR(K17="", K17=0),"",K17) | L74: =IFERROR(IF(D74="","",IF(AX74="Distinctiveness",(((((I74*AH74*AJ74)-(I74*V74*X74))*(AV74*AT74))+(I74*V74*X74))*(AP74))/10000,((((I74*AJ74*AH74)-(I74*V74*X74))*(AV74*AR74))+(I74*V74*X74))*AP74/10000)),"Error ▲") | M74: =IFERROR(IF(F74="","",L74-AD74), "Error ▲") | T74: =IF(D74="","",K17) | U74: =IF($D74="","",T17) | V74: =IF($D74="","",V17) | W74: =IF($D74="","",W17) | X74: =IF($D74="","",X17) | AB74: =IF($D74="","",AB17) | AC74: =IF($D74="","",AD17) | AD74: =IF(AC74="","",(T74*V74*X74)*AC74/10000) | AE74: =IF(AD74="","",IF(AH74<V74,"Not Acceptable","Acceptable")) | AF74: =IF(D74="","",I74) | AG74: =IF(D74="","",VLOOKUP(F74,'9. All Habitats + Multipliers'!$C$4:$K$102,5,FALSE)) | AH74: =IF(AG74="","",VLOOKUP(AG74,'11. Lists'!$B$47:$D$49,2,FALSE)) | AI74: =IF(D74="","",J74) | AJ74: =IF(AI74="","",VLOOKUP(AI74,'11. Lists'!$F$47:$G$51,2,FALSE)) | AN74: =IF(H74="","",H74) | AO74: =IF(AN74="","",VLOOKUP(AN74,'11. Lists'!$F$36:$H$38,2,FALSE)) | AP74: =IF(AN74="","",VLOOKUP(AN74,'11. Lists'!$F$36:$H$38,3,FALSE)) | AQ74: =IF(D74="","",IF(AX74="Distinctiveness","N/A",VLOOKUP(F74,'10. Condition and Temporal'!$B$6:$L$103,11,FALSE))) | AR74: =IF(AQ74="","",IF(AQ74="N/A","1",VLOOKUP(AQ74,'11. Lists'!$I$47:$K$80,3,FALSE))) | AS74: =IF(D74="","",IF(AX74="Condition","N/A",VLOOKUP(F74,'10. Condition and Temporal'!$B$6:$M$106,12,FALSE))) | AT74: =IF(AS74="","",IF(AS74="N/A","1",VLOOKUP(AS74,'11. Lists'!$I$47:$K$80,3,FALSE))) | AU74: =IF(D74="","",VLOOKUP(F74,'9. All Habitats + Multipliers'!$C$4:$K$102,8,FALSE)) | AV74: =IF(AU74="","",VLOOKUP(AU74,'11. Lists'!$J$35:$K$38,2,FALSE)) | AW74: =IF(D74="","",VLOOKUP(D74,'10. Condition and Temporal'!$B$6:$M$103,4,FALSE)) | AX74: =IF(F74="","",IF(D74=F74,"Condition","Distinctiveness")) | AY74: =IF(COUNTIF(F74,"*grassland*"),"Grassland",IF(COUNTIF(F74,"*scree*"),"Sparsely vegetated land",C74)) | BA74: 7 | BB74: =TRIM(MID(SUBSTITUTE($AW$68,$BA$64,REPT(" ",LEN($AW$68))),($BA74-1)*LEN($AW$68)+1,LEN($AW$68))) | BC74: =TRIM(MID(SUBSTITUTE($AW$69,$BA$64,REPT(" ",LEN($AW$69))),($BA74-1)*LEN($AW$69)+1,LEN($AW$69))) | BD74: =TRIM(MID(SUBSTITUTE($AW$70,$BA$64,REPT(" ",LEN($AW$70))),($BA74-1)*LEN($AW$70)+1,LEN($AW$70))) | BE74: =TRIM(MID(SUBSTITUTE($AW$71,$BA$64,REPT(" ",LEN($AW$71))),($BA74-1)*LEN($AW$71)+1,LEN($AW$71))) | BF74: =TRIM(MID(SUBSTITUTE($AW$72,$BA$64,REPT(" ",LEN($AW$72))),($BA74-1)*LEN($AW$72)+1,LEN($AW$72))) | BG74: =TRIM(MID(SUBSTITUTE($AW$73,$BA$64,REPT(" ",LEN($AW$73))),($BA74-1)*LEN($AW$73)+1,LEN($AW$73))) | BH74: =TRIM(MID(SUBSTITUTE($AW$74,$BA$64,REPT(" ",LEN($AW$74))),($BA74-1)*LEN($AW$74)+1,LEN($AW$74))) | BI74: =TRIM(MID(SUBSTITUTE($AW$75,$BA$64,REPT(" ",LEN($AW$75))),($BA74-1)*LEN($AW$75)+1,LEN($AW$75))) | BJ74: =TRIM(MID(SUBSTITUTE($AW$76,$BA$64,REPT(" ",LEN($AW$76))),($BA74-1)*LEN($AW$76)+1,LEN($AW$76))) | BK74: =TRIM(MID(SUBSTITUTE($AW$77,$BA$64,REPT(" ",LEN($AW$77))),($BA74-1)*LEN($AW$77)+1,LEN($AW$77))) | BL74: =TRIM(MID(SUBSTITUTE($AW$78,$BA$64,REPT(" ",LEN($AW$78))),($BA74-1)*LEN($AW$78)+1,LEN($AW$78))) | BM74: =TRIM(MID(SUBSTITUTE($AW$79,$BA$64,REPT(" ",LEN($AW$79))),($BA74-1)*LEN($AW$79)+1,LEN($AW$79))) | BN74: =TRIM(MID(SUBSTITUTE($AW$80,$BA$64,REPT(" ",LEN($AW$80))),($BA74-1)*LEN($AW$80)+1,LEN($AW$80))) | BO74: =TRIM(MID(SUBSTITUTE($AW$81,$BA$64,REPT(" ",LEN($AW$81))),($BA74-1)*LEN($AW$81)+1,LEN($AW$81))) | BP74: =TRIM(MID(SUBSTITUTE($AW$82,$BA$64,REPT(" ",LEN($AW$82))),($BA74-1)*LEN($AW$82)+1,LEN($AW$82))) | BQ74: =TRIM(MID(SUBSTITUTE($AW$83,$BA$64,REPT(" ",LEN($AW$83))),($BA74-1)*LEN($AW$83)+1,LEN($AW$83))) | BR74: =TRIM(MID(SUBSTITUTE($AW$84,$BA$64,REPT(" ",LEN($AW$84))),($BA74-1)*LEN($AW$84)+1,LEN($AW$84))) | BS74: =TRIM(MID(SUBSTITUTE($AW$85,$BA$64,REPT(" ",LEN($AW$85))),($BA74-1)*LEN($AW$85)+1,LEN($AW$85))) | BT74: =TRIM(MID(SUBSTITUTE($AW$86,$BA$64,REPT(" ",LEN($AW$86))),($BA74-1)*LEN($AW$86)+1,LEN($AW$86))) | BU74: =TRIM(MID(SUBSTITUTE($AW$87,$BA$64,REPT(" ",LEN($AW$87))),($BA74-1)*LEN($AW$87)+1,LEN($AW$87))) | BV74: =IF(BX74=0,"",CONCATENATE(BW74,"68:",BW74,BX74+67)) | BW74: BH | BX74: =BH66 -> 0
C75: =IF(D75="","",C18) | D75: =IF(OR(K18=0, K18=""),"",D18) | E75: =IF(AX75="","",AX75) | H75: =IF(D75="","",AB75) | I75: =IF(OR(K18="", K18=0),"",K18) | L75: =IFERROR(IF(D75="","",IF(AX75="Distinctiveness",(((((I75*AH75*AJ75)-(I75*V75*X75))*(AV75*AT75))+(I75*V75*X75))*(AP75))/10000,((((I75*AJ75*AH75)-(I75*V75*X75))*(AV75*AR75))+(I75*V75*X75))*AP75/10000)),"Error ▲") | M75: =IFERROR(IF(F75="","",L75-AD75), "Error ▲") | T75: =IF(D75="","",K18) | U75: =IF($D75="","",T18) | V75: =IF($D75="","",V18) | W75: =IF($D75="","",W18) | X75: =IF($D75="","",X18) | AB75: =IF($D75="","",AB18) | AC75: =IF($D75="","",AD18) | AD75: =IF(AC75="","",(T75*V75*X75)*AC75/10000) | AE75: =IF(AD75="","",IF(AH75<V75,"Not Acceptable","Acceptable")) | AF75: =IF(D75="","",I75) | AG75: =IF(D75="","",VLOOKUP(F75,'9. All Habitats + Multipliers'!$C$4:$K$102,5,FALSE)) | AH75: =IF(AG75="","",VLOOKUP(AG75,'11. Lists'!$B$47:$D$49,2,FALSE)) | AI75: =IF(D75="","",J75) | AJ75: =IF(AI75="","",VLOOKUP(AI75,'11. Lists'!$F$47:$G$51,2,FALSE)) | AN75: =IF(H75="","",H75) | AO75: =IF(AN75="","",VLOOKUP(AN75,'11. Lists'!$F$36:$H$38,2,FALSE)) | AP75: =IF(AN75="","",VLOOKUP(AN75,'11. Lists'!$F$36:$H$38,3,FALSE)) | AQ75: =IF(D75="","",IF(AX75="Distinctiveness","N/A",VLOOKUP(F75,'10. Condition and Temporal'!$B$6:$L$103,11,FALSE))) | AR75: =IF(AQ75="","",IF(AQ75="N/A","1",VLOOKUP(AQ75,'11. Lists'!$I$47:$K$80,3,FALSE))) | AS75: =IF(D75="","",IF(AX75="Condition","N/A",VLOOKUP(F75,'10. Condition and Temporal'!$B$6:$M$106,12,FALSE))) | AT75: =IF(AS75="","",IF(AS75="N/A","1",VLOOKUP(AS75,'11. Lists'!$I$47:$K$80,3,FALSE))) | AU75: =IF(D75="","",VLOOKUP(F75,'9. All Habitats + Multipliers'!$C$4:$K$102,8,FALSE)) | AV75: =IF(AU75="","",VLOOKUP(AU75,'11. Lists'!$J$35:$K$38,2,FALSE)) | AW75: =IF(D75="","",VLOOKUP(D75,'10. Condition and Temporal'!$B$6:$M$103,4,FALSE)) | AX75: =IF(F75="","",IF(D75=F75,"Condition","Distinctiveness")) | AY75: =IF(COUNTIF(F75,"*grassland*"),"Grassland",IF(COUNTIF(F75,"*scree*"),"Sparsely vegetated land",C75)) | BA75: 8 | BB75: =TRIM(MID(SUBSTITUTE($AW$68,$BA$64,REPT(" ",LEN($AW$68))),($BA75-1)*LEN($AW$68)+1,LEN($AW$68))) | BC75: =TRIM(MID(SUBSTITUTE($AW$69,$BA$64,REPT(" ",LEN($AW$69))),($BA75-1)*LEN($AW$69)+1,LEN($AW$69))) | BD75: =TRIM(MID(SUBSTITUTE($AW$70,$BA$64,REPT(" ",LEN($AW$70))),($BA75-1)*LEN($AW$70)+1,LEN($AW$70))) | BE75: =TRIM(MID(SUBSTITUTE($AW$71,$BA$64,REPT(" ",LEN($AW$71))),($BA75-1)*LEN($AW$71)+1,LEN($AW$71))) | BF75: =TRIM(MID(SUBSTITUTE($AW$72,$BA$64,REPT(" ",LEN($AW$72))),($BA75-1)*LEN($AW$72)+1,LEN($AW$72))) | BG75: =TRIM(MID(SUBSTITUTE($AW$73,$BA$64,REPT(" ",LEN($AW$73))),($BA75-1)*LEN($AW$73)+1,LEN($AW$73))) | BH75: =TRIM(MID(SUBSTITUTE($AW$74,$BA$64,REPT(" ",LEN($AW$74))),($BA75-1)*LEN($AW$74)+1,LEN($AW$74))) | BI75: =TRIM(MID(SUBSTITUTE($AW$75,$BA$64,REPT(" ",LEN($AW$75))),($BA75-1)*LEN($AW$75)+1,LEN($AW$75))) | BJ75: =TRIM(MID(SUBSTITUTE($AW$76,$BA$64,REPT(" ",LEN($AW$76))),($BA75-1)*LEN($AW$76)+1,LEN($AW$76))) | BK75: =TRIM(MID(SUBSTITUTE($AW$77,$BA$64,REPT(" ",LEN($AW$77))),($BA75-1)*LEN($AW$77)+1,LEN($AW$77))) | BL75: =TRIM(MID(SUBSTITUTE($AW$78,$BA$64,REPT(" ",LEN($AW$78))),($BA75-1)*LEN($AW$78)+1,LEN($AW$78))) | BM75: =TRIM(MID(SUBSTITUTE($AW$79,$BA$64,REPT(" ",LEN($AW$79))),($BA75-1)*LEN($AW$79)+1,LEN($AW$79))) | BN75: =TRIM(MID(SUBSTITUTE($AW$80,$BA$64,REPT(" ",LEN($AW$80))),($BA75-1)*LEN($AW$80)+1,LEN($AW$80))) | BO75: =TRIM(MID(SUBSTITUTE($AW$81,$BA$64,REPT(" ",LEN($AW$81))),($BA75-1)*LEN($AW$81)+1,LEN($AW$81))) | BP75: =TRIM(MID(SUBSTITUTE($AW$82,$BA$64,REPT(" ",LEN($AW$82))),($BA75-1)*LEN($AW$82)+1,LEN($AW$82))) | BQ75: =TRIM(MID(SUBSTITUTE($AW$83,$BA$64,REPT(" ",LEN($AW$83))),($BA75-1)*LEN($AW$83)+1,LEN($AW$83))) | BR75: =TRIM(MID(SUBSTITUTE($AW$84,$BA$64,REPT(" ",LEN($AW$84))),($BA75-1)*LEN($AW$84)+1,LEN($AW$84))) | BS75: =TRIM(MID(SUBSTITUTE($AW$85,$BA$64,REPT(" ",LEN($AW$85))),($BA75-1)*LEN($AW$85)+1,LEN($AW$85))) | BT75: =TRIM(MID(SUBSTITUTE($AW$86,$BA$64,REPT(" ",LEN($AW$86))),($BA75-1)*LEN($AW$86)+1,LEN($AW$86))) | BU75: =TRIM(MID(SUBSTITUTE($AW$87,$BA$64,REPT(" ",LEN($AW$87))),($BA75-1)*LEN($AW$87)+1,LEN($AW$87))) | BV75: =IF(BX75=0,"",CONCATENATE(BW75,"68:",BW75,BX75+67)) | BW75: BI | BX75: =BI66 -> 0
C76: =IF(D76="","",C19) | D76: =IF(OR(K19=0, K19=""),"",D19) | E76: =IF(AX76="","",AX76) | H76: =IF(D76="","",AB76) | I76: =IF(OR(K19="", K19=0),"",K19) | L76: =IFERROR(IF(D76="","",IF(AX76="Distinctiveness",(((((I76*AH76*AJ76)-(I76*V76*X76))*(AV76*AT76))+(I76*V76*X76))*(AP76))/10000,((((I76*AJ76*AH76)-(I76*V76*X76))*(AV76*AR76))+(I76*V76*X76))*AP76/10000)),"Error ▲") | M76: =IFERROR(IF(F76="","",L76-AD76), "Error ▲") | T76: =IF(D76="","",K19) | U76: =IF($D76="","",T19) | V76: =IF($D76="","",V19) | W76: =IF($D76="","",W19) | X76: =IF($D76="","",X19) | AB76: =IF($D76="","",AB19) | AC76: =IF($D76="","",AD19) | AD76: =IF(AC76="","",(T76*V76*X76)*AC76/10000) | AE76: =IF(AD76="","",IF(AH76<V76,"Not Acceptable","Acceptable")) | AF76: =IF(D76="","",I76) | AG76: =IF(D76="","",VLOOKUP(F76,'9. All Habitats + Multipliers'!$C$4:$K$102,5,FALSE)) | AH76: =IF(AG76="","",VLOOKUP(AG76,'11. Lists'!$B$47:$D$49,2,FALSE)) | AI76: =IF(D76="","",J76) | AJ76: =IF(AI76="","",VLOOKUP(AI76,'11. Lists'!$F$47:$G$51,2,FALSE)) | AN76: =IF(H76="","",H76) | AO76: =IF(AN76="","",VLOOKUP(AN76,'11. Lists'!$F$36:$H$38,2,FALSE)) | AP76: =IF(AN76="","",VLOOKUP(AN76,'11. Lists'!$F$36:$H$38,3,FALSE)) | AQ76: =IF(D76="","",IF(AX76="Distinctiveness","N/A",VLOOKUP(F76,'10. Condition and Temporal'!$B$6:$L$103,11,FALSE))) | AR76: =IF(AQ76="","",IF(AQ76="N/A","1",VLOOKUP(AQ76,'11. Lists'!$I$47:$K$80,3,FALSE))) | AS76: =IF(D76="","",IF(AX76="Condition","N/A",VLOOKUP(F76,'10. Condition and Temporal'!$B$6:$M$106,12,FALSE))) | AT76: =IF(AS76="","",IF(AS76="N/A","1",VLOOKUP(AS76,'11. Lists'!$I$47:$K$80,3,FALSE))) | AU76: =IF(D76="","",VLOOKUP(F76,'9. All Habitats + Multipliers'!$C$4:$K$102,8,FALSE)) | AV76: =IF(AU76="","",VLOOKUP(AU76,'11. Lists'!$J$35:$K$38,2,FALSE)) | AW76: =IF(D76="","",VLOOKUP(D76,'10. Condition and Temporal'!$B$6:$M$103,4,FALSE)) | AX76: =IF(F76="","",IF(D76=F76,"Condition","Distinctiveness")) | AY76: =IF(COUNTIF(F76,"*grassland*"),"Grassland",IF(COUNTIF(F76,"*scree*"),"Sparsely vegetated land",C76)) | BA76: 9 | BB76: =TRIM(MID(SUBSTITUTE($AW$68,$BA$64,REPT(" ",LEN($AW$68))),($BA76-1)*LEN($AW$68)+1,LEN($AW$68))) | BC76: =TRIM(MID(SUBSTITUTE($AW$69,$BA$64,REPT(" ",LEN($AW$69))),($BA76-1)*LEN($AW$69)+1,LEN($AW$69))) | BD76: =TRIM(MID(SUBSTITUTE($AW$70,$BA$64,REPT(" ",LEN($AW$70))),($BA76-1)*LEN($AW$70)+1,LEN($AW$70))) | BE76: =TRIM(MID(SUBSTITUTE($AW$71,$BA$64,REPT(" ",LEN($AW$71))),($BA76-1)*LEN($AW$71)+1,LEN($AW$71))) | BF76: =TRIM(MID(SUBSTITUTE($AW$72,$BA$64,REPT(" ",LEN($AW$72))),($BA76-1)*LEN($AW$72)+1,LEN($AW$72))) | BG76: =TRIM(MID(SUBSTITUTE($AW$73,$BA$64,REPT(" ",LEN($AW$73))),($BA76-1)*LEN($AW$73)+1,LEN($AW$73))) | BH76: =TRIM(MID(SUBSTITUTE($AW$74,$BA$64,REPT(" ",LEN($AW$74))),($BA76-1)*LEN($AW$74)+1,LEN($AW$74))) | BI76: =TRIM(MID(SUBSTITUTE($AW$75,$BA$64,REPT(" ",LEN($AW$75))),($BA76-1)*LEN($AW$75)+1,LEN($AW$75))) | BJ76: =TRIM(MID(SUBSTITUTE($AW$76,$BA$64,REPT(" ",LEN($AW$76))),($BA76-1)*LEN($AW$76)+1,LEN($AW$76))) | BK76: =TRIM(MID(SUBSTITUTE($AW$77,$BA$64,REPT(" ",LEN($AW$77))),($BA76-1)*LEN($AW$77)+1,LEN($AW$77))) | BL76: =TRIM(MID(SUBSTITUTE($AW$78,$BA$64,REPT(" ",LEN($AW$78))),($BA76-1)*LEN($AW$78)+1,LEN($AW$78))) | BM76: =TRIM(MID(SUBSTITUTE($AW$79,$BA$64,REPT(" ",LEN($AW$79))),($BA76-1)*LEN($AW$79)+1,LEN($AW$79))) | BN76: =TRIM(MID(SUBSTITUTE($AW$80,$BA$64,REPT(" ",LEN($AW$80))),($BA76-1)*LEN($AW$80)+1,LEN($AW$80))) | BO76: =TRIM(MID(SUBSTITUTE($AW$81,$BA$64,REPT(" ",LEN($AW$81))),($BA76-1)*LEN($AW$81)+1,LEN($AW$81))) | BP76: =TRIM(MID(SUBSTITUTE($AW$82,$BA$64,REPT(" ",LEN($AW$82))),($BA76-1)*LEN($AW$82)+1,LEN($AW$82))) | BQ76: =TRIM(MID(SUBSTITUTE($AW$83,$BA$64,REPT(" ",LEN($AW$83))),($BA76-1)*LEN($AW$83)+1,LEN($AW$83))) | BR76: =TRIM(MID(SUBSTITUTE($AW$84,$BA$64,REPT(" ",LEN($AW$84))),($BA76-1)*LEN($AW$84)+1,LEN($AW$84))) | BS76: =TRIM(MID(SUBSTITUTE($AW$85,$BA$64,REPT(" ",LEN($AW$85))),($BA76-1)*LEN($AW$85)+1,LEN($AW$85))) | BT76: =TRIM(MID(SUBSTITUTE($AW$86,$BA$64,REPT(" ",LEN($AW$86))),($BA76-1)*LEN($AW$86)+1,LEN($AW$86))) | BU76: =TRIM(MID(SUBSTITUTE($AW$87,$BA$64,REPT(" ",LEN($AW$87))),($BA76-1)*LEN($AW$87)+1,LEN($AW$87))) | BV76: =IF(BX76=0,"",CONCATENATE(BW76,"68:",BW76,BX76+67)) | BW76: BJ | BX76: =BJ66 -> 0
C77: =IF(D77="","",C20) | D77: =IF(OR(K20=0, K20=""),"",D20) | E77: =IF(AX77="","",AX77) | H77: =IF(D77="","",AB77) | I77: =IF(OR(K20="", K20=0),"",K20) | L77: =IFERROR(IF(D77="","",IF(AX77="Distinctiveness",(((((I77*AH77*AJ77)-(I77*V77*X77))*(AV77*AT77))+(I77*V77*X77))*(AP77))/10000,((((I77*AJ77*AH77)-(I77*V77*X77))*(AV77*AR77))+(I77*V77*X77))*AP77/10000)),"Error ▲") | M77: =IFERROR(IF(F77="","",L77-AD77), "Error ▲") | T77: =IF(D77="","",K20) | U77: =IF($D77="","",T20) | V77: =IF($D77="","",V20) | W77: =IF($D77="","",W20) | X77: =IF($D77="","",X20) | AB77: =IF($D77="","",AB20) | AC77: =IF($D77="","",AD20) | AD77: =IF(AC77="","",(T77*V77*X77)*AC77/10000) | AE77: =IF(AD77="","",IF(AH77<V77,"Not Acceptable","Acceptable")) | AF77: =IF(D77="","",I77) | AG77: =IF(D77="","",VLOOKUP(F77,'9. All Habitats + Multipliers'!$C$4:$K$102,5,FALSE)) | AH77: =IF(AG77="","",VLOOKUP(AG77,'11. Lists'!$B$47:$D$49,2,FALSE)) | AI77: =IF(D77="","",J77) | AJ77: =IF(AI77="","",VLOOKUP(AI77,'11. Lists'!$F$47:$G$51,2,FALSE)) | AN77: =IF(H77="","",H77) | AO77: =IF(AN77="","",VLOOKUP(AN77,'11. Lists'!$F$36:$H$38,2,FALSE)) | AP77: =IF(AN77="","",VLOOKUP(AN77,'11. Lists'!$F$36:$H$38,3,FALSE)) | AQ77: =IF(D77="","",IF(AX77="Distinctiveness","N/A",VLOOKUP(F77,'10. Condition and Temporal'!$B$6:$L$103,11,FALSE))) | AR77: =IF(AQ77="","",IF(AQ77="N/A","1",VLOOKUP(AQ77,'11. Lists'!$I$47:$K$80,3,FALSE))) | AS77: =IF(D77="","",IF(AX77="Condition","N/A",VLOOKUP(F77,'10. Condition and Temporal'!$B$6:$M$106,12,FALSE))) | AT77: =IF(AS77="","",IF(AS77="N/A","1",VLOOKUP(AS77,'11. Lists'!$I$47:$K$80,3,FALSE))) | AU77: =IF(D77="","",VLOOKUP(F77,'9. All Habitats + Multipliers'!$C$4:$K$102,8,FALSE)) | AV77: =IF(AU77="","",VLOOKUP(AU77,'11. Lists'!$J$35:$K$38,2,FALSE)) | AW77: =IF(D77="","",VLOOKUP(D77,'10. Condition and Temporal'!$B$6:$M$103,4,FALSE)) | AX77: =IF(F77="","",IF(D77=F77,"Condition","Distinctiveness")) | AY77: =IF(COUNTIF(F77,"*grassland*"),"Grassland",IF(COUNTIF(F77,"*scree*"),"Sparsely vegetated land",C77)) | BA77: 10 | BB77: =TRIM(MID(SUBSTITUTE($AW$68,$BA$64,REPT(" ",LEN($AW$68))),($BA77-1)*LEN($AW$68)+1,LEN($AW$68))) | BC77: =TRIM(MID(SUBSTITUTE($AW$69,$BA$64,REPT(" ",LEN($AW$69))),($BA77-1)*LEN($AW$69)+1,LEN($AW$69))) | BD77: =TRIM(MID(SUBSTITUTE($AW$70,$BA$64,REPT(" ",LEN($AW$70))),($BA77-1)*LEN($AW$70)+1,LEN($AW$70))) | BE77: =TRIM(MID(SUBSTITUTE($AW$71,$BA$64,REPT(" ",LEN($AW$71))),($BA77-1)*LEN($AW$71)+1,LEN($AW$71))) | BF77: =TRIM(MID(SUBSTITUTE($AW$72,$BA$64,REPT(" ",LEN($AW$72))),($BA77-1)*LEN($AW$72)+1,LEN($AW$72))) | BG77: =TRIM(MID(SUBSTITUTE($AW$73,$BA$64,REPT(" ",LEN($AW$73))),($BA77-1)*LEN($AW$73)+1,LEN($AW$73))) | BH77: =TRIM(MID(SUBSTITUTE($AW$74,$BA$64,REPT(" ",LEN($AW$74))),($BA77-1)*LEN($AW$74)+1,LEN($AW$74))) | BI77: =TRIM(MID(SUBSTITUTE($AW$75,$BA$64,REPT(" ",LEN($AW$75))),($BA77-1)*LEN($AW$75)+1,LEN($AW$75))) | BJ77: =TRIM(MID(SUBSTITUTE($AW$76,$BA$64,REPT(" ",LEN($AW$76))),($BA77-1)*LEN($AW$76)+1,LEN($AW$76))) | BK77: =TRIM(MID(SUBSTITUTE($AW$77,$BA$64,REPT(" ",LEN($AW$77))),($BA77-1)*LEN($AW$77)+1,LEN($AW$77))) | BL77: =TRIM(MID(SUBSTITUTE($AW$78,$BA$64,REPT(" ",LEN($AW$78))),($BA77-1)*LEN($AW$78)+1,LEN($AW$78))) | BM77: =TRIM(MID(SUBSTITUTE($AW$79,$BA$64,REPT(" ",LEN($AW$79))),($BA77-1)*LEN($AW$79)+1,LEN($AW$79))) | BN77: =TRIM(MID(SUBSTITUTE($AW$80,$BA$64,REPT(" ",LEN($AW$80))),($BA77-1)*LEN($AW$80)+1,LEN($AW$80))) | BO77: =TRIM(MID(SUBSTITUTE($AW$81,$BA$64,REPT(" ",LEN($AW$81))),($BA77-1)*LEN($AW$81)+1,LEN($AW$81))) | BP77: =TRIM(MID(SUBSTITUTE($AW$82,$BA$64,REPT(" ",LEN($AW$82))),($BA77-1)*LEN($AW$82)+1,LEN($AW$82))) | BQ77: =TRIM(MID(SUBSTITUTE($AW$83,$BA$64,REPT(" ",LEN($AW$83))),($BA77-1)*LEN($AW$83)+1,LEN($AW$83))) | BR77: =TRIM(MID(SUBSTITUTE($AW$84,$BA$64,REPT(" ",LEN($AW$84))),($BA77-1)*LEN($AW$84)+1,LEN($AW$84))) | BS77: =TRIM(MID(SUBSTITUTE($AW$85,$BA$64,REPT(" ",LEN($AW$85))),($BA77-1)*LEN($AW$85)+1,LEN($AW$85))) | BT77: =TRIM(MID(SUBSTITUTE($AW$86,$BA$64,REPT(" ",LEN($AW$86))),($BA77-1)*LEN($AW$86)+1,LEN($AW$86))) | BU77: =TRIM(MID(SUBSTITUTE($AW$87,$BA$64,REPT(" ",LEN($AW$87))),($BA77-1)*LEN($AW$87)+1,LEN($AW$87))) | BV77: =IF(BX77=0,"",CONCATENATE(BW77,"68:",BW77,BX77+67)) | BW77: BK | BX77: =BK66 -> 0
C78: =IF(D78="","",C21) | D78: =IF(OR(K21=0, K21=""),"",D21) | E78: =IF(AX78="","",AX78) | H78: =IF(D78="","",AB78) | I78: =IF(OR(K21="", K21=0),"",K21) | L78: =IFERROR(IF(D78="","",IF(AX78="Distinctiveness",(((((I78*AH78*AJ78)-(I78*V78*X78))*(AV78*AT78))+(I78*V78*X78))*(AP78))/10000,((((I78*AJ78*AH78)-(I78*V78*X78))*(AV78*AR78))+(I78*V78*X78))*AP78/10000)),"Error ▲") | M78: =IFERROR(IF(F78="","",L78-AD78), "Error ▲") | T78: =IF(D78="","",K21) | U78: =IF($D78="","",T21) | V78: =IF($D78="","",V21) | W78: =IF($D78="","",W21) | X78: =IF($D78="","",X21) | AB78: =IF($D78="","",AB21) | AC78: =IF($D78="","",AD21) | AD78: =IF(AC78="","",(T78*V78*X78)*AC78/10000) | AE78: =IF(AD78="","",IF(AH78<V78,"Not Acceptable","Acceptable")) | AF78: =IF(D78="","",I78) | AG78: =IF(D78="","",VLOOKUP(F78,'9. All Habitats + Multipliers'!$C$4:$K$102,5,FALSE)) | AH78: =IF(AG78="","",VLOOKUP(AG78,'11. Lists'!$B$47:$D$49,2,FALSE)) | AI78: =IF(D78="","",J78) | AJ78: =IF(AI78="","",VLOOKUP(AI78,'11. Lists'!$F$47:$G$51,2,FALSE)) | AN78: =IF(H78="","",H78) | AO78: =IF(AN78="","",VLOOKUP(AN78,'11. Lists'!$F$36:$H$38,2,FALSE)) | AP78: =IF(AN78="","",VLOOKUP(AN78,'11. Lists'!$F$36:$H$38,3,FALSE)) | AQ78: =IF(D78="","",IF(AX78="Distinctiveness","N/A",VLOOKUP(F78,'10. Condition and Temporal'!$B$6:$L$103,11,FALSE))) | AR78: =IF(AQ78="","",IF(AQ78="N/A","1",VLOOKUP(AQ78,'11. Lists'!$I$47:$K$80,3,FALSE))) | AS78: =IF(D78="","",IF(AX78="Condition","N/A",VLOOKUP(F78,'10. Condition and Temporal'!$B$6:$M$106,12,FALSE))) | AT78: =IF(AS78="","",IF(AS78="N/A","1",VLOOKUP(AS78,'11. Lists'!$I$47:$K$80,3,FALSE))) | AU78: =IF(D78="","",VLOOKUP(F78,'9. All Habitats + Multipliers'!$C$4:$K$102,8,FALSE)) | AV78: =IF(AU78="","",VLOOKUP(AU78,'11. Lists'!$J$35:$K$38,2,FALSE)) | AW78: =IF(D78="","",VLOOKUP(D78,'10. Condition and Temporal'!$B$6:$M$103,4,FALSE)) | AX78: =IF(F78="","",IF(D78=F78,"Condition","Distinctiveness")) | AY78: =IF(COUNTIF(F78,"*grassland*"),"Grassland",IF(COUNTIF(F78,"*scree*"),"Sparsely vegetated land",C78)) | BA78: 11 | BB78: =TRIM(MID(SUBSTITUTE($AW$68,$BA$64,REPT(" ",LEN($AW$68))),($BA78-1)*LEN($AW$68)+1,LEN($AW$68))) | BC78: =TRIM(MID(SUBSTITUTE($AW$69,$BA$64,REPT(" ",LEN($AW$69))),($BA78-1)*LEN($AW$69)+1,LEN($AW$69))) | BD78: =TRIM(MID(SUBSTITUTE($AW$70,$BA$64,REPT(" ",LEN($AW$70))),($BA78-1)*LEN($AW$70)+1,LEN($AW$70))) | BE78: =TRIM(MID(SUBSTITUTE($AW$71,$BA$64,REPT(" ",LEN($AW$71))),($BA78-1)*LEN($AW$71)+1,LEN($AW$71))) | BF78: =TRIM(MID(SUBSTITUTE($AW$72,$BA$64,REPT(" ",LEN($AW$72))),($BA78-1)*LEN($AW$72)+1,LEN($AW$72))) | BG78: =TRIM(MID(SUBSTITUTE($AW$73,$BA$64,REPT(" ",LEN($AW$73))),($BA78-1)*LEN($AW$73)+1,LEN($AW$73))) | BH78: =TRIM(MID(SUBSTITUTE($AW$74,$BA$64,REPT(" ",LEN($AW$74))),($BA78-1)*LEN($AW$74)+1,LEN($AW$74))) | BI78: =TRIM(MID(SUBSTITUTE($AW$75,$BA$64,REPT(" ",LEN($AW$75))),($BA78-1)*LEN($AW$75)+1,LEN($AW$75))) | BJ78: =TRIM(MID(SUBSTITUTE($AW$76,$BA$64,REPT(" ",LEN($AW$76))),($BA78-1)*LEN($AW$76)+1,LEN($AW$76))) | BK78: =TRIM(MID(SUBSTITUTE($AW$77,$BA$64,REPT(" ",LEN($AW$77))),($BA78-1)*LEN($AW$77)+1,LEN($AW$77))) | BL78: =TRIM(MID(SUBSTITUTE($AW$78,$BA$64,REPT(" ",LEN($AW$78))),($BA78-1)*LEN($AW$78)+1,LEN($AW$78))) | BM78: =TRIM(MID(SUBSTITUTE($AW$79,$BA$64,REPT(" ",LEN($AW$79))),($BA78-1)*LEN($AW$79)+1,LEN($AW$79))) | BN78: =TRIM(MID(SUBSTITUTE($AW$80,$BA$64,REPT(" ",LEN($AW$80))),($BA78-1)*LEN($AW$80)+1,LEN($AW$80))) | BO78: =TRIM(MID(SUBSTITUTE($AW$81,$BA$64,REPT(" ",LEN($AW$81))),($BA78-1)*LEN($AW$81)+1,LEN($AW$81))) | BP78: =TRIM(MID(SUBSTITUTE($AW$82,$BA$64,REPT(" ",LEN($AW$82))),($BA78-1)*LEN($AW$82)+1,LEN($AW$82))) | BQ78: =TRIM(MID(SUBSTITUTE($AW$83,$BA$64,REPT(" ",LEN($AW$83))),($BA78-1)*LEN($AW$83)+1,LEN($AW$83))) | BR78: =TRIM(MID(SUBSTITUTE($AW$84,$BA$64,REPT(" ",LEN($AW$84))),($BA78-1)*LEN($AW$84)+1,LEN($AW$84))) | BS78: =TRIM(MID(SUBSTITUTE($AW$85,$BA$64,REPT(" ",LEN($AW$85))),($BA78-1)*LEN($AW$85)+1,LEN($AW$85))) | BT78: =TRIM(MID(SUBSTITUTE($AW$86,$BA$64,REPT(" ",LEN($AW$86))),($BA78-1)*LEN($AW$86)+1,LEN($AW$86))) | BU78: =TRIM(MID(SUBSTITUTE($AW$87,$BA$64,REPT(" ",LEN($AW$87))),($BA78-1)*LEN($AW$87)+1,LEN($AW$87))) | BV78: =IF(BX78=0,"",CONCATENATE(BW78,"68:",BW78,BX78+67)) | BW78: BL | BX78: =BL66 -> 0
C79: =IF(D79="","",C22) | D79: =IF(OR(K22=0, K22=""),"",D22) | E79: =IF(AX79="","",AX79) | H79: =IF(D79="","",AB79) | I79: =IF(OR(K22="", K22=0),"",K22) | L79: =IFERROR(IF(D79="","",IF(AX79="Distinctiveness",(((((I79*AH79*AJ79)-(I79*V79*X79))*(AV79*AT79))+(I79*V79*X79))*(AP79))/10000,((((I79*AJ79*AH79)-(I79*V79*X79))*(AV79*AR79))+(I79*V79*X79))*AP79/10000)),"Error ▲") | M79: =IFERROR(IF(F79="","",L79-AD79), "Error ▲") | T79: =IF(D79="","",K22) | U79: =IF($D79="","",T22) | V79: =IF($D79="","",V22) | W79: =IF($D79="","",W22) | X79: =IF($D79="","",X22) | AB79: =IF($D79="","",AB22) | AC79: =IF($D79="","",AD22) | AD79: =IF(AC79="","",(T79*V79*X79)*AC79/10000) | AE79: =IF(AD79="","",IF(AH79<V79,"Not Acceptable","Acceptable")) | AF79: =IF(D79="","",I79) | AG79: =IF(D79="","",VLOOKUP(F79,'9. All Habitats + Multipliers'!$C$4:$K$102,5,FALSE)) | AH79: =IF(AG79="","",VLOOKUP(AG79,'11. Lists'!$B$47:$D$49,2,FALSE)) | AI79: =IF(D79="","",J79) | AJ79: =IF(AI79="","",VLOOKUP(AI79,'11. Lists'!$F$47:$G$51,2,FALSE)) | AN79: =IF(H79="","",H79) | AO79: =IF(AN79="","",VLOOKUP(AN79,'11. Lists'!$F$36:$H$38,2,FALSE)) | AP79: =IF(AN79="","",VLOOKUP(AN79,'11. Lists'!$F$36:$H$38,3,FALSE)) | AQ79: =IF(D79="","",IF(AX79="Distinctiveness","N/A",VLOOKUP(F79,'10. Condition and Temporal'!$B$6:$L$103,11,FALSE))) | AR79: =IF(AQ79="","",IF(AQ79="N/A","1",VLOOKUP(AQ79,'11. Lists'!$I$47:$K$80,3,FALSE))) | AS79: =IF(D79="","",IF(AX79="Condition","N/A",VLOOKUP(F79,'10. Condition and Temporal'!$B$6:$M$106,12,FALSE))) | AT79: =IF(AS79="","",IF(AS79="N/A","1",VLOOKUP(AS79,'11. Lists'!$I$47:$K$80,3,FALSE))) | AU79: =IF(D79="","",VLOOKUP(F79,'9. All Habitats + Multipliers'!$C$4:$K$102,8,FALSE)) | AV79: =IF(AU79="","",VLOOKUP(AU79,'11. Lists'!$J$35:$K$38,2,FALSE)) | AW79: =IF(D79="","",VLOOKUP(D79,'10. Condition and Temporal'!$B$6:$M$103,4,FALSE)) | AX79: =IF(F79="","",IF(D79=F79,"Condition","Distinctiveness")) | AY79: =IF(COUNTIF(F79,"*grassland*"),"Grassland",IF(COUNTIF(F79,"*scree*"),"Sparsely vegetated land",C79)) | BA79: 12 | BB79: =TRIM(MID(SUBSTITUTE($AW$68,$BA$64,REPT(" ",LEN($AW$68))),($BA79-1)*LEN($AW$68)+1,LEN($AW$68))) | BC79: =TRIM(MID(SUBSTITUTE($AW$69,$BA$64,REPT(" ",LEN($AW$69))),($BA79-1)*LEN($AW$69)+1,LEN($AW$69))) | BD79: =TRIM(MID(SUBSTITUTE($AW$70,$BA$64,REPT(" ",LEN($AW$70))),($BA79-1)*LEN($AW$70)+1,LEN($AW$70))) | BE79: =TRIM(MID(SUBSTITUTE($AW$71,$BA$64,REPT(" ",LEN($AW$71))),($BA79-1)*LEN($AW$71)+1,LEN($AW$71))) | BF79: =TRIM(MID(SUBSTITUTE($AW$72,$BA$64,REPT(" ",LEN($AW$72))),($BA79-1)*LEN($AW$72)+1,LEN($AW$72))) | BG79: =TRIM(MID(SUBSTITUTE($AW$73,$BA$64,REPT(" ",LEN($AW$73))),($BA79-1)*LEN($AW$73)+1,LEN($AW$73))) | BH79: =TRIM(MID(SUBSTITUTE($AW$74,$BA$64,REPT(" ",LEN($AW$74))),($BA79-1)*LEN($AW$74)+1,LEN($AW$74))) | BI79: =TRIM(MID(SUBSTITUTE($AW$75,$BA$64,REPT(" ",LEN($AW$75))),($BA79-1)*LEN($AW$75)+1,LEN($AW$75))) | BJ79: =TRIM(MID(SUBSTITUTE($AW$76,$BA$64,REPT(" ",LEN($AW$76))),($BA79-1)*LEN($AW$76)+1,LEN($AW$76))) | BK79: =TRIM(MID(SUBSTITUTE($AW$77,$BA$64,REPT(" ",LEN($AW$77))),($BA79-1)*LEN($AW$77)+1,LEN($AW$77))) | BL79: =TRIM(MID(SUBSTITUTE($AW$78,$BA$64,REPT(" ",LEN($AW$78))),($BA79-1)*LEN($AW$78)+1,LEN($AW$78))) | BM79: =TRIM(MID(SUBSTITUTE($AW$79,$BA$64,REPT(" ",LEN($AW$79))),($BA79-1)*LEN($AW$79)+1,LEN($AW$79))) | BN79: =TRIM(MID(SUBSTITUTE($AW$80,$BA$64,REPT(" ",LEN($AW$80))),($BA79-1)*LEN($AW$80)+1,LEN($AW$80))) | BO79: =TRIM(MID(SUBSTITUTE($AW$81,$BA$64,REPT(" ",LEN($AW$81))),($BA79-1)*LEN($AW$81)+1,LEN($AW$81))) | BP79: =TRIM(MID(SUBSTITUTE($AW$82,$BA$64,REPT(" ",LEN($AW$82))),($BA79-1)*LEN($AW$82)+1,LEN($AW$82))) | BQ79: =TRIM(MID(SUBSTITUTE($AW$83,$BA$64,REPT(" ",LEN($AW$83))),($BA79-1)*LEN($AW$83)+1,LEN($AW$83))) | BR79: =TRIM(MID(SUBSTITUTE($AW$84,$BA$64,REPT(" ",LEN($AW$84))),($BA79-1)*LEN($AW$84)+1,LEN($AW$84))) | BS79: =TRIM(MID(SUBSTITUTE($AW$85,$BA$64,REPT(" ",LEN($AW$85))),($BA79-1)*LEN($AW$85)+1,LEN($AW$85))) | BT79: =TRIM(MID(SUBSTITUTE($AW$86,$BA$64,REPT(" ",LEN($AW$86))),($BA79-1)*LEN($AW$86)+1,LEN($AW$86))) | BU79: =TRIM(MID(SUBSTITUTE($AW$87,$BA$64,REPT(" ",LEN($AW$87))),($BA79-1)*LEN($AW$87)+1,LEN($AW$87))) | BV79: =IF(BX79=0,"",CONCATENATE(BW79,"68:",BW79,BX79+67)) | BW79: BM | BX79: =BM66 -> 0
C80: =IF(D80="","",C23) | D80: =IF(OR(K23=0, K23=""),"",D23) | E80: =IF(AX80="","",AX80) | H80: =IF(D80="","",AB80) | I80: =IF(OR(K23="", K23=0),"",K23) | L80: =IFERROR(IF(D80="","",IF(AX80="Distinctiveness",(((((I80*AH80*AJ80)-(I80*V80*X80))*(AV80*AT80))+(I80*V80*X80))*(AP80))/10000,((((I80*AJ80*AH80)-(I80*V80*X80))*(AV80*AR80))+(I80*V80*X80))*AP80/10000)),"Error ▲") | M80: =IFERROR(IF(F80="","",L80-AD80), "Error ▲") | T80: =IF(D80="","",K23) | U80: =IF($D80="","",T23) | V80: =IF($D80="","",V23) | W80: =IF($D80="","",W23) | X80: =IF($D80="","",X23) | AB80: =IF($D80="","",AB23) | AC80: =IF($D80="","",AD23) | AD80: =IF(AC80="","",(T80*V80*X80)*AC80/10000) | AE80: =IF(AD80="","",IF(AH80<V80,"Not Acceptable","Acceptable")) | AF80: =IF(D80="","",I80) | AG80: =IF(D80="","",VLOOKUP(F80,'9. All Habitats + Multipliers'!$C$4:$K$102,5,FALSE)) | AH80: =IF(AG80="","",VLOOKUP(AG80,'11. Lists'!$B$47:$D$49,2,FALSE)) | AI80: =IF(D80="","",J80) | AJ80: =IF(AI80="","",VLOOKUP(AI80,'11. Lists'!$F$47:$G$51,2,FALSE)) | AN80: =IF(H80="","",H80) | AO80: =IF(AN80="","",VLOOKUP(AN80,'11. Lists'!$F$36:$H$38,2,FALSE)) | AP80: =IF(AN80="","",VLOOKUP(AN80,'11. Lists'!$F$36:$H$38,3,FALSE)) | AQ80: =IF(D80="","",IF(AX80="Distinctiveness","N/A",VLOOKUP(F80,'10. Condition and Temporal'!$B$6:$L$103,11,FALSE))) | AR80: =IF(AQ80="","",IF(AQ80="N/A","1",VLOOKUP(AQ80,'11. Lists'!$I$47:$K$80,3,FALSE))) | AS80: =IF(D80="","",IF(AX80="Condition","N/A",VLOOKUP(F80,'10. Condition and Temporal'!$B$6:$M$106,12,FALSE))) | AT80: =IF(AS80="","",IF(AS80="N/A","1",VLOOKUP(AS80,'11. Lists'!$I$47:$K$80,3,FALSE))) | AU80: =IF(D80="","",VLOOKUP(F80,'9. All Habitats + Multipliers'!$C$4:$K$102,8,FALSE)) | AV80: =IF(AU80="","",VLOOKUP(AU80,'11. Lists'!$J$35:$K$38,2,FALSE)) | AW80: =IF(D80="","",VLOOKUP(D80,'10. Condition and Temporal'!$B$6:$M$103,4,FALSE)) | AX80: =IF(F80="","",IF(D80=F80,"Condition","Distinctiveness")) | AY80: =IF(COUNTIF(F80,"*grassland*"),"Grassland",IF(COUNTIF(F80,"*scree*"),"Sparsely vegetated land",C80)) | BA80: 13 | BB80: =TRIM(MID(SUBSTITUTE($AW$68,$BA$64,REPT(" ",LEN($AW$68))),($BA80-1)*LEN($AW$68)+1,LEN($AW$68))) | BC80: =TRIM(MID(SUBSTITUTE($AW$69,$BA$64,REPT(" ",LEN($AW$69))),($BA80-1)*LEN($AW$69)+1,LEN($AW$69))) | BD80: =TRIM(MID(SUBSTITUTE($AW$70,$BA$64,REPT(" ",LEN($AW$70))),($BA80-1)*LEN($AW$70)+1,LEN($AW$70))) | BE80: =TRIM(MID(SUBSTITUTE($AW$71,$BA$64,REPT(" ",LEN($AW$71))),($BA80-1)*LEN($AW$71)+1,LEN($AW$71))) | BF80: =TRIM(MID(SUBSTITUTE($AW$72,$BA$64,REPT(" ",LEN($AW$72))),($BA80-1)*LEN($AW$72)+1,LEN($AW$72))) | BG80: =TRIM(MID(SUBSTITUTE($AW$73,$BA$64,REPT(" ",LEN($AW$73))),($BA80-1)*LEN($AW$73)+1,LEN($AW$73))) | BH80: =TRIM(MID(SUBSTITUTE($AW$74,$BA$64,REPT(" ",LEN($AW$74))),($BA80-1)*LEN($AW$74)+1,LEN($AW$74))) | BI80: =TRIM(MID(SUBSTITUTE($AW$75,$BA$64,REPT(" ",LEN($AW$75))),($BA80-1)*LEN($AW$75)+1,LEN($AW$75))) | BJ80: =TRIM(MID(SUBSTITUTE($AW$76,$BA$64,REPT(" ",LEN($AW$76))),($BA80-1)*LEN($AW$76)+1,LEN($AW$76))) | BK80: =TRIM(MID(SUBSTITUTE($AW$77,$BA$64,REPT(" ",LEN($AW$77))),($BA80-1)*LEN($AW$77)+1,LEN($AW$77))) | BL80: =TRIM(MID(SUBSTITUTE($AW$78,$BA$64,REPT(" ",LEN($AW$78))),($BA80-1)*LEN($AW$78)+1,LEN($AW$78))) | BM80: =TRIM(MID(SUBSTITUTE($AW$79,$BA$64,REPT(" ",LEN($AW$79))),($BA80-1)*LEN($AW$79)+1,LEN($AW$79))) | BN80: =TRIM(MID(SUBSTITUTE($AW$80,$BA$64,REPT(" ",LEN($AW$80))),($BA80-1)*LEN($AW$80)+1,LEN($AW$80))) | BO80: =TRIM(MID(SUBSTITUTE($AW$81,$BA$64,REPT(" ",LEN($AW$81))),($BA80-1)*LEN($AW$81)+1,LEN($AW$81))) | BP80: =TRIM(MID(SUBSTITUTE($AW$82,$BA$64,REPT(" ",LEN($AW$82))),($BA80-1)*LEN($AW$82)+1,LEN($AW$82))) | BQ80: =TRIM(MID(SUBSTITUTE($AW$83,$BA$64,REPT(" ",LEN($AW$83))),($BA80-1)*LEN($AW$83)+1,LEN($AW$83))) | BR80: =TRIM(MID(SUBSTITUTE($AW$84,$BA$64,REPT(" ",LEN($AW$84))),($BA80-1)*LEN($AW$84)+1,LEN($AW$84))) | BS80: =TRIM(MID(SUBSTITUTE($AW$85,$BA$64,REPT(" ",LEN($AW$85))),($BA80-1)*LEN($AW$85)+1,LEN($AW$85))) | BT80: =TRIM(MID(SUBSTITUTE($AW$86,$BA$64,REPT(" ",LEN($AW$86))),($BA80-1)*LEN($AW$86)+1,LEN($AW$86))) | BU80: =TRIM(MID(SUBSTITUTE($AW$87,$BA$64,REPT(" ",LEN($AW$87))),($BA80-1)*LEN($AW$87)+1,LEN($AW$87))) | BV80: =IF(BX80=0,"",CONCATENATE(BW80,"68:",BW80,BX80+67)) | BW80: BN | BX80: =BN66 -> 0
C81: =IF(D81="","",C24) | D81: =IF(OR(K24=0, K24=""),"",D24) | E81: =IF(AX81="","",AX81) | H81: =IF(D81="","",AB81) | I81: =IF(OR(K24="", K24=0),"",K24) | L81: =IFERROR(IF(D81="","",IF(AX81="Distinctiveness",(((((I81*AH81*AJ81)-(I81*V81*X81))*(AV81*AT81))+(I81*V81*X81))*(AP81))/10000,((((I81*AJ81*AH81)-(I81*V81*X81))*(AV81*AR81))+(I81*V81*X81))*AP81/10000)),"Error ▲") | M81: =IFERROR(IF(F81="","",L81-AD81), "Error ▲") | T81: =IF(D81="","",K24) | U81: =IF($D81="","",T24) | V81: =IF($D81="","",V24) | W81: =IF($D81="","",W24) | X81: =IF($D81="","",X24) | AB81: =IF($D81="","",AB24) | AC81: =IF($D81="","",AD24) | AD81: =IF(AC81="","",(T81*V81*X81)*AC81/10000) | AE81: =IF(AD81="","",IF(AH81<V81,"Not Acceptable","Acceptable")) | AF81: =IF(D81="","",I81) | AG81: =IF(D81="","",VLOOKUP(F81,'9. All Habitats + Multipliers'!$C$4:$K$102,5,FALSE)) | AH81: =IF(AG81="","",VLOOKUP(AG81,'11. Lists'!$B$47:$D$49,2,FALSE)) | AI81: =IF(D81="","",J81) | AJ81: =IF(AI81="","",VLOOKUP(AI81,'11. Lists'!$F$47:$G$51,2,FALSE)) | AN81: =IF(H81="","",H81) | AO81: =IF(AN81="","",VLOOKUP(AN81,'11. Lists'!$F$36:$H$38,2,FALSE)) | AP81: =IF(AN81="","",VLOOKUP(AN81,'11. Lists'!$F$36:$H$38,3,FALSE)) | AQ81: =IF(D81="","",IF(AX81="Distinctiveness","N/A",VLOOKUP(F81,'10. Condition and Temporal'!$B$6:$L$103,11,FALSE))) | AR81: =IF(AQ81="","",IF(AQ81="N/A","1",VLOOKUP(AQ81,'11. Lists'!$I$47:$K$80,3,FALSE))) | AS81: =IF(D81="","",IF(AX81="Condition","N/A",VLOOKUP(F81,'10. Condition and Temporal'!$B$6:$M$106,12,FALSE))) | AT81: =IF(AS81="","",IF(AS81="N/A","1",VLOOKUP(AS81,'11. Lists'!$I$47:$K$80,3,FALSE))) | AU81: =IF(D81="","",VLOOKUP(F81,'9. All Habitats + Multipliers'!$C$4:$K$102,8,FALSE)) | AV81: =IF(AU81="","",VLOOKUP(AU81,'11. Lists'!$J$35:$K$38,2,FALSE)) | AW81: =IF(D81="","",VLOOKUP(D81,'10. Condition and Temporal'!$B$6:$M$103,4,FALSE)) | AX81: =IF(F81="","",IF(D81=F81,"Condition","Distinctiveness")) | AY81: =IF(COUNTIF(F81,"*grassland*"),"Grassland",IF(COUNTIF(F81,"*scree*"),"Sparsely vegetated land",C81)) | BA81: 14 | BB81: =TRIM(MID(SUBSTITUTE($AW$68,$BA$64,REPT(" ",LEN($AW$68))),($BA81-1)*LEN($AW$68)+1,LEN($AW$68))) | BC81: =TRIM(MID(SUBSTITUTE($AW$69,$BA$64,REPT(" ",LEN($AW$69))),($BA81-1)*LEN($AW$69)+1,LEN($AW$69))) | BD81: =TRIM(MID(SUBSTITUTE($AW$70,$BA$64,REPT(" ",LEN($AW$70))),($BA81-1)*LEN($AW$70)+1,LEN($AW$70))) | BE81: =TRIM(MID(SUBSTITUTE($AW$71,$BA$64,REPT(" ",LEN($AW$71))),($BA81-1)*LEN($AW$71)+1,LEN($AW$71))) | BF81: =TRIM(MID(SUBSTITUTE($AW$72,$BA$64,REPT(" ",LEN($AW$72))),($BA81-1)*LEN($AW$72)+1,LEN($AW$72))) | BG81: =TRIM(MID(SUBSTITUTE($AW$73,$BA$64,REPT(" ",LEN($AW$73))),($BA81-1)*LEN($AW$73)+1,LEN($AW$73))) | BH81: =TRIM(MID(SUBSTITUTE($AW$74,$BA$64,REPT(" ",LEN($AW$74))),($BA81-1)*LEN($AW$74)+1,LEN($AW$74))) | BI81: =TRIM(MID(SUBSTITUTE($AW$75,$BA$64,REPT(" ",LEN($AW$75))),($BA81-1)*LEN($AW$75)+1,LEN($AW$75))) | BJ81: =TRIM(MID(SUBSTITUTE($AW$76,$BA$64,REPT(" ",LEN($AW$76))),($BA81-1)*LEN($AW$76)+1,LEN($AW$76))) | BK81: =TRIM(MID(SUBSTITUTE($AW$77,$BA$64,REPT(" ",LEN($AW$77))),($BA81-1)*LEN($AW$77)+1,LEN($AW$77))) | BL81: =TRIM(MID(SUBSTITUTE($AW$78,$BA$64,REPT(" ",LEN($AW$78))),($BA81-1)*LEN($AW$78)+1,LEN($AW$78))) | BM81: =TRIM(MID(SUBSTITUTE($AW$79,$BA$64,REPT(" ",LEN($AW$79))),($BA81-1)*LEN($AW$79)+1,LEN($AW$79))) | BN81: =TRIM(MID(SUBSTITUTE($AW$80,$BA$64,REPT(" ",LEN($AW$80))),($BA81-1)*LEN($AW$80)+1,LEN($AW$80))) | BO81: =TRIM(MID(SUBSTITUTE($AW$81,$BA$64,REPT(" ",LEN($AW$81))),($BA81-1)*LEN($AW$81)+1,LEN($AW$81))) | BP81: =TRIM(MID(SUBSTITUTE($AW$82,$BA$64,REPT(" ",LEN($AW$82))),($BA81-1)*LEN($AW$82)+1,LEN($AW$82))) | BQ81: =TRIM(MID(SUBSTITUTE($AW$83,$BA$64,REPT(" ",LEN($AW$83))),($BA81-1)*LEN($AW$83)+1,LEN($AW$83))) | BR81: =TRIM(MID(SUBSTITUTE($AW$84,$BA$64,REPT(" ",LEN($AW$84))),($BA81-1)*LEN($AW$84)+1,LEN($AW$84))) | BS81: =TRIM(MID(SUBSTITUTE($AW$85,$BA$64,REPT(" ",LEN($AW$85))),($BA81-1)*LEN($AW$85)+1,LEN($AW$85))) | BT81: =TRIM(MID(SUBSTITUTE($AW$86,$BA$64,REPT(" ",LEN($AW$86))),($BA81-1)*LEN($AW$86)+1,LEN($AW$86))) | BU81: =TRIM(MID(SUBSTITUTE($AW$87,$BA$64,REPT(" ",LEN($AW$87))),($BA81-1)*LEN($AW$87)+1,LEN($AW$87))) | BV81: =IF(BX81=0,"",CONCATENATE(BW81,"68:",BW81,BX81+67)) | BW81: BO | BX81: =BO66 -> 0
C82: =IF(D82="","",C25) | D82: =IF(OR(K25=0, K25=""),"",D25) | E82: =IF(AX82="","",AX82) | H82: =IF(D82="","",AB82) | I82: =IF(OR(K25="", K25=0),"",K25) | L82: =IFERROR(IF(D82="","",IF(AX82="Distinctiveness",(((((I82*AH82*AJ82)-(I82*V82*X82))*(AV82*AT82))+(I82*V82*X82))*(AP82))/10000,((((I82*AJ82*AH82)-(I82*V82*X82))*(AV82*AR82))+(I82*V82*X82))*AP82/10000)),"Error ▲") | M82: =IFERROR(IF(F82="","",L82-AD82), "Error ▲") | T82: =IF(D82="","",K25) | U82: =IF($D82="","",T25) | V82: =IF($D82="","",V25) | W82: =IF($D82="","",W25) | X82: =IF($D82="","",X25) | AB82: =IF($D82="","",AB25) | AC82: =IF($D82="","",AD25) | AD82: =IF(AC82="","",(T82*V82*X82)*AC82/10000) | AE82: =IF(AD82="","",IF(AH82<V82,"Not Acceptable","Acceptable")) | AF82: =IF(D82="","",I82) | AG82: =IF(D82="","",VLOOKUP(F82,'9. All Habitats + Multipliers'!$C$4:$K$102,5,FALSE)) | AH82: =IF(AG82="","",VLOOKUP(AG82,'11. Lists'!$B$47:$D$49,2,FALSE)) | AI82: =IF(D82="","",J82) | AJ82: =IF(AI82="","",VLOOKUP(AI82,'11. Lists'!$F$47:$G$51,2,FALSE)) | AN82: =IF(H82="","",H82) | AO82: =IF(AN82="","",VLOOKUP(AN82,'11. Lists'!$F$36:$H$38,2,FALSE)) | AP82: =IF(AN82="","",VLOOKUP(AN82,'11. Lists'!$F$36:$H$38,3,FALSE)) | AQ82: =IF(D82="","",IF(AX82="Distinctiveness","N/A",VLOOKUP(F82,'10. Condition and Temporal'!$B$6:$L$103,11,FALSE))) | AR82: =IF(AQ82="","",IF(AQ82="N/A","1",VLOOKUP(AQ82,'11. Lists'!$I$47:$K$80,3,FALSE))) | AS82: =IF(D82="","",IF(AX82="Condition","N/A",VLOOKUP(F82,'10. Condition and Temporal'!$B$6:$M$106,12,FALSE))) | AT82: =IF(AS82="","",IF(AS82="N/A","1",VLOOKUP(AS82,'11. Lists'!$I$47:$K$80,3,FALSE))) | AU82: =IF(D82="","",VLOOKUP(F82,'9. All Habitats + Multipliers'!$C$4:$K$102,8,FALSE)) | AV82: =IF(AU82="","",VLOOKUP(AU82,'11. Lists'!$J$35:$K$38,2,FALSE)) | AW82: =IF(D82="","",VLOOKUP(D82,'10. Condition and Temporal'!$B$6:$M$103,4,FALSE)) | AX82: =IF(F82="","",IF(D82=F82,"Condition","Distinctiveness")) | AY82: =IF(COUNTIF(F82,"*grassland*"),"Grassland",IF(COUNTIF(F82,"*scree*"),"Sparsely vegetated land",C82)) | BA82: 15 | BB82: =TRIM(MID(SUBSTITUTE($AW$68,$BA$64,REPT(" ",LEN($AW$68))),($BA82-1)*LEN($AW$68)+1,LEN($AW$68))) | BC82: =TRIM(MID(SUBSTITUTE($AW$69,$BA$64,REPT(" ",LEN($AW$69))),($BA82-1)*LEN($AW$69)+1,LEN($AW$69))) | BD82: =TRIM(MID(SUBSTITUTE($AW$70,$BA$64,REPT(" ",LEN($AW$70))),($BA82-1)*LEN($AW$70)+1,LEN($AW$70))) | BE82: =TRIM(MID(SUBSTITUTE($AW$71,$BA$64,REPT(" ",LEN($AW$71))),($BA82-1)*LEN($AW$71)+1,LEN($AW$71))) | BF82: =TRIM(MID(SUBSTITUTE($AW$72,$BA$64,REPT(" ",LEN($AW$72))),($BA82-1)*LEN($AW$72)+1,LEN($AW$72))) | BG82: =TRIM(MID(SUBSTITUTE($AW$73,$BA$64,REPT(" ",LEN($AW$73))),($BA82-1)*LEN($AW$73)+1,LEN($AW$73))) | BH82: =TRIM(MID(SUBSTITUTE($AW$74,$BA$64,REPT(" ",LEN($AW$74))),($BA82-1)*LEN($AW$74)+1,LEN($AW$74))) | BI82: =TRIM(MID(SUBSTITUTE($AW$75,$BA$64,REPT(" ",LEN($AW$75))),($BA82-1)*LEN($AW$75)+1,LEN($AW$75))) | BJ82: =TRIM(MID(SUBSTITUTE($AW$76,$BA$64,REPT(" ",LEN($AW$76))),($BA82-1)*LEN($AW$76)+1,LEN($AW$76))) | BK82: =TRIM(MID(SUBSTITUTE($AW$77,$BA$64,REPT(" ",LEN($AW$77))),($BA82-1)*LEN($AW$77)+1,LEN($AW$77))) | BL82: =TRIM(MID(SUBSTITUTE($AW$78,$BA$64,REPT(" ",LEN($AW$78))),($BA82-1)*LEN($AW$78)+1,LEN($AW$78))) | BM82: =TRIM(MID(SUBSTITUTE($AW$79,$BA$64,REPT(" ",LEN($AW$79))),($BA82-1)*LEN($AW$79)+1,LEN($AW$79))) | BN82: =TRIM(MID(SUBSTITUTE($AW$80,$BA$64,REPT(" ",LEN($AW$80))),($BA82-1)*LEN($AW$80)+1,LEN($AW$80))) | BO82: =TRIM(MID(SUBSTITUTE($AW$81,$BA$64,REPT(" ",LEN($AW$81))),($BA82-1)*LEN($AW$81)+1,LEN($AW$81))) | BP82: =TRIM(MID(SUBSTITUTE($AW$82,$BA$64,REPT(" ",LEN($AW$82))),($BA82-1)*LEN($AW$82)+1,LEN($AW$82))) | BQ82: =TRIM(MID(SUBSTITUTE($AW$83,$BA$64,REPT(" ",LEN($AW$83))),($BA82-1)*LEN($AW$83)+1,LEN($AW$83))) | BR82: =TRIM(MID(SUBSTITUTE($AW$84,$BA$64,REPT(" ",LEN($AW$84))),($BA82-1)*LEN($AW$84)+1,LEN($AW$84))) | BS82: =TRIM(MID(SUBSTITUTE($AW$85,$BA$64,REPT(" ",LEN($AW$85))),($BA82-1)*LEN($AW$85)+1,LEN($AW$85))) | BT82: =TRIM(MID(SUBSTITUTE($AW$86,$BA$64,REPT(" ",LEN($AW$86))),($BA82-1)*LEN($AW$86)+1,LEN($AW$86))) | BU82: =TRIM(MID(SUBSTITUTE($AW$87,$BA$64,REPT(" ",LEN($AW$87))),($BA82-1)*LEN($AW$87)+1,LEN($AW$87))) | BV82: =IF(BX82=0,"",CONCATENATE(BW82,"68:",BW82,BX82+67)) | BW82: BP | BX82: =BP66 -> 0
C83: =IF(D83="","",C26) | D83: =IF(OR(K26=0, K26=""),"",D26) | E83: =IF(AX83="","",AX83) | H83: =IF(D83="","",AB83) | I83: =IF(OR(K26="", K26=0),"",K26) | L83: =IFERROR(IF(D83="","",IF(AX83="Distinctiveness",(((((I83*AH83*AJ83)-(I83*V83*X83))*(AV83*AT83))+(I83*V83*X83))*(AP83))/10000,((((I83*AJ83*AH83)-(I83*V83*X83))*(AV83*AR83))+(I83*V83*X83))*AP83/10000)),"Error ▲") | M83: =IFERROR(IF(F83="","",L83-AD83), "Error ▲") | T83: =IF(D83="","",K26) | U83: =IF($D83="","",T26) | V83: =IF($D83="","",V26) | W83: =IF($D83="","",W26) | X83: =IF($D83="","",X26) | AB83: =IF($D83="","",AB26) | AC83: =IF($D83="","",AD26) | AD83: =IF(AC83="","",(T83*V83*X83)*AC83/10000) | AE83: =IF(AD83="","",IF(AH83<V83,"Not Acceptable","Acceptable")) | AF83: =IF(D83="","",I83) | AG83: =IF(D83="","",VLOOKUP(F83,'9. All Habitats + Multipliers'!$C$4:$K$102,5,FALSE)) | AH83: =IF(AG83="","",VLOOKUP(AG83,'11. Lists'!$B$47:$D$49,2,FALSE)) | AI83: =IF(D83="","",J83) | AJ83: =IF(AI83="","",VLOOKUP(AI83,'11. Lists'!$F$47:$G$51,2,FALSE)) | AN83: =IF(H83="","",H83) | AO83: =IF(AN83="","",VLOOKUP(AN83,'11. Lists'!$F$36:$H$38,2,FALSE)) | AP83: =IF(AN83="","",VLOOKUP(AN83,'11. Lists'!$F$36:$H$38,3,FALSE)) | AQ83: =IF(D83="","",IF(AX83="Distinctiveness","N/A",VLOOKUP(F83,'10. Condition and Temporal'!$B$6:$L$103,11,FALSE))) | AR83: =IF(AQ83="","",IF(AQ83="N/A","1",VLOOKUP(AQ83,'11. Lists'!$I$47:$K$80,3,FALSE))) | AS83: =IF(D83="","",IF(AX83="Condition","N/A",VLOOKUP(F83,'10. Condition and Temporal'!$B$6:$M$106,12,FALSE))) | AT83: =IF(AS83="","",IF(AS83="N/A","1",VLOOKUP(AS83,'11. Lists'!$I$47:$K$80,3,FALSE))) | AU83: =IF(D83="","",VLOOKUP(F83,'9. All Habitats + Multipliers'!$C$4:$K$102,8,FALSE)) | AV83: =IF(AU83="","",VLOOKUP(AU83,'11. Lists'!$J$35:$K$38,2,FALSE)) | AW83: =IF(D83="","",VLOOKUP(D83,'10. Condition and Temporal'!$B$6:$M$103,4,FALSE)) | AX83: =IF(F83="","",IF(D83=F83,"Condition","Distinctiveness")) | AY83: =IF(COUNTIF(F83,"*grassland*"),"Grassland",IF(COUNTIF(F83,"*scree*"),"Sparsely vegetated land",C83)) | BA83: 16 | BB83: =TRIM(MID(SUBSTITUTE($AW$68,$BA$64,REPT(" ",LEN($AW$68))),($BA83-1)*LEN($AW$68)+1,LEN($AW$68))) | BC83: =TRIM(MID(SUBSTITUTE($AW$69,$BA$64,REPT(" ",LEN($AW$69))),($BA83-1)*LEN($AW$69)+1,LEN($AW$69))) | BD83: =TRIM(MID(SUBSTITUTE($AW$70,$BA$64,REPT(" ",LEN($AW$70))),($BA83-1)*LEN($AW$70)+1,LEN($AW$70))) | BE83: =TRIM(MID(SUBSTITUTE($AW$71,$BA$64,REPT(" ",LEN($AW$71))),($BA83-1)*LEN($AW$71)+1,LEN($AW$71))) | BF83: =TRIM(MID(SUBSTITUTE($AW$72,$BA$64,REPT(" ",LEN($AW$72))),($BA83-1)*LEN($AW$72)+1,LEN($AW$72))) | BG83: =TRIM(MID(SUBSTITUTE($AW$73,$BA$64,REPT(" ",LEN($AW$73))),($BA83-1)*LEN($AW$73)+1,LEN($AW$73))) | BH83: =TRIM(MID(SUBSTITUTE($AW$74,$BA$64,REPT(" ",LEN($AW$74))),($BA83-1)*LEN($AW$74)+1,LEN($AW$74))) | BI83: =TRIM(MID(SUBSTITUTE($AW$75,$BA$64,REPT(" ",LEN($AW$75))),($BA83-1)*LEN($AW$75)+1,LEN($AW$75))) | BJ83: =TRIM(MID(SUBSTITUTE($AW$76,$BA$64,REPT(" ",LEN($AW$76))),($BA83-1)*LEN($AW$76)+1,LEN($AW$76))) | BK83: =TRIM(MID(SUBSTITUTE($AW$77,$BA$64,REPT(" ",LEN($AW$77))),($BA83-1)*LEN($AW$77)+1,LEN($AW$77))) | BL83: =TRIM(MID(SUBSTITUTE($AW$78,$BA$64,REPT(" ",LEN($AW$78))),($BA83-1)*LEN($AW$78)+1,LEN($AW$78))) | BM83: =TRIM(MID(SUBSTITUTE($AW$79,$BA$64,REPT(" ",LEN($AW$79))),($BA83-1)*LEN($AW$79)+1,LEN($AW$79))) | BN83: =TRIM(MID(SUBSTITUTE($AW$80,$BA$64,REPT(" ",LEN($AW$80))),($BA83-1)*LEN($AW$80)+1,LEN($AW$80))) | BO83: =TRIM(MID(SUBSTITUTE($AW$81,$BA$64,REPT(" ",LEN($AW$81))),($BA83-1)*LEN($AW$81)+1,LEN($AW$81))) | BP83: =TRIM(MID(SUBSTITUTE($AW$82,$BA$64,REPT(" ",LEN($AW$82))),($BA83-1)*LEN($AW$82)+1,LEN($AW$82))) | BQ83: =TRIM(MID(SUBSTITUTE($AW$83,$BA$64,REPT(" ",LEN($AW$83))),($BA83-1)*LEN($AW$83)+1,LEN($AW$83))) | BR83: =TRIM(MID(SUBSTITUTE($AW$84,$BA$64,REPT(" ",LEN($AW$84))),($BA83-1)*LEN($AW$84)+1,LEN($AW$84))) | BS83: =TRIM(MID(SUBSTITUTE($AW$85,$BA$64,REPT(" ",LEN($AW$85))),($BA83-1)*LEN($AW$85)+1,LEN($AW$85))) | BT83: =TRIM(MID(SUBSTITUTE($AW$86,$BA$64,REPT(" ",LEN($AW$86))),($BA83-1)*LEN($AW$86)+1,LEN($AW$86))) | BU83: =TRIM(MID(SUBSTITUTE($AW$87,$BA$64,REPT(" ",LEN($AW$87))),($BA83-1)*LEN($AW$87)+1,LEN($AW$87))) | BV83: =IF(BX83=0,"",CONCATENATE(BW83,"68:",BW83,BX83+67)) | BW83: BQ | BX83: =BQ66 -> 0
C84: =IF(D84="","",C27) | D84: =IF(OR(K27=0, K27=""),"",D27) | E84: =IF(AX84="","",AX84) | H84: =IF(D84="","",AB84) | I84: =IF(OR(K27="", K27=0),"",K27) | L84: =IFERROR(IF(D84="","",IF(AX84="Distinctiveness",(((((I84*AH84*AJ84)-(I84*V84*X84))*(AV84*AT84))+(I84*V84*X84))*(AP84))/10000,((((I84*AJ84*AH84)-(I84*V84*X84))*(AV84*AR84))+(I84*V84*X84))*AP84/10000)),"Error ▲") | M84: =IFERROR(IF(F84="","",L84-AD84), "Error ▲") | T84: =IF(D84="","",K27) | U84: =IF($D84="","",T27) | V84: =IF($D84="","",V27) | W84: =IF($D84="","",W27) | X84: =IF($D84="","",X27) | AB84: =IF($D84="","",AB27) | AC84: =IF($D84="","",AD27) | AD84: =IF(AC84="","",(T84*V84*X84)*AC84/10000) | AE84: =IF(AD84="","",IF(AH84<V84,"Not Acceptable","Acceptable")) | AF84: =IF(D84="","",I84) | AG84: =IF(D84="","",VLOOKUP(F84,'9. All Habitats + Multipliers'!$C$4:$K$102,5,FALSE)) | AH84: =IF(AG84="","",VLOOKUP(AG84,'11. Lists'!$B$47:$D$49,2,FALSE)) | AI84: =IF(D84="","",J84) | AJ84: =IF(AI84="","",VLOOKUP(AI84,'11. Lists'!$F$47:$G$51,2,FALSE)) | AN84: =IF(H84="","",H84) | AO84: =IF(AN84="","",VLOOKUP(AN84,'11. Lists'!$F$36:$H$38,2,FALSE)) | AP84: =IF(AN84="","",VLOOKUP(AN84,'11. Lists'!$F$36:$H$38,3,FALSE)) | AQ84: =IF(D84="","",IF(AX84="Distinctiveness","N/A",VLOOKUP(F84,'10. Condition and Temporal'!$B$6:$L$103,11,FALSE))) | AR84: =IF(AQ84="","",IF(AQ84="N/A","1",VLOOKUP(AQ84,'11. Lists'!$I$47:$K$80,3,FALSE))) | AS84: =IF(D84="","",IF(AX84="Condition","N/A",VLOOKUP(F84,'10. Condition and Temporal'!$B$6:$M$106,12,FALSE))) | AT84: =IF(AS84="","",IF(AS84="N/A","1",VLOOKUP(AS84,'11. Lists'!$I$47:$K$80,3,FALSE))) | AU84: =IF(D84="","",VLOOKUP(F84,'9. All Habitats + Multipliers'!$C$4:$K$102,8,FALSE)) | AV84: =IF(AU84="","",VLOOKUP(AU84,'11. Lists'!$J$35:$K$38,2,FALSE)) | AW84: =IF(D84="","",VLOOKUP(D84,'10. Condition and Temporal'!$B$6:$M$103,4,FALSE)) | AX84: =IF(F84="","",IF(D84=F84,"Condition","Distinctiveness")) | AY84: =IF(COUNTIF(F84,"*grassland*"),"Grassland",IF(COUNTIF(F84,"*scree*"),"Sparsely vegetated land",C84)) | BA84: 17 | BB84: =TRIM(MID(SUBSTITUTE($AW$68,$BA$64,REPT(" ",LEN($AW$68))),($BA84-1)*LEN($AW$68)+1,LEN($AW$68))) | BC84: =TRIM(MID(SUBSTITUTE($AW$69,$BA$64,REPT(" ",LEN($AW$69))),($BA84-1)*LEN($AW$69)+1,LEN($AW$69))) | BD84: =TRIM(MID(SUBSTITUTE($AW$70,$BA$64,REPT(" ",LEN($AW$70))),($BA84-1)*LEN($AW$70)+1,LEN($AW$70))) | BE84: =TRIM(MID(SUBSTITUTE($AW$71,$BA$64,REPT(" ",LEN($AW$71))),($BA84-1)*LEN($AW$71)+1,LEN($AW$71))) | BF84: =TRIM(MID(SUBSTITUTE($AW$72,$BA$64,REPT(" ",LEN($AW$72))),($BA84-1)*LEN($AW$72)+1,LEN($AW$72))) | BG84: =TRIM(MID(SUBSTITUTE($AW$73,$BA$64,REPT(" ",LEN($AW$73))),($BA84-1)*LEN($AW$73)+1,LEN($AW$73))) | BH84: =TRIM(MID(SUBSTITUTE($AW$74,$BA$64,REPT(" ",LEN($AW$74))),($BA84-1)*LEN($AW$74)+1,LEN($AW$74))) | BI84: =TRIM(MID(SUBSTITUTE($AW$75,$BA$64,REPT(" ",LEN($AW$75))),($BA84-1)*LEN($AW$75)+1,LEN($AW$75))) | BJ84: =TRIM(MID(SUBSTITUTE($AW$76,$BA$64,REPT(" ",LEN($AW$76))),($BA84-1)*LEN($AW$76)+1,LEN($AW$76))) | BK84: =TRIM(MID(SUBSTITUTE($AW$77,$BA$64,REPT(" ",LEN($AW$77))),($BA84-1)*LEN($AW$77)+1,LEN($AW$77))) | BL84: =TRIM(MID(SUBSTITUTE($AW$78,$BA$64,REPT(" ",LEN($AW$78))),($BA84-1)*LEN($AW$78)+1,LEN($AW$78))) | BM84: =TRIM(MID(SUBSTITUTE($AW$79,$BA$64,REPT(" ",LEN($AW$79))),($BA84-1)*LEN($AW$79)+1,LEN($AW$79))) | BN84: =TRIM(MID(SUBSTITUTE($AW$80,$BA$64,REPT(" ",LEN($AW$80))),($BA84-1)*LEN($AW$80)+1,LEN($AW$80))) | BO84: =TRIM(MID(SUBSTITUTE($AW$81,$BA$64,REPT(" ",LEN($AW$81))),($BA84-1)*LEN($AW$81)+1,LEN($AW$81))) | BP84: =TRIM(MID(SUBSTITUTE($AW$82,$BA$64,REPT(" ",LEN($AW$82))),($BA84-1)*LEN($AW$82)+1,LEN($AW$82))) | BQ84: =TRIM(MID(SUBSTITUTE($AW$83,$BA$64,REPT(" ",LEN($AW$83))),($BA84-1)*LEN($AW$83)+1,LEN($AW$83))) | BR84: =TRIM(MID(SUBSTITUTE($AW$84,$BA$64,REPT(" ",LEN($AW$84))),($BA84-1)*LEN($AW$84)+1,LEN($AW$84))) | BS84: =TRIM(MID(SUBSTITUTE($AW$85,$BA$64,REPT(" ",LEN($AW$85))),($BA84-1)*LEN($AW$85)+1,LEN($AW$85))) | BT84: =TRIM(MID(SUBSTITUTE($AW$86,$BA$64,REPT(" ",LEN($AW$86))),($BA84-1)*LEN($AW$86)+1,LEN($AW$86))) | BU84: =TRIM(MID(SUBSTITUTE($AW$87,$BA$64,REPT(" ",LEN($AW$87))),($BA84-1)*LEN($AW$87)+1,LEN($AW$87))) | BV84: =IF(BX84=0,"",CONCATENATE(BW84,"68:",BW84,BX84+67)) | BW84: BR | BX84: =BR66 -> 0
C85: =IF(D85="","",C28) | D85: =IF(OR(K28=0, K28=""),"",D28) | E85: =IF(AX85="","",AX85) | H85: =IF(D85="","",AB85) | I85: =IF(OR(K28="", K28=0),"",K28) | L85: =IFERROR(IF(D85="","",IF(AX85="Distinctiveness",(((((I85*AH85*AJ85)-(I85*V85*X85))*(AV85*AT85))+(I85*V85*X85))*(AP85))/10000,((((I85*AJ85*AH85)-(I85*V85*X85))*(AV85*AR85))+(I85*V85*X85))*AP85/10000)),"Error ▲") | M85: =IFERROR(IF(F85="","",L85-AD85), "Error ▲") | T85: =IF(D85="","",K28) | U85: =IF($D85="","",T28) | V85: =IF($D85="","",V28) | W85: =IF($D85="","",W28) | X85: =IF($D85="","",X28) | AB85: =IF($D85="","",AB28) | AC85: =IF($D85="","",AD28) | AD85: =IF(AC85="","",(T85*V85*X85)*AC85/10000) | AE85: =IF(AD85="","",IF(AH85<V85,"Not Acceptable","Acceptable")) | AF85: =IF(D85="","",I85) | AG85: =IF(D85="","",VLOOKUP(F85,'9. All Habitats + Multipliers'!$C$4:$K$102,5,FALSE)) | AH85: =IF(AG85="","",VLOOKUP(AG85,'11. Lists'!$B$47:$D$49,2,FALSE)) | AI85: =IF(D85="","",J85) | AJ85: =IF(AI85="","",VLOOKUP(AI85,'11. Lists'!$F$47:$G$51,2,FALSE)) | AN85: =IF(H85="","",H85) | AO85: =IF(AN85="","",VLOOKUP(AN85,'11. Lists'!$F$36:$H$38,2,FALSE)) | AP85: =IF(AN85="","",VLOOKUP(AN85,'11. Lists'!$F$36:$H$38,3,FALSE)) | AQ85: =IF(D85="","",IF(AX85="Distinctiveness","N/A",VLOOKUP(F85,'10. Condition and Temporal'!$B$6:$L$103,11,FALSE))) | AR85: =IF(AQ85="","",IF(AQ85="N/A","1",VLOOKUP(AQ85,'11. Lists'!$I$47:$K$80,3,FALSE))) | AS85: =IF(D85="","",IF(AX85="Condition","N/A",VLOOKUP(F85,'10. Condition and Temporal'!$B$6:$M$106,12,FALSE))) | AT85: =IF(AS85="","",IF(AS85="N/A","1",VLOOKUP(AS85,'11. Lists'!$I$47:$K$80,3,FALSE))) | AU85: =IF(D85="","",VLOOKUP(F85,'9. All Habitats + Multipliers'!$C$4:$K$102,8,FALSE)) | AV85: =IF(AU85="","",VLOOKUP(AU85,'11. Lists'!$J$35:$K$38,2,FALSE)) | AW85: =IF(D85="","",VLOOKUP(D85,'10. Condition and Temporal'!$B$6:$M$103,4,FALSE)) | AX85: =IF(F85="","",IF(D85=F85,"Condition","Distinctiveness")) | AY85: =IF(COUNTIF(F85,"*grassland*"),"Grassland",IF(COUNTIF(F85,"*scree*"),"Sparsely vegetated land",C85)) | BA85: 18 | BB85: =TRIM(MID(SUBSTITUTE($AW$68,$BA$64,REPT(" ",LEN($AW$68))),($BA85-1)*LEN($AW$68)+1,LEN($AW$68))) | BC85: =TRIM(MID(SUBSTITUTE($AW$69,$BA$64,REPT(" ",LEN($AW$69))),($BA85-1)*LEN($AW$69)+1,LEN($AW$69))) | BD85: =TRIM(MID(SUBSTITUTE($AW$70,$BA$64,REPT(" ",LEN($AW$70))),($BA85-1)*LEN($AW$70)+1,LEN($AW$70))) | BE85: =TRIM(MID(SUBSTITUTE($AW$71,$BA$64,REPT(" ",LEN($AW$71))),($BA85-1)*LEN($AW$71)+1,LEN($AW$71))) | BF85: =TRIM(MID(SUBSTITUTE($AW$72,$BA$64,REPT(" ",LEN($AW$72))),($BA85-1)*LEN($AW$72)+1,LEN($AW$72))) | BG85: =TRIM(MID(SUBSTITUTE($AW$73,$BA$64,REPT(" ",LEN($AW$73))),($BA85-1)*LEN($AW$73)+1,LEN($AW$73))) | BH85: =TRIM(MID(SUBSTITUTE($AW$74,$BA$64,REPT(" ",LEN($AW$74))),($BA85-1)*LEN($AW$74)+1,LEN($AW$74))) | BI85: =TRIM(MID(SUBSTITUTE($AW$75,$BA$64,REPT(" ",LEN($AW$75))),($BA85-1)*LEN($AW$75)+1,LEN($AW$75))) | BJ85: =TRIM(MID(SUBSTITUTE($AW$76,$BA$64,REPT(" ",LEN($AW$76))),($BA85-1)*LEN($AW$76)+1,LEN($AW$76))) | BK85: =TRIM(MID(SUBSTITUTE($AW$77,$BA$64,REPT(" ",LEN($AW$77))),($BA85-1)*LEN($AW$77)+1,LEN($AW$77))) | BL85: =TRIM(MID(SUBSTITUTE($AW$78,$BA$64,REPT(" ",LEN($AW$78))),($BA85-1)*LEN($AW$78)+1,LEN($AW$78))) | BM85: =TRIM(MID(SUBSTITUTE($AW$79,$BA$64,REPT(" ",LEN($AW$79))),($BA85-1)*LEN($AW$79)+1,LEN($AW$79))) | BN85: =TRIM(MID(SUBSTITUTE($AW$80,$BA$64,REPT(" ",LEN($AW$80))),($BA85-1)*LEN($AW$80)+1,LEN($AW$80))) | BO85: =TRIM(MID(SUBSTITUTE($AW$81,$BA$64,REPT(" ",LEN($AW$81))),($BA85-1)*LEN($AW$81)+1,LEN($AW$81))) | BP85: =TRIM(MID(SUBSTITUTE($AW$82,$BA$64,REPT(" ",LEN($AW$82))),($BA85-1)*LEN($AW$82)+1,LEN($AW$82))) | BQ85: =TRIM(MID(SUBSTITUTE($AW$83,$BA$64,REPT(" ",LEN($AW$83))),($BA85-1)*LEN($AW$83)+1,LEN($AW$83))) | BR85: =TRIM(MID(SUBSTITUTE($AW$84,$BA$64,REPT(" ",LEN($AW$84))),($BA85-1)*LEN($AW$84)+1,LEN($AW$84))) | BS85: =TRIM(MID(SUBSTITUTE($AW$85,$BA$64,REPT(" ",LEN($AW$85))),($BA85-1)*LEN($AW$85)+1,LEN($AW$85))) | BT85: =TRIM(MID(SUBSTITUTE($AW$86,$BA$64,REPT(" ",LEN($AW$86))),($BA85-1)*LEN($AW$86)+1,LEN($AW$86))) | BU85: =TRIM(MID(SUBSTITUTE($AW$87,$BA$64,REPT(" ",LEN($AW$87))),($BA85-1)*LEN($AW$87)+1,LEN($AW$87))) | BV85: =IF(BX85=0,"",CONCATENATE(BW85,"68:",BW85,BX85+67)) | BW85: BS | BX85: =BS66 -> 0
C86: =IF(D86="","",C29) | D86: =IF(OR(K29=0, K29=""),"",D29) | E86: =IF(AX86="","",AX86) | H86: =IF(D86="","",AB86) | I86: =IF(OR(K29="", K29=0),"",K29) | L86: =IFERROR(IF(D86="","",IF(AX86="Distinctiveness",(((((I86*AH86*AJ86)-(I86*V86*X86))*(AV86*AT86))+(I86*V86*X86))*(AP86))/10000,((((I86*AJ86*AH86)-(I86*V86*X86))*(AV86*AR86))+(I86*V86*X86))*AP86/10000)),"Error ▲") | M86: =IFERROR(IF(F86="","",L86-AD86), "Error ▲") | T86: =IF(D86="","",K29) | U86: =IF($D86="","",T29) | V86: =IF($D86="","",V29) | W86: =IF($D86="","",W29) | X86: =IF($D86="","",X29) | AB86: =IF($D86="","",AB29) | AC86: =IF($D86="","",AD29) | AD86: =IF(AC86="","",(T86*V86*X86)*AC86/10000) | AE86: =IF(AD86="","",IF(AH86<V86,"Not Acceptable","Acceptable")) | AF86: =IF(D86="","",I86) | AG86: =IF(D86="","",VLOOKUP(F86,'9. All Habitats + Multipliers'!$C$4:$K$102,5,FALSE)) | AH86: =IF(AG86="","",VLOOKUP(AG86,'11. Lists'!$B$47:$D$49,2,FALSE)) | AI86: =IF(D86="","",J86) | AJ86: =IF(AI86="","",VLOOKUP(AI86,'11. Lists'!$F$47:$G$51,2,FALSE)) | AN86: =IF(H86="","",H86) | AO86: =IF(AN86="","",VLOOKUP(AN86,'11. Lists'!$F$36:$H$38,2,FALSE)) | AP86: =IF(AN86="","",VLOOKUP(AN86,'11. Lists'!$F$36:$H$38,3,FALSE)) | AQ86: =IF(D86="","",IF(AX86="Distinctiveness","N/A",VLOOKUP(F86,'10. Condition and Temporal'!$B$6:$L$103,11,FALSE))) | AR86: =IF(AQ86="","",IF(AQ86="N/A","1",VLOOKUP(AQ86,'11. Lists'!$I$47:$K$80,3,FALSE))) | AS86: =IF(D86="","",IF(AX86="Condition","N/A",VLOOKUP(F86,'10. Condition and Temporal'!$B$6:$M$106,12,FALSE))) | AT86: =IF(AS86="","",IF(AS86="N/A","1",VLOOKUP(AS86,'11. Lists'!$I$47:$K$80,3,FALSE))) | AU86: =IF(D86="","",VLOOKUP(F86,'9. All Habitats + Multipliers'!$C$4:$K$102,8,FALSE)) | AV86: =IF(AU86="","",VLOOKUP(AU86,'11. Lists'!$J$35:$K$38,2,FALSE)) | AW86: =IF(D86="","",VLOOKUP(D86,'10. Condition and Temporal'!$B$6:$M$103,4,FALSE)) | AX86: =IF(F86="","",IF(D86=F86,"Condition","Distinctiveness")) | AY86: =IF(COUNTIF(F86,"*grassland*"),"Grassland",IF(COUNTIF(F86,"*scree*"),"Sparsely vegetated land",C86)) | BA86: 19 | BB86: =TRIM(MID(SUBSTITUTE($AW$68,$BA$64,REPT(" ",LEN($AW$68))),($BA86-1)*LEN($AW$68)+1,LEN($AW$68))) | BC86: =TRIM(MID(SUBSTITUTE($AW$69,$BA$64,REPT(" ",LEN($AW$69))),($BA86-1)*LEN($AW$69)+1,LEN($AW$69))) | BD86: =TRIM(MID(SUBSTITUTE($AW$70,$BA$64,REPT(" ",LEN($AW$70))),($BA86-1)*LEN($AW$70)+1,LEN($AW$70))) | BE86: =TRIM(MID(SUBSTITUTE($AW$71,$BA$64,REPT(" ",LEN($AW$71))),($BA86-1)*LEN($AW$71)+1,LEN($AW$71))) | BF86: =TRIM(MID(SUBSTITUTE($AW$72,$BA$64,REPT(" ",LEN($AW$72))),($BA86-1)*LEN($AW$72)+1,LEN($AW$72))) | BG86: =TRIM(MID(SUBSTITUTE($AW$73,$BA$64,REPT(" ",LEN($AW$73))),($BA86-1)*LEN($AW$73)+1,LEN($AW$73))) | BH86: =TRIM(MID(SUBSTITUTE($AW$74,$BA$64,REPT(" ",LEN($AW$74))),($BA86-1)*LEN($AW$74)+1,LEN($AW$74))) | BI86: =TRIM(MID(SUBSTITUTE($AW$75,$BA$64,REPT(" ",LEN($AW$75))),($BA86-1)*LEN($AW$75)+1,LEN($AW$75))) | BJ86: =TRIM(MID(SUBSTITUTE($AW$76,$BA$64,REPT(" ",LEN($AW$76))),($BA86-1)*LEN($AW$76)+1,LEN($AW$76))) | BK86: =TRIM(MID(SUBSTITUTE($AW$77,$BA$64,REPT(" ",LEN($AW$77))),($BA86-1)*LEN($AW$77)+1,LEN($AW$77))) | BL86: =TRIM(MID(SUBSTITUTE($AW$78,$BA$64,REPT(" ",LEN($AW$78))),($BA86-1)*LEN($AW$78)+1,LEN($AW$78))) | BM86: =TRIM(MID(SUBSTITUTE($AW$79,$BA$64,REPT(" ",LEN($AW$79))),($BA86-1)*LEN($AW$79)+1,LEN($AW$79))) | BN86: =TRIM(MID(SUBSTITUTE($AW$80,$BA$64,REPT(" ",LEN($AW$80))),($BA86-1)*LEN($AW$80)+1,LEN($AW$80))) | BO86: =TRIM(MID(SUBSTITUTE($AW$81,$BA$64,REPT(" ",LEN($AW$81))),($BA86-1)*LEN($AW$81)+1,LEN($AW$81))) | BP86: =TRIM(MID(SUBSTITUTE($AW$82,$BA$64,REPT(" ",LEN($AW$82))),($BA86-1)*LEN($AW$82)+1,LEN($AW$82))) | BQ86: =TRIM(MID(SUBSTITUTE($AW$83,$BA$64,REPT(" ",LEN($AW$83))),($BA86-1)*LEN($AW$83)+1,LEN($AW$83))) | BR86: =TRIM(MID(SUBSTITUTE($AW$84,$BA$64,REPT(" ",LEN($AW$84))),($BA86-1)*LEN($AW$84)+1,LEN($AW$84))) | BS86: =TRIM(MID(SUBSTITUTE($AW$85,$BA$64,REPT(" ",LEN($AW$85))),($BA86-1)*LEN($AW$85)+1,LEN($AW$85))) | BT86: =TRIM(MID(SUBSTITUTE($AW$86,$BA$64,REPT(" ",LEN($AW$86))),($BA86-1)*LEN($AW$86)+1,LEN($AW$86))) | BU86: =TRIM(MID(SUBSTITUTE($AW$87,$BA$64,REPT(" ",LEN($AW$87))),($BA86-1)*LEN($AW$87)+1,LEN($AW$87))) | BV86: =IF(BX86=0,"",CONCATENATE(BW86,"68:",BW86,BX86+67)) | BW86: BT | BX86: =BT66 -> 0
C87: =IF(D87="","",C30) | D87: =IF(OR(K30=0, K30=""),"",D30) | E87: =IF(AX87="","",AX87) | H87: =IF(D87="","",AB87) | I87: =IF(OR(K30="", K30=0),"",K30) | L87: =IFERROR(IF(D87="","",IF(AX87="Distinctiveness",(((((I87*AH87*AJ87)-(I87*V87*X87))*(AV87*AT87))+(I87*V87*X87))*(AP87))/10000,((((I87*AJ87*AH87)-(I87*V87*X87))*(AV87*AR87))+(I87*V87*X87))*AP87/10000)),"Error ▲") | M87: =IFERROR(IF(F87="","",L87-AD87), "Error ▲") | T87: =IF(D87="","",K30) | U87: =IF($D87="","",T30) | V87: =IF($D87="","",V30) | W87: =IF($D87="","",W30) | X87: =IF($D87="","",X30) | AB87: =IF($D87="","",AB30) | AC87: =IF($D87="","",AD30) | AD87: =IF(AC87="","",(T87*V87*X87)*AC87/10000) | AE87: =IF(AD87="","",IF(AH87<V87,"Not Acceptable","Acceptable")) | AF87: =IF(D87="","",I87) | AG87: =IF(D87="","",VLOOKUP(F87,'9. All Habitats + Multipliers'!$C$4:$K$102,5,FALSE)) | AH87: =IF(AG87="","",VLOOKUP(AG87,'11. Lists'!$B$47:$D$49,2,FALSE)) | AI87: =IF(D87="","",J87) | AJ87: =IF(AI87="","",VLOOKUP(AI87,'11. Lists'!$F$47:$G$51,2,FALSE)) | AN87: =IF(H87="","",H87) | AO87: =IF(AN87="","",VLOOKUP(AN87,'11. Lists'!$F$36:$H$38,2,FALSE)) | AP87: =IF(AN87="","",VLOOKUP(AN87,'11. Lists'!$F$36:$H$38,3,FALSE)) | AQ87: =IF(D87="","",IF(AX87="Distinctiveness","N/A",VLOOKUP(F87,'10. Condition and Temporal'!$B$6:$L$103,11,FALSE))) | AR87: =IF(AQ87="","",IF(AQ87="N/A","1",VLOOKUP(AQ87,'11. Lists'!$I$47:$K$80,3,FALSE))) | AS87: =IF(D87="","",IF(AX87="Condition","N/A",VLOOKUP(F87,'10. Condition and Temporal'!$B$6:$M$106,12,FALSE))) | AT87: =IF(AS87="","",IF(AS87="N/A","1",VLOOKUP(AS87,'11. Lists'!$I$47:$K$80,3,FALSE))) | AU87: =IF(D87="","",VLOOKUP(F87,'9. All Habitats + Multipliers'!$C$4:$K$102,8,FALSE)) | AV87: =IF(AU87="","",VLOOKUP(AU87,'11. Lists'!$J$35:$K$38,2,FALSE)) | AW87: =IF(D87="","",VLOOKUP(D87,'10. Condition and Temporal'!$B$6:$M$103,4,FALSE)) | AX87: =IF(F87="","",IF(D87=F87,"Condition","Distinctiveness")) | AY87: =IF(COUNTIF(F87,"*grassland*"),"Grassland",IF(COUNTIF(F87,"*scree*"),"Sparsely vegetated land",C87)) | BA87: 20 | BB87: =TRIM(MID(SUBSTITUTE($AW$68,$BA$64,REPT(" ",LEN($AW$68))),($BA87-1)*LEN($AW$68)+1,LEN($AW$68))) | BC87: =TRIM(MID(SUBSTITUTE($AW$69,$BA$64,REPT(" ",LEN($AW$69))),($BA87-1)*LEN($AW$69)+1,LEN($AW$69))) | BD87: =TRIM(MID(SUBSTITUTE($AW$70,$BA$64,REPT(" ",LEN($AW$70))),($BA87-1)*LEN($AW$70)+1,LEN($AW$70))) | BE87: =TRIM(MID(SUBSTITUTE($AW$71,$BA$64,REPT(" ",LEN($AW$71))),($BA87-1)*LEN($AW$71)+1,LEN($AW$71))) | BF87: =TRIM(MID(SUBSTITUTE($AW$72,$BA$64,REPT(" ",LEN($AW$72))),($BA87-1)*LEN($AW$72)+1,LEN($AW$72))) | BG87: =TRIM(MID(SUBSTITUTE($AW$73,$BA$64,REPT(" ",LEN($AW$73))),($BA87-1)*LEN($AW$73)+1,LEN($AW$73))) | BH87: =TRIM(MID(SUBSTITUTE($AW$74,$BA$64,REPT(" ",LEN($AW$74))),($BA87-1)*LEN($AW$74)+1,LEN($AW$74))) | BI87: =TRIM(MID(SUBSTITUTE($AW$75,$BA$64,REPT(" ",LEN($AW$75))),($BA87-1)*LEN($AW$75)+1,LEN($AW$75))) | BJ87: =TRIM(MID(SUBSTITUTE($AW$76,$BA$64,REPT(" ",LEN($AW$76))),($BA87-1)*LEN($AW$76)+1,LEN($AW$76))) | BK87: =TRIM(MID(SUBSTITUTE($AW$77,$BA$64,REPT(" ",LEN($AW$77))),($BA87-1)*LEN($AW$77)+1,LEN($AW$77))) | BL87: =TRIM(MID(SUBSTITUTE($AW$78,$BA$64,REPT(" ",LEN($AW$78))),($BA87-1)*LEN($AW$78)+1,LEN($AW$78))) | BM87: =TRIM(MID(SUBSTITUTE($AW$79,$BA$64,REPT(" ",LEN($AW$79))),($BA87-1)*LEN($AW$79)+1,LEN($AW$79))) | BN87: =TRIM(MID(SUBSTITUTE($AW$80,$BA$64,REPT(" ",LEN($AW$80))),($BA87-1)*LEN($AW$80)+1,LEN($AW$80))) | BO87: =TRIM(MID(SUBSTITUTE($AW$81,$BA$64,REPT(" ",LEN($AW$81))),($BA87-1)*LEN($AW$81)+1,LEN($AW$81))) | BP87: =TRIM(MID(SUBSTITUTE($AW$82,$BA$64,REPT(" ",LEN($AW$82))),($BA87-1)*LEN($AW$82)+1,LEN($AW$82))) | BQ87: =TRIM(MID(SUBSTITUTE($AW$83,$BA$64,REPT(" ",LEN($AW$83))),($BA87-1)*LEN($AW$83)+1,LEN($AW$83))) | BR87: =TRIM(MID(SUBSTITUTE($AW$84,$BA$64,REPT(" ",LEN($AW$84))),($BA87-1)*LEN($AW$84)+1,LEN($AW$84))) | BS87: =TRIM(MID(SUBSTITUTE($AW$85,$BA$64,REPT(" ",LEN($AW$85))),($BA87-1)*LEN($AW$85)+1,LEN($AW$85))) | BT87: =TRIM(MID(SUBSTITUTE($AW$86,$BA$64,REPT(" ",LEN($AW$86))),($BA87-1)*LEN($AW$86)+1,LEN($AW$86))) | BU87: =TRIM(MID(SUBSTITUTE($AW$87,$BA$64,REPT(" ",LEN($AW$87))),($BA87-1)*LEN($AW$87)+1,LEN($AW$87))) | BV87: =IF(BX87=0,"",CONCATENATE(BW87,"68:",BW87,BX87+67)) | BW87: BU | BX87: =BU66 -> 0
E88: =IF(AX88="","",AX88) | L88: =IFERROR(IF(D88="","",IF(AX88="Distinctiveness",(((((I88*AH88*AJ88)-(I88*V88*X88))*(AV88*AT88))+(I88*V88*X88))*(AP88))/10000,((((I88*AJ88*AH88)-(I88*V88*X88))*(AV88*AR88))+(I88*V88*X88))*AP88/10000)),"This intervention is not permitted within the SSM ▲") | T88: =IF(D88="","",K31) | U88: =IF($D88="","",T31) | V88: =IF($D88="","",V31) | W88: =IF($D88="","",W31) | X88: =IF($D88="","",X31) | AB88: =IF($D88="","",AB31) | AC88: =IF($D88="","",AD31) | AD88: =IF(AC88="","",(T88*V88*X88)*(AA88*AC88)/10000) | AE88: =IF(AD88="","",IF(AH88<V88,"Not Acceptable","Acceptable")) | AF88: =IF(D88="","",I88) | AG88: =IF(D88="","",VLOOKUP(F88,'9. All Habitats + Multipliers'!$C$4:$K$102,5,FALSE)) | AH88: =IF(AG88="","",VLOOKUP(AG88,'11. Lists'!$B$47:$D$49,2,FALSE)) | AI88: =IF(D88="","",J88) | AJ88: =IF(AI88="","",VLOOKUP(AI88,'11. Lists'!$F$47:$G$51,2,FALSE)) | AN88: =IF(H88="","",H88) | AO88: =IF(AN88="","",VLOOKUP(AN88,'11. Lists'!$F$36:$H$38,2,FALSE)) | AP88: =IF(AN88="","",VLOOKUP(AN88,'11. Lists'!$F$36:$H$38,3,FALSE)) | AQ88: =IF(D88="","",VLOOKUP(F88,'10. Condition and Temporal'!$B$6:$L$103,11,FALSE)) | AR88: =IF(AQ88="","",VLOOKUP(AQ88,'11. Lists'!$I$47:$K$80,3,FALSE)) | AS88: =IF(D88="","",VLOOKUP(F88,'10. Condition and Temporal'!$B$6:$M$106,12,FALSE)) | AT88: =IF(AS88="","",IF(AS88="N/A","1",VLOOKUP(AS88,'11. Lists'!$I$47:$K$80,3,FALSE))) | AU88: =IF(D88="","",VLOOKUP(F88,'9. All Habitats + Multipliers'!$C$4:$K$102,8,FALSE)) | AV88: =IF(AU88="","",VLOOKUP(AU88,'11. Lists'!$J$35:$K$38,2,FALSE)) | AW88: =IF(D88="","",VLOOKUP(D88,'10. Condition and Temporal'!$B$6:$M$103,4,FALSE)) | AX88: =IF(F88="","",IF(D88=F88,"Condition","Distinctivness")) | AY88: =C88 -> 0
I89: =SUM(I68:I88) -> 6000 | L89: =SUM(L68:L88) -> 3.8064391 | M89: =SUM(M68:N88) -> 1.4064391
B91: 1d. - Tree area calculator
B93: Tree size (Diameter at breast height) | D93: A. Total number of trees pre development | E93: B. Number of trees retained (but not enhanced) | G93: C. Number of new trees planted post development | I93: Areas
I94: Area pre development | L94: Area retained | O94: Area of new trees planted post development
B95: Small -DBH ≤ 30cm | I95: =D95*'11. Lists'!P47 -> 0 | L95: =IF(E95>D95, "Error ▲", E95*'11. Lists'!P47) -> 0 | O95: =G95*'11. Lists'!P47 -> 0
B96: Medium - DBH > 30 to ≤ 60cm | I96: =D96*'11. Lists'!P48 -> 0 | L96: =IF(E96>D96,"Error ▲",(E96*'11. Lists'!P48)) -> 0 | O96: =G96*'11. Lists'!P48 -> 0
B97: Large - DBH > 60 to ≤ 90cm | I97: =D97*'11. Lists'!P49 -> 0 | L97: =IF(E97>D97,"Error ▲",(E97*'11. Lists'!P49)) -> 0 | O97: =G97*'11. Lists'!P49 -> 0
B98: Very Large - DBH > 90cm | I98: =D98*'11. Lists'!P50 -> 0 | L98: =IF(E98>D98,"Error ▲",(E98*'11. Lists'!P50)) -> 0 | O98: =G98*'11. Lists'!P50 -> 0
B99: Total | D99: =SUM(D95:D98) -> 0 | E99: =SUM(E95:F98) -> 0 | G99: =SUM(G95:H98) -> 0 | I99: =SUM(I95:K98) -> 0 | L99: =SUM(L95:N98) -> 0 | O99: =SUM(O95:P98) -> 0
E100: =IFERROR(IF(OR(E95>D95, E96>D96, E97>D97, E98>D98), "Error - trees retained and lost is greater than number of pre-development trees ▲", ""), "Error ▲")
A102: Data beyond this row is automated
B106: 1e . Trading Summary
B108: Broad Habitat Type - Medium Distinctiveness Habitats | E108: =IF(SUM(J114:J135)>0,"Error - Trading Rules Not Satisfied - Insufficient Units Created Within Habitat Groups ▲", "Trading Rules Satisfied ✓") -> Trading Rules Satisfied ✓ | J108: =IFERROR(FIND("Error",E108),0) -> 0
B109: Medium and Low Distinctiveness Band | E109: =IF(SUM(J138:J140)>0,"Error - Trading Rules Not Satisfied - Insufficient Biodiversity Units Created ▲","Trading Rules Satisfied ✓") -> Trading Rules Satisfied ✓ | J109: =IFERROR(FIND("Error",E109),0) -> 0
B111: 1f . Habitat trading assessment
B113: Broad habitat types | E113: Distinctiveness band | F113: Baseline units | G113: Onsite provision | H113: Net change | I113: Trading satisfied?
B114: Cropland | E114: Low | F114: =SUMIFS($L$11:$L$30,$C$11:$C$30,$B114,$T$11:$T$30,$E114) -> 0 | G114: =SUMIFS($L$40:$L$59,$C$40:$C$59,$B114,$T$40:$T$59,$E114)+SUMIFS($L$68:$L$87,AY68:AY87,B114,$AG$68:$AG$87,E114)+SUMIFS($AE$11:$AE$31,$C$11:$C$31,B114,$T$11:$T$31,E114) -> 0 | H114: =G114-F114 -> 0 | I114: -
E115: Medium | F115: =SUMIFS($L$11:$L$30,$C$11:$C$30,$B114,$T$11:$T$30,$E115) -> 0 | G115: =SUMIFS($L$40:$L$59,$C$40:$C$59,$B114,$T$40:$T$59,$E115)+SUMIFS($L$68:$L$87,AY68:AY87,B114,$AG$68:$AG$87,E115)+SUMIFS($AE$11:$AE$31,$C$11:$C$31,B114,$T$11:$T$31,E115) -> 0 | H115: =G115-F115 -> 0 | I115: =IF(F115=0,"N/A",IF(H115<0,"No ▲","Yes ✓")) -> N/A | J115: =IF(I115="No ▲",1,0) -> 0
B116: Grassland | E116: Low | F116: =SUMIFS($L$11:$L$30,$C$11:$C$30,$B116,$T$11:$T$30,$E116) -> 2.546452 | G116: =SUMIFS($L$40:$L$59,$C$40:$C$59,$B116,$T$40:$T$59,$E116)+SUMIFS($L$68:$L$87,AY68:AY87,B116,$AG$68:$AG$87,E116)+SUMIFS($AE$11:$AE$31,$C$11:$C$31,B116,$T$11:$T$31,E116) -> 0 | H116: =G116-F116 -> -2.546452 | I116: -
E117: Medium | F117: =SUMIFS($L$11:$L$30,$C$11:$C$30,$B116,$T$11:$T$30,$E117) -> 0 | G117: =SUMIFS($L$40:$L$59,$C$40:$C$59,$B116,$T$40:$T$59,$E117)+SUMIFS($L$68:$L$87,AY68:AY87,B116,$AG$68:$AG$87,E117)+SUMIFS($AE$11:$AE$31,$C$11:$C$31,B116,$T$11:$T$31,E117) -> 3.8064391 | H117: =G117-F117 -> 3.8064391 | I117: =IF(F117=0,"N/A",IF(H117<0,"No ▲","Yes ✓")) -> N/A | J117: =IF(I117="No ▲",1,0) -> 0
B118: Heathland and shrub | E118: Low | F118: =SUMIFS($L$11:$L$30,$C$11:$C$30,$B118,$T$11:$T$30,$E118) -> 0 | G118: =SUMIFS($L$40:$L$59,$C$40:$C$59,$B118,$T$40:$T$59,$E118)+SUMIFS($L$68:$L$87,$C$68:$C$87,B118,$AG$68:$AG$87,E118)+SUMIFS($AE$11:$AE$31,$C$11:$C$31,B118,$T$11:$T$31,E118) -> 0 | H118: =G118-F118 -> 0 | I118: -
E119: Medium | F119: =SUMIFS($L$11:$L$30,$C$11:$C$30,$B118,$T$11:$T$30,$E119) -> 0 | G119: =SUMIFS($L$40:$L$59,$C$40:$C$59,$B118,$T$40:$T$59,$E119)+SUMIFS($L$68:$L$87,$C$68:$C$87,B118,$AG$68:$AG$87,E119)+SUMIFS($AE$11:$AE$31,$C$11:$C$31,B118,$T$11:$T$31,E119) -> 0 | H119: =G119-F119 -> 0 | I119: =IF(F119=0,"N/A",IF(H119<0,"No ▲","Yes ✓")) -> N/A | J119: =IF(I119="No ▲",1,0) -> 0
B120: Intertidal hard structures | E120: Low | F120: =SUMIFS($L$11:$L$30,$C$11:$C$30,$B120,$T$11:$T$30,$E120) -> 0 | G120: =SUMIFS($L$40:$L$59,$C$40:$C$59,$B120,$T$40:$T$59,$E120)+SUMIFS($L$68:$L$87,$C$68:$C$87,B120,$AG$68:$AG$87,E120)+SUMIFS($AE$11:$AE$31,$C$11:$C$31,B120,$T$11:$T$31,E120) -> 0 | H120: =G120-F120 -> 0 | I120: -
E121: Medium | F121: =SUMIFS($L$11:$L$30,$C$11:$C$30,$B120,$T$11:$T$30,$E121) -> 0 | G121: =SUMIFS($L$40:$L$59,$C$40:$C$59,$B120,$T$40:$T$59,$E121)+SUMIFS($L$68:$L$87,$C$68:$C$87,B120,$AG$68:$AG$87,E121)+SUMIFS($AE$11:$AE$31,$C$11:$C$31,B120,$T$11:$T$31,E121) -> 0 | H121: =G121-F121 -> 0 | I121: =IF(F121=0,"N/A",IF(H121<0,"No ▲","Yes ✓")) -> N/A | J121: =IF(I121="No ▲",1,0) -> 0
B122: Intertidal sediment | E122: Low | F122: =SUMIFS($L$11:$L$30,$C$11:$C$30,$B122,$T$11:$T$30,$E122) -> 0 | G122: =SUMIFS($L$40:$L$59,$C$40:$C$59,$B122,$T$40:$T$59,$E122)+SUMIFS($L$68:$L$87,$C$68:$C$87,B122,$AG$68:$AG$87,E122)+SUMIFS($AE$11:$AE$31,$C$11:$C$31,B122,$T$11:$T$31,E122) -> 0 | H122: =G122-F122 -> 0 | I122: -
E123: Medium | F123: =SUMIFS($L$11:$L$30,$C$11:$C$30,$B122,$T$11:$T$30,$E123) -> 0 | G123: =SUMIFS($L$40:$L$59,$C$40:$C$59,$B$122,$T$40:$T$59,$E$123)+SUMIFS($L$68:$L$87,$C$68:$C$87,$B$122,$AG$68:$AG$87,$E$123)+SUMIFS($AE$11:$AE$31,$C$11:$C$31,$B$122,$T$11:$T$31,$E$123) -> 0 | H123: =G123-F123 -> 0 | I123: =IF(F123=0,"N/A",IF(H123<0,"No ▲","Yes ✓")) -> N/A | J123: =IF(I123="No ▲",1,0) -> 0
B124: Lakes | E124: Low | F124: =SUMIFS($L$11:$L$30,$C$11:$C$30,$B124,$T$11:$T$30,$E124) -> 0 | G124: =SUMIFS($L$40:$L$59,$C$40:$C$59,$B124,$T$40:$T$59,$E124)+SUMIFS($L$68:$L$87,$C$68:$C$87,B124,$AG$68:$AG$87,E124)+SUMIFS($AE$11:$AE$31,$C$11:$C$31,B124,$T$11:$T$31,E124) -> 0 | H124: =G124-F124 -> 0 | I124: -
...

Sheet 6. Hedges & Lines of Trees
O1: Retained Units | P1: =IFERROR(SUM(AE11:AE30), "Error ▲") -> 0 | R1: Data beyond this column is automated
B2: Site Name | C2: =IF('2. Site Details'!D4="","Enter site name on 2. Site Details",'2. Site Details'!D4) -> H08-0036-26 Polytunnel Site | F2: Instructions: 1. Enter data into 1a. Baseline habitats 2. Enter data on habitats to be created into 1b. Habitats to be created 3. Enter data on habitats to be enhanced into 1c. Habitats to be enhanced | J2: {=IFERROR(IF(OR((ISNUMBER(SEARCH("▲",A7:Q101)))),"Input Errors Present On Sheet - Red Cells Or ▲ Highlight Errors","All Key Rules Satisfied ✓ "),"Technical Errors On Sheet ▲")} -> All Key Rules Satisfied ✓ | O2: Lost Units | P2: =IFERROR(N31, "Error ▲") -> 0
B3: Sheet Name | C3: 6. Hedges & Lines of Trees | O3: Created Units | P3: =IFERROR(L59, "Error ▲") -> 0.2123
O4: Enhancement Units | P4: =IFERROR(L86, "Error ▲") -> 0
O5: Net Change | P5: =IFERROR(P1+L59+L86-L31, "Error ▲") -> 0.2123
B7: 1a. Baseline habitats
B9: Ref | C9: Habitat | F9: C. Strategic significance | I9: Length (m) | L9: Baseline results | O9: Comments | T9: Habitat distinctiveness | W9: Habitat condition | AB9: Strategic significance | AE9: Ecological baseline | AH9: Suggested action to address habitat losses | AI9: Enhancement rules
C10: A. Broad Habitat | D10: B. Habitat type | I10: D. Total Length | J10: E. Length retained | K10: F. Length enhanced | L10: Total units onsite | M10: Length Lost | N10: Units lost | O10: User comments | P10: LPA comments | T10: Distinctiveness | V10: Score | W10: Condition | X10: Score | AB10: Strategic significance | AC10: Strategic significance | AD10: Strategic significance multiplier | AE10: Baseline units retained | AF10: Baseline units to be enhanced | AG10: Area lost
B11: 1 | C11: Hedgerows and Lines of trees | L11: =IF(D11="","",IFERROR(IF(I11="","",((I11/1000)*V11*X11)*AD11),"This intervention is not permitted within the SSM ▲")) | M11: =IF(I11="","",IF(J11+K11>I11,"Length Error ▲",I11-J11-K11)) | N11: =IFERROR(IF(I11="","",IF(M11="Length Error ▲","Length Error ▲",((M11/1000)*V11*X11)*AD11)),"This intervention is not permitted within the SSM ▲") | T11: =IF(D11="","",VLOOKUP(D11,'9. All Habitats + Multipliers'!$C$4:$K$102,5,FALSE)) | V11: =IF(T11="","",VLOOKUP(T11,'11. Lists'!$S$47:$U$50,2,FALSE)) | W11: =IF(D11="","",VLOOKUP(D11,'10. Condition and Temporal'!$B$6:$C$103,2,FALSE)) | X11: =IF(W11="","",VLOOKUP(W11,'11. Lists'!$F$47:$G$51,2,FALSE)) | AB11: =IF(F11="","",F11) | AC11: =IF(AB11="","",VLOOKUP(AB11,'11. Lists'!$F$36:$H$38,2,FALSE)) | AD11: =IF(AB11="","",VLOOKUP(AB11,'11. Lists'!$F$36:$H$38,3,FALSE)) | AE11: =IF(D11="","",((J11/1000)*V11*X11)*AD11) | AF11: =IF(D11="","",((K11/1000)*V11*X11)*AD11) | AG11: =IF(D11="","",M11) | AH11: =IF(T11="","",VLOOKUP(T11,'11. Lists'!$B$47:$D$49,3,FALSE)) | AI11: =IF(D11="","",VLOOKUP(D11,'10. Condition and Temporal'!$B$6:$L$103,4,FALSE))
L12: =IF(D12="","",IFERROR(IF(I12="","",((I12/1000)*V12*X12)*AD12),"This intervention is not permitted within the SSM ▲")) | M12: =IF(I12="","",IF(J12+K12>I12,"Length Error ▲",I12-J12-K12)) | N12: =IFERROR(IF(I12="","",IF(M12="Length Error ▲","Length Error ▲",((M12/1000)*V12*X12)*AD12)),"This intervention is not permitted within the SSM ▲") | T12: =IF(D12="","",VLOOKUP(D12,'9. All Habitats + Multipliers'!$C$4:$K$102,5,FALSE)) | V12: =IF(T12="","",VLOOKUP(T12,'11. Lists'!$S$47:$U$50,2,FALSE)) | W12: =IF(D12="","",VLOOKUP(D12,'10. Condition and Temporal'!$B$6:$C$103,2,FALSE)) | X12: =IF(W12="","",VLOOKUP(W12,'11. Lists'!$F$47:$G$51,2,FALSE)) | AB12: =IF(F12="","",F12) | AC12: =IF(AB12="","",VLOOKUP(AB12,'11. Lists'!$F$36:$H$38,2,FALSE)) | AD12: =IF(AB12="","",VLOOKUP(AB12,'11. Lists'!$F$36:$H$38,3,FALSE)) | AE12: =IF(D12="","",((J12/1000)*V12*X12)*AD12) | AF12: =IF(D12="","",((K12/1000)*V12*X12)*AD12) | AG12: =IF(D12="","",M12) | AH12: =IF(T12="","",VLOOKUP(T12,'11. Lists'!$B$47:$D$49,3,FALSE)) | AI12: =IF(D12="","",VLOOKUP(D12,'10. Condition and Temporal'!$B$6:$L$103,4,FALSE))
L13: =IF(D13="","",IFERROR(IF(I13="","",((I13/1000)*V13*X13)*AD13),"This intervention is not permitted within the SSM ▲")) | M13: =IF(I13="","",IF(J13+K13>I13,"Length Error ▲",I13-J13-K13)) | N13: =IFERROR(IF(I13="","",IF(M13="Length Error ▲","Length Error ▲",((M13/1000)*V13*X13)*AD13)),"This intervention is not permitted within the SSM ▲") | T13: =IF(D13="","",VLOOKUP(D13,'9. All Habitats + Multipliers'!$C$4:$K$102,5,FALSE)) | V13: =IF(T13="","",VLOOKUP(T13,'11. Lists'!$S$47:$U$50,2,FALSE)) | W13: =IF(D13="","",VLOOKUP(D13,'10. Condition and Temporal'!$B$6:$C$103,2,FALSE)) | X13: =IF(W13="","",VLOOKUP(W13,'11. Lists'!$F$47:$G$51,2,FALSE)) | AB13: =IF(F13="","",F13) | AC13: =IF(AB13="","",VLOOKUP(AB13,'11. Lists'!$F$36:$H$38,2,FALSE)) | AD13: =IF(AB13="","",VLOOKUP(AB13,'11. Lists'!$F$36:$H$38,3,FALSE)) | AE13: =IF(D13="","",((J13/1000)*V13*X13)*AD13) | AF13: =IF(D13="","",((K13/1000)*V13*X13)*AD13) | AG13: =IF(D13="","",M13) | AH13: =IF(T13="","",VLOOKUP(T13,'11. Lists'!$B$47:$D$49,3,FALSE)) | AI13: =IF(D13="","",VLOOKUP(D13,'10. Condition and Temporal'!$B$6:$L$103,4,FALSE))
L14: =IF(D14="","",IFERROR(IF(I14="","",((I14/1000)*V14*X14)*AD14),"This intervention is not permitted within the SSM ▲")) | M14: =IF(I14="","",IF(J14+K14>I14,"Length Error ▲",I14-J14-K14)) | N14: =IFERROR(IF(I14="","",IF(M14="Length Error ▲","Length Error ▲",((M14/1000)*V14*X14)*AD14)),"This intervention is not permitted within the SSM ▲") | T14: =IF(D14="","",VLOOKUP(D14,'9. All Habitats + Multipliers'!$C$4:$K$102,5,FALSE)) | V14: =IF(T14="","",VLOOKUP(T14,'11. Lists'!$S$47:$U$50,2,FALSE)) | W14: =IF(D14="","",VLOOKUP(D14,'10. Condition and Temporal'!$B$6:$C$103,2,FALSE)) | X14: =IF(W14="","",VLOOKUP(W14,'11. Lists'!$F$47:$G$51,2,FALSE)) | AB14: =IF(F14="","",F14) | AC14: =IF(AB14="","",VLOOKUP(AB14,'11. Lists'!$F$36:$H$38,2,FALSE)) | AD14: =IF(AB14="","",VLOOKUP(AB14,'11. Lists'!$F$36:$H$38,3,FALSE)) | AE14: =IF(D14="","",((J14/1000)*V14*X14)*AD14) | AF14: =IF(D14="","",((K14/1000)*V14*X14)*AD14) | AG14: =IF(D14="","",M14) | AH14: =IF(T14="","",VLOOKUP(T14,'11. Lists'!$B$47:$D$49,3,FALSE)) | AI14: =IF(D14="","",VLOOKUP(D14,'10. Condition and Temporal'!$B$6:$L$103,4,FALSE))
L15: =IF(D15="","",IFERROR(IF(I15="","",((I15/1000)*V15*X15)*AD15),"This intervention is not permitted within the SSM ▲")) | M15: =IF(I15="","",IF(J15+K15>I15,"Length Error ▲",I15-J15-K15)) | N15: =IFERROR(IF(I15="","",IF(M15="Length Error ▲","Length Error ▲",((M15/1000)*V15*X15)*AD15)),"This intervention is not permitted within the SSM ▲") | T15: =IF(D15="","",VLOOKUP(D15,'9. All Habitats + Multipliers'!$C$4:$K$102,5,FALSE)) | V15: =IF(T15="","",VLOOKUP(T15,'11. Lists'!$S$47:$U$50,2,FALSE)) | W15: =IF(D15="","",VLOOKUP(D15,'10. Condition and Temporal'!$B$6:$C$103,2,FALSE)) | X15: =IF(W15="","",VLOOKUP(W15,'11. Lists'!$F$47:$G$51,2,FALSE)) | AB15: =IF(F15="","",F15) | AC15: =IF(AB15="","",VLOOKUP(AB15,'11. Lists'!$F$36:$H$38,2,FALSE)) | AD15: =IF(AB15="","",VLOOKUP(AB15,'11. Lists'!$F$36:$H$38,3,FALSE)) | AE15: =IF(D15="","",((J15/1000)*V15*X15)*AD15) | AF15: =IF(D15="","",((K15/1000)*V15*X15)*AD15) | AG15: =IF(D15="","",M15) | AH15: =IF(T15="","",VLOOKUP(T15,'11. Lists'!$B$47:$D$49,3,FALSE)) | AI15: =IF(D15="","",VLOOKUP(D15,'10. Condition and Temporal'!$B$6:$L$103,4,FALSE))
L16: =IF(D16="","",IFERROR(IF(I16="","",((I16/1000)*V16*X16)*AD16),"This intervention is not permitted within the SSM ▲")) | M16: =IF(I16="","",IF(J16+K16>I16,"Length Error ▲",I16-J16-K16)) | N16: =IFERROR(IF(I16="","",IF(M16="Length Error ▲","Length Error ▲",((M16/1000)*V16*X16)*AD16)),"This intervention is not permitted within the SSM ▲") | T16: =IF(D16="","",VLOOKUP(D16,'9. All Habitats + Multipliers'!$C$4:$K$102,5,FALSE)) | V16: =IF(T16="","",VLOOKUP(T16,'11. Lists'!$S$47:$U$50,2,FALSE)) | W16: =IF(D16="","",VLOOKUP(D16,'10. Condition and Temporal'!$B$6:$C$103,2,FALSE)) | X16: =IF(W16="","",VLOOKUP(W16,'11. Lists'!$F$47:$G$51,2,FALSE)) | AB16: =IF(F16="","",F16) | AC16: =IF(AB16="","",VLOOKUP(AB16,'11. Lists'!$F$36:$H$38,2,FALSE)) | AD16: =IF(AB16="","",VLOOKUP(AB16,'11. Lists'!$F$36:$H$38,3,FALSE)) | AE16: =IF(D16="","",((J16/1000)*V16*X16)*AD16) | AF16: =IF(D16="","",((K16/1000)*V16*X16)*AD16) | AG16: =IF(D16="","",M16) | AH16: =IF(T16="","",VLOOKUP(T16,'11. Lists'!$B$47:$D$49,3,FALSE)) | AI16: =IF(D16="","",VLOOKUP(D16,'10. Condition and Temporal'!$B$6:$L$103,4,FALSE))
L17: =IF(D17="","",IFERROR(IF(I17="","",((I17/1000)*V17*X17)*AD17),"This intervention is not permitted within the SSM ▲")) | M17: =IF(I17="","",IF(J17+K17>I17,"Length Error ▲",I17-J17-K17)) | N17: =IFERROR(IF(I17="","",IF(M17="Length Error ▲","Length Error ▲",((M17/1000)*V17*X17)*AD17)),"This intervention is not permitted within the SSM ▲") | T17: =IF(D17="","",VLOOKUP(D17,'9. All Habitats + Multipliers'!$C$4:$K$102,5,FALSE)) | V17: =IF(T17="","",VLOOKUP(T17,'11. Lists'!$S$47:$U$50,2,FALSE)) | W17: =IF(D17="","",VLOOKUP(D17,'10. Condition and Temporal'!$B$6:$C$103,2,FALSE)) | X17: =IF(W17="","",VLOOKUP(W17,'11. Lists'!$F$47:$G$51,2,FALSE)) | AB17: =IF(F17="","",F17) | AC17: =IF(AB17="","",VLOOKUP(AB17,'11. Lists'!$F$36:$H$38,2,FALSE)) | AD17: =IF(AB17="","",VLOOKUP(AB17,'11. Lists'!$F$36:$H$38,3,FALSE)) | AE17: =IF(D17="","",((J17/1000)*V17*X17)*AD17) | AF17: =IF(D17="","",((K17/1000)*V17*X17)*AD17) | AG17: =IF(D17="","",M17) | AH17: =IF(T17="","",VLOOKUP(T17,'11. Lists'!$B$47:$D$49,3,FALSE)) | AI17: =IF(D17="","",VLOOKUP(D17,'10. Condition and Temporal'!$B$6:$L$103,4,FALSE))
L18: =IF(D18="","",IFERROR(IF(I18="","",((I18/1000)*V18*X18)*AD18),"This intervention is not permitted within the SSM ▲")) | M18: =IF(I18="","",IF(J18+K18>I18,"Length Error ▲",I18-J18-K18)) | N18: =IFERROR(IF(I18="","",IF(M18="Length Error ▲","Length Error ▲",((M18/1000)*V18*X18)*AD18)),"This intervention is not permitted within the SSM ▲") | T18: =IF(D18="","",VLOOKUP(D18,'9. All Habitats + Multipliers'!$C$4:$K$102,5,FALSE)) | V18: =IF(T18="","",VLOOKUP(T18,'11. Lists'!$S$47:$U$50,2,FALSE)) | W18: =IF(D18="","",VLOOKUP(D18,'10. Condition and Temporal'!$B$6:$C$103,2,FALSE)) | X18: =IF(W18="","",VLOOKUP(W18,'11. Lists'!$F$47:$G$51,2,FALSE)) | AB18: =IF(F18="","",F18) | AC18: =IF(AB18="","",VLOOKUP(AB18,'11. Lists'!$F$36:$H$38,2,FALSE)) | AD18: =IF(AB18="","",VLOOKUP(AB18,'11. Lists'!$F$36:$H$38,3,FALSE)) | AE18: =IF(D18="","",((J18/1000)*V18*X18)*AD18) | AF18: =IF(D18="","",((K18/1000)*V18*X18)*AD18) | AG18: =IF(D18="","",M18) | AH18: =IF(T18="","",VLOOKUP(T18,'11. Lists'!$B$47:$D$49,3,FALSE)) | AI18: =IF(D18="","",VLOOKUP(D18,'10. Condition and Temporal'!$B$6:$L$103,4,FALSE))
L19: =IF(D19="","",IFERROR(IF(I19="","",((I19/1000)*V19*X19)*AD19),"This intervention is not permitted within the SSM ▲")) | M19: =IF(I19="","",IF(J19+K19>I19,"Length Error ▲",I19-J19-K19)) | N19: =IFERROR(IF(I19="","",IF(M19="Length Error ▲","Length Error ▲",((M19/1000)*V19*X19)*AD19)),"This intervention is not permitted within the SSM ▲") | T19: =IF(D19="","",VLOOKUP(D19,'9. All Habitats + Multipliers'!$C$4:$K$102,5,FALSE)) | V19: =IF(T19="","",VLOOKUP(T19,'11. Lists'!$S$47:$U$50,2,FALSE)) | W19: =IF(D19="","",VLOOKUP(D19,'10. Condition and Temporal'!$B$6:$C$103,2,FALSE)) | X19: =IF(W19="","",VLOOKUP(W19,'11. Lists'!$F$47:$G$51,2,FALSE)) | AB19: =IF(F19="","",F19) | AC19: =IF(AB19="","",VLOOKUP(AB19,'11. Lists'!$F$36:$H$38,2,FALSE)) | AD19: =IF(AB19="","",VLOOKUP(AB19,'11. Lists'!$F$36:$H$38,3,FALSE)) | AE19: =IF(D19="","",((J19/1000)*V19*X19)*AD19) | AF19: =IF(D19="","",((K19/1000)*V19*X19)*AD19) | AG19: =IF(D19="","",M19) | AH19: =IF(T19="","",VLOOKUP(T19,'11. Lists'!$B$47:$D$49,3,FALSE)) | AI19: =IF(D19="","",VLOOKUP(D19,'10. Condition and Temporal'!$B$6:$L$103,4,FALSE))
L20: =IF(D20="","",IFERROR(IF(I20="","",((I20/1000)*V20*X20)*AD20),"This intervention is not permitted within the SSM ▲")) | M20: =IF(I20="","",IF(J20+K20>I20,"Length Error ▲",I20-J20-K20)) | N20: =IFERROR(IF(I20="","",IF(M20="Length Error ▲","Length Error ▲",((M20/1000)*V20*X20)*AD20)),"This intervention is not permitted within the SSM ▲") | T20: =IF(D20="","",VLOOKUP(D20,'9. All Habitats + Multipliers'!$C$4:$K$102,5,FALSE)) | V20: =IF(T20="","",VLOOKUP(T20,'11. Lists'!$S$47:$U$50,2,FALSE)) | W20: =IF(D20="","",VLOOKUP(D20,'10. Condition and Temporal'!$B$6:$C$103,2,FALSE)) | X20: =IF(W20="","",VLOOKUP(W20,'11. Lists'!$F$47:$G$51,2,FALSE)) | AB20: =IF(F20="","",F20) | AC20: =IF(AB20="","",VLOOKUP(AB20,'11. Lists'!$F$36:$H$38,2,FALSE)) | AD20: =IF(AB20="","",VLOOKUP(AB20,'11. Lists'!$F$36:$H$38,3,FALSE)) | AE20: =IF(D20="","",((J20/1000)*V20*X20)*AD20) | AF20: =IF(D20="","",((K20/1000)*V20*X20)*AD20) | AG20: =IF(D20="","",M20) | AH20: =IF(T20="","",VLOOKUP(T20,'11. Lists'!$B$47:$D$49,3,FALSE)) | AI20: =IF(D20="","",VLOOKUP(D20,'10. Condition and Temporal'!$B$6:$L$103,4,FALSE))
L21: =IF(D21="","",IFERROR(IF(I21="","",((I21/1000)*V21*X21)*AD21),"This intervention is not permitted within the SSM ▲")) | M21: =IF(I21="","",IF(J21+K21>I21,"Length Error ▲",I21-J21-K21)) | N21: =IFERROR(IF(I21="","",IF(M21="Length Error ▲","Length Error ▲",((M21/1000)*V21*X21)*AD21)),"This intervention is not permitted within the SSM ▲") | T21: =IF(D21="","",VLOOKUP(D21,'9. All Habitats + Multipliers'!$C$4:$K$102,5,FALSE)) | V21: =IF(T21="","",VLOOKUP(T21,'11. Lists'!$S$47:$U$50,2,FALSE)) | W21: =IF(D21="","",VLOOKUP(D21,'10. Condition and Temporal'!$B$6:$C$103,2,FALSE)) | X21: =IF(W21="","",VLOOKUP(W21,'11. Lists'!$F$47:$G$51,2,FALSE)) | AB21: =IF(F21="","",F21) | AC21: =IF(AB21="","",VLOOKUP(AB21,'11. Lists'!$F$36:$H$38,2,FALSE)) | AD21: =IF(AB21="","",VLOOKUP(AB21,'11. Lists'!$F$36:$H$38,3,FALSE)) | AE21: =IF(D21="","",((J21/1000)*V21*X21)*AD21) | AF21: =IF(D21="","",((K21/1000)*V21*X21)*AD21) | AG21: =IF(D21="","",M21) | AH21: =IF(T21="","",VLOOKUP(T21,'11. Lists'!$B$47:$D$49,3,FALSE)) | AI21: =IF(D21="","",VLOOKUP(D21,'10. Condition and Temporal'!$B$6:$L$103,4,FALSE))
L22: =IF(D22="","",IFERROR(IF(I22="","",((I22/1000)*V22*X22)*AD22),"This intervention is not permitted within the SSM ▲")) | M22: =IF(I22="","",IF(J22+K22>I22,"Length Error ▲",I22-J22-K22)) | N22: =IFERROR(IF(I22="","",IF(M22="Length Error ▲","Length Error ▲",((M22/1000)*V22*X22)*AD22)),"This intervention is not permitted within the SSM ▲") | T22: =IF(D22="","",VLOOKUP(D22,'9. All Habitats + Multipliers'!$C$4:$K$102,5,FALSE)) | V22: =IF(T22="","",VLOOKUP(T22,'11. Lists'!$S$47:$U$50,2,FALSE)) | W22: =IF(D22="","",VLOOKUP(D22,'10. Condition and Temporal'!$B$6:$C$103,2,FALSE)) | X22: =IF(W22="","",VLOOKUP(W22,'11. Lists'!$F$47:$G$51,2,FALSE)) | AB22: =IF(F22="","",F22) | AC22: =IF(AB22="","",VLOOKUP(AB22,'11. Lists'!$F$36:$H$38,2,FALSE)) | AD22: =IF(AB22="","",VLOOKUP(AB22,'11. Lists'!$F$36:$H$38,3,FALSE)) | AE22: =IF(D22="","",((J22/1000)*V22*X22)*AD22) | AF22: =IF(D22="","",((K22/1000)*V22*X22)*AD22) | AG22: =IF(D22="","",M22) | AH22: =IF(T22="","",VLOOKUP(T22,'11. Lists'!$B$47:$D$49,3,FALSE)) | AI22: =IF(D22="","",VLOOKUP(D22,'10. Condition and Temporal'!$B$6:$L$103,4,FALSE))
L23: =IF(D23="","",IFERROR(IF(I23="","",((I23/1000)*V23*X23)*AD23),"This intervention is not permitted within the SSM ▲")) | M23: =IF(I23="","",IF(J23+K23>I23,"Length Error ▲",I23-J23-K23)) | N23: =IFERROR(IF(I23="","",IF(M23="Length Error ▲","Length Error ▲",((M23/1000)*V23*X23)*AD23)),"This intervention is not permitted within the SSM ▲") | T23: =IF(D23="","",VLOOKUP(D23,'9. All Habitats + Multipliers'!$C$4:$K$102,5,FALSE)) | V23: =IF(T23="","",VLOOKUP(T23,'11. Lists'!$S$47:$U$50,2,FALSE)) | W23: =IF(D23="","",VLOOKUP(D23,'10. Condition and Temporal'!$B$6:$C$103,2,FALSE)) | X23: =IF(W23="","",VLOOKUP(W23,'11. Lists'!$F$47:$G$51,2,FALSE)) | AB23: =IF(F23="","",F23) | AC23: =IF(AB23="","",VLOOKUP(AB23,'11. Lists'!$F$36:$H$38,2,FALSE)) | AD23: =IF(AB23="","",VLOOKUP(AB23,'11. Lists'!$F$36:$H$38,3,FALSE)) | AE23: =IF(D23="","",((J23/1000)*V23*X23)*AD23) | AF23: =IF(D23="","",((K23/1000)*V23*X23)*AD23) | AG23: =IF(D23="","",M23) | AH23: =IF(T23="","",VLOOKUP(T23,'11. Lists'!$B$47:$D$49,3,FALSE)) | AI23: =IF(D23="","",VLOOKUP(D23,'10. Condition and Temporal'!$B$6:$L$103,4,FALSE))
... L30: =IF(D30="","",IFERROR(IF(I30="","",((I30/1000)*V30*X30)*AD30),"This intervention is not permitted within the SSM ▲")) | M30: =IF(I30="","",IF(J30+K30>I30,"Length Error ▲",I30-J30-K30)) | N30: =IFERROR(IF(I30="","",IF(M30="Length Error ▲","Length Error ▲",((M30/1000)*V30*X30)*AD30)),"This intervention is not permitted within the SSM ▲") | T30: =IF(D30="","",VLOOKUP(D30,'9. All Habitats + Multipliers'!$C$4:$K$102,5,FALSE)) | V30: =IF(T30="","",VLOOKUP(T30,'11. Lists'!$S$47:$U$50,2,FALSE)) | W30: =IF(D30="","",VLOOKUP(D30,'10. Condition and Temporal'!$B$6:$C$103,2,FALSE)) | X30: =IF(W30="","",VLOOKUP(W30,'11. Lists'!$F$47:$G$51,2,FALSE)) | AB30: =IF(F30="","",F30) | AC30: =IF(AB30="","",VLOOKUP(AB30,'11. Lists'!$F$36:$H$38,2,FALSE)) | AD30: =IF(AB30="","",VLOOKUP(AB30,'11. Lists'!$F$36:$H$38,3,FALSE)) | AE30: =IF(D30="","",((J30/1000)*V30*X30)*AD30) | AF30: =IF(D30="","",((K30/1000)*V30*X30)*AD30) | AG30: =IF(D30="","",M30) | AH30: =IF(T30="","",VLOOKUP(T30,'11. Lists'!$B$47:$D$49,3,FALSE)) | AI30: =IF(D30="","",VLOOKUP(D30,'10. Condition and Temporal'!$B$6:$L$103,4,FALSE))
H31: Totals | I31: =SUM(I11:I30) -> 0 | J31: =SUM(J11:J30) -> 0 | K31: =SUM(K11:K30) -> 0 | L31: =SUM(L11:L30) -> 0 | M31: =SUM(M11:M30) -> 0 | N31: =SUM(N11:N30) -> 0
H32: Error Check 1 | I32: =IF(I31<J31+K31,"Error - Lengths Retained and Enhanced Exceed Total Length ▲","Lengths Acceptable ✓") -> Lengths Acceptable ✓ | O32: =IFERROR(FIND("Error",I32),0) -> 0
H33: Error Check 2 | I33: =IF(I31<5000,"Lengths Acceptable ✓",IF(I31>=5000,"Length Exceeds Length Appropriate for Small Sites Metric ▲")) -> Lengths Acceptable ✓ | O33: =COUNTIF(L11:N30,"*"&"error"&"*") -> 0
R34: Data beyond this column is automated
B35: 1b. Habitats to be created
B37: Ref | E37: Condition Assessment | H37: D. Strategic significance | I37: E. Total Length created (m) | L37: Units created on-site | O37: Comments | T37: Habitat distinctiveness | W37: Habitat condition | AB37: Strategic significance | AE37: Temporal multiplier | AG37: Difficulty multipliers
C38: A. Broad Habitat | D38: B. Habitat type | E38: Acceptable condition options | F38: C. Targeted condition | O38: User comments | P38: LPA comments | T38: Distinctiveness | V38: Score | W38: Condition | X38: Score | AB38: Strategic significance | AC38: Strategic significance | AD38: Strategic significance multiplier | AE38: Time to target condition/years | AF38: Time to target multiplier | AG38: Difficulty of creation category | AH38: Difficulty of creation multiplier
T39: =IF(D39="","",VLOOKUP(D39,'9. All Habitats + Multipliers'!$C$4:$K$102,5,FALSE)) | V39: =IF(T39="","",VLOOKUP(T39,'11. Lists'!$S$47:$U$50,2,FALSE)) | W39: =IF(F39="","",F39) | X39: =IF(W39="","",VLOOKUP(W39,'11. Lists'!$F$47:$G$51,2,FALSE)) | AB39: =IF(H39="","",H39) | AC39: =IF(AB39="","",VLOOKUP(AB39,'11. Lists'!$F$36:$H$38,2,FALSE)) | AD39: =IF(AB39="","",VLOOKUP(AB39,'11. Lists'!$F$36:$H$38,3,FALSE)) | AE39: =IF(F39="","",IF(F39="Moderate",VLOOKUP(D39,'10. Condition and Temporal'!$B$6:$L$103,6,FALSE),IF(F39="Good",VLOOKUP(D39,'10. Condition and Temporal'!$B$6:$L$103,7,FALSE),IF(F39="Poor",VLOOKUP(D39,'10. Condition and Temporal'!$B$6:$L$103,8,FALSE),IF(F39="Condition Assessment N/A",VLOOKUP(D39,'10. Condition and Temporal'!$B$6:$L$103,9,FALSE),IF(F39="N/A - Other",VLOOKUP(D39,'10. Condition and Temporal'!$B$6:$L$103,10,FALSE))))))) | AF39: =IF(AE39="","",VLOOKUP(AE39,'11. Lists'!$I$47:$K$80,3,FALSE)) | AG39: =IF(D39="","",VLOOKUP(D39,'9. All Habitats + Multipliers'!$C$4:$K$102,7,FALSE)) | AH39: =IF(AG39="","",VLOOKUP(AG39,'11. Lists'!$J$35:$K$38,2,FALSE))
B40: 1 | C40: Hedgerows and Lines of trees | D40: Non-native and ornamental hedgerow | E40: Poor | F40: Poor | H40: Area/compensation not in local strategy/ no local strategy | I40: 150 | L40: =IF(D40="","",IFERROR(IF(I40="","",((I40/1000)*(V40*X40))*(AH40*AF40)*AD40),"This intervention is not permitted within the SSM ▲")) -> 0.14475 | O40: Laurel planting. | T40: =IF(D40="","",VLOOKUP(D40,'9. All Habitats + Multipliers'!$C$4:$K$102,5,FALSE)) -> V.Low | V40: =IF(T40="","",VLOOKUP(T40,'11. Lists'!$S$47:$U$50,2,FALSE)) -> 1 | W40: =IF(F40="","",F40) -> Poor | X40: =IF(W40="","",VLOOKUP(W40,'11. Lists'!$F$47:$G$51,2,FALSE)) -> 1 | AB40: =IF(H40="","",H40) -> Area/compensation not in local strategy/ no local strategy | AC40: =IF(AB40="","",VLOOKUP(AB40,'11. Lists'!$F$36:$H$38,2,FALSE)) -> Low Strategic Significance | AD40: =IF(AB40="","",VLOOKUP(AB40,'11. Lists'!$F$36:$H$38,3,FALSE)) -> 1 | AE40: =IF(F40="","",IF(F40="Moderate",VLOOKUP(D40,'10. Condition and Temporal'!$B$6:$L$103,6,FALSE),IF(F40="Good",VLOOKUP(D40,'10. Condition and Temporal'!$B$6:$L$103,7,FALSE),IF(F40="Poor",VLOOKUP(D40,'10. Condition and Temporal'!$B$6:$L$103,8,FALSE),IF(F40="Condition Assessment N/A",VLOOKUP(D40,'10. Condition and Temporal'!$B$6:$L$103,9,FALSE),IF(F40="N/A - Other",VLOOKUP(D40,'10. Condition and Temporal'!$B$6:$L$103,10,FALSE))))))) -> 1 | AF40: =IF(AE40="","",VLOOKUP(AE40,'11. Lists'!$I$47:$K$80,3,FALSE)) -> 0.965 | AG40: =IF(D40="","",VLOOKUP(D40,'9. All Habitats + Multipliers'!$C$4:$K$102,7,FALSE)) -> Low | AH40: =IF(AG40="","",VLOOKUP(AG40,'11. Lists'!$J$35:$K$38,2,FALSE)) -> 1
B41: 2 | C41: Hedgerows and Lines of trees | D41: Non-native and ornamental hedgerow | E41: Poor | F41: Poor | H41: Area/compensation not in local strategy/ no local strategy | I41: 70 | L41: =IF(D41="","",IFERROR(IF(I41="","",((I41/1000)*(V41*X41))*(AH41*AF41)*AD41),"This intervention is not permitted within the SSM ▲")) -> 0.06755 | O41: Leylandii planting. | T41: =IF(D41="","",VLOOKUP(D41,'9. All Habitats + Multipliers'!$C$4:$K$102,5,FALSE)) -> V.Low | V41: =IF(T41="","",VLOOKUP(T41,'11. Lists'!$S$47:$U$50,2,FALSE)) -> 1 | W41: =IF(F41="","",F41) -> Poor | X41: =IF(W41="","",VLOOKUP(W41,'11. Lists'!$F$47:$G$51,2,FALSE)) -> 1 | AB41: =IF(H41="","",H41) -> Area/compensation not in local strategy/ no local strategy | AC41: =IF(AB41="","",VLOOKUP(AB41,'11. Lists'!$F$36:$H$38,2,FALSE)) -> Low Strategic Significance | AD41: =IF(AB41="","",VLOOKUP(AB41,'11. Lists'!$F$36:$H$38,3,FALSE)) -> 1 | AE41: =IF(F41="","",IF(F41="Moderate",VLOOKUP(D41,'10. Condition and Temporal'!$B$6:$L$103,6,FALSE),IF(F41="Good",VLOOKUP(D41,'10. Condition and Temporal'!$B$6:$L$103,7,FALSE),IF(F41="Poor",VLOOKUP(D41,'10. Condition and Temporal'!$B$6:$L$103,8,FALSE),IF(F41="Condition Assessment N/A",VLOOKUP(D41,'10. Condition and Temporal'!$B$6:$L$103,9,FALSE),IF(F41="N/A - Other",VLOOKUP(D41,'10. Condition and Temporal'!$B$6:$L$103,10,FALSE))))))) -> 1 | AF41: =IF(AE41="","",VLOOKUP(AE41,'11. Lists'!$I$47:$K$80,3,FALSE)) -> 0.965 | AG41: =IF(D41="","",VLOOKUP(D41,'9. All Habitats + Multipliers'!$C$4:$K$102,7,FALSE)) -> Low | AH41: =IF(AG41="","",VLOOKUP(AG41,'11. Lists'!$J$35:$K$38,2,FALSE)) -> 1
L42: =IF(D42="","",IFERROR(IF(I42="","",((I42/1000)*(V42*X42))*(AH42*AF42)*AD42),"This intervention is not permitted within the SSM ▲")) | T42: =IF(D42="","",VLOOKUP(D42,'9. All Habitats + Multipliers'!$C$4:$K$102,5,FALSE)) | V42: =IF(T42="","",VLOOKUP(T42,'11. Lists'!$S$47:$U$50,2,FALSE)) | W42: =IF(F42="","",F42) | X42: =IF(W42="","",VLOOKUP(W42,'11. Lists'!$F$47:$G$51,2,FALSE)) | AB42: =IF(H42="","",H42) | AC42: =IF(AB42="","",VLOOKUP(AB42,'11. Lists'!$F$36:$H$38,2,FALSE)) | AD42: =IF(AB42="","",VLOOKUP(AB42,'11. Lists'!$F$36:$H$38,3,FALSE)) | AE42: =IF(F42="","",IF(F42="Moderate",VLOOKUP(D42,'10. Condition and Temporal'!$B$6:$L$103,6,FALSE),IF(F42="Good",VLOOKUP(D42,'10. Condition and Temporal'!$B$6:$L$103,7,FALSE),IF(F42="Poor",VLOOKUP(D42,'10. Condition and Temporal'!$B$6:$L$103,8,FALSE),IF(F42="Condition Assessment N/A",VLOOKUP(D42,'10. Condition and Temporal'!$B$6:$L$103,9,FALSE),IF(F42="N/A - Other",VLOOKUP(D42,'10. Condition and Temporal'!$B$6:$L$103,10,FALSE))))))) | AF42: =IF(AE42="","",VLOOKUP(AE42,'11. Lists'!$I$47:$K$80,3,FALSE)) | AG42: =IF(D42="","",VLOOKUP(D42,'9. All Habitats + Multipliers'!$C$4:$K$102,7,FALSE)) | AH42: =IF(AG42="","",VLOOKUP(AG42,'11. Lists'!$J$35:$K$38,2,FALSE))
L43: =IF(D43="","",IFERROR(IF(I43="","",((I43/1000)*(V43*X43))*(AH43*AF43)*AD43),"This intervention is not permitted within the SSM ▲")) | T43: =IF(D43="","",VLOOKUP(D43,'9. All Habitats + Multipliers'!$C$4:$K$102,5,FALSE)) | V43: =IF(T43="","",VLOOKUP(T43,'11. Lists'!$S$47:$U$50,2,FALSE)) | W43: =IF(F43="","",F43) | X43: =IF(W43="","",VLOOKUP(W43,'11. Lists'!$F$47:$G$51,2,FALSE)) | AB43: =IF(H43="","",H43) | AC43: =IF(AB43="","",VLOOKUP(AB43,'11. Lists'!$F$36:$H$38,2,FALSE)) | AD43: =IF(AB43="","",VLOOKUP(AB43,'11. Lists'!$F$36:$H$38,3,FALSE)) | AE43: =IF(F43="","",IF(F43="Moderate",VLOOKUP(D43,'10. Condition and Temporal'!$B$6:$L$103,6,FALSE),IF(F43="Good",VLOOKUP(D43,'10. Condition and Temporal'!$B$6:$L$103,7,FALSE),IF(F43="Poor",VLOOKUP(D43,'10. Condition and Temporal'!$B$6:$L$103,8,FALSE),IF(F43="Condition Assessment N/A",VLOOKUP(D43,'10. Condition and Temporal'!$B$6:$L$103,9,FALSE),IF(F43="N/A - Other",VLOOKUP(D43,'10. Condition and Temporal'!$B$6:$L$103,10,FALSE))))))) | AF43: =IF(AE43="","",VLOOKUP(AE43,'11. Lists'!$I$47:$K$80,3,FALSE)) | AG43: =IF(D43="","",VLOOKUP(D43,'9. All Habitats + Multipliers'!$C$4:$K$102,7,FALSE)) | AH43: =IF(AG43="","",VLOOKUP(AG43,'11. Lists'!$J$35:$K$38,2,FALSE))
L44: =IF(D44="","",IFERROR(IF(I44="","",((I44/1000)*(V44*X44))*(AH44*AF44)*AD44),"This intervention is not permitted within the SSM ▲")) | T44: =IF(D44="","",VLOOKUP(D44,'9. All Habitats + Multipliers'!$C$4:$K$102,5,FALSE)) | V44: =IF(T44="","",VLOOKUP(T44,'11. Lists'!$S$47:$U$50,2,FALSE)) | W44: =IF(F44="","",F44) | X44: =IF(W44="","",VLOOKUP(W44,'11. Lists'!$F$47:$G$51,2,FALSE)) | AB44: =IF(H44="","",H44) | AC44: =IF(AB44="","",VLOOKUP(AB44,'11. Lists'!$F$36:$H$38,2,FALSE)) | AD44: =IF(AB44="","",VLOOKUP(AB44,'11. Lists'!$F$36:$H$38,3,FALSE)) | AE44: =IF(F44="","",IF(F44="Moderate",VLOOKUP(D44,'10. Condition and Temporal'!$B$6:$L$103,6,FALSE),IF(F44="Good",VLOOKUP(D44,'10. Condition and Temporal'!$B$6:$L$103,7,FALSE),IF(F44="Poor",VLOOKUP(D44,'10. Condition and Temporal'!$B$6:$L$103,8,FALSE),IF(F44="Condition Assessment N/A",VLOOKUP(D44,'10. Condition and Temporal'!$B$6:$L$103,9,FALSE),IF(F44="N/A - Other",VLOOKUP(D44,'10. Condition and Temporal'!$B$6:$L$103,10,FALSE))))))) | AF44: =IF(AE44="","",VLOOKUP(AE44,'11. Lists'!$I$47:$K$80,3,FALSE)) | AG44: =IF(D44="","",VLOOKUP(D44,'9. All Habitats + Multipliers'!$C$4:$K$102,7,FALSE)) | AH44: =IF(AG44="","",VLOOKUP(AG44,'11. Lists'!$J$35:$K$38,2,FALSE))
L45: =IF(D45="","",IFERROR(IF(I45="","",((I45/1000)*(V45*X45))*(AH45*AF45)*AD45),"This intervention is not permitted within the SSM ▲")) | T45: =IF(D45="","",VLOOKUP(D45,'9. All Habitats + Multipliers'!$C$4:$K$102,5,FALSE)) | V45: =IF(T45="","",VLOOKUP(T45,'11. Lists'!$S$47:$U$50,2,FALSE)) | W45: =IF(F45="","",F45) | X45: =IF(W45="","",VLOOKUP(W45,'11. Lists'!$F$47:$G$51,2,FALSE)) | AB45: =IF(H45="","",H45) | AC45: =IF(AB45="","",VLOOKUP(AB45,'11. Lists'!$F$36:$H$38,2,FALSE)) | AD45: =IF(AB45="","",VLOOKUP(AB45,'11. Lists'!$F$36:$H$38,3,FALSE)) | AE45: =IF(F45="","",IF(F45="Moderate",VLOOKUP(D45,'10. Condition and Temporal'!$B$6:$L$103,6,FALSE),IF(F45="Good",VLOOKUP(D45,'10. Condition and Temporal'!$B$6:$L$103,7,FALSE),IF(F45="Poor",VLOOKUP(D45,'10. Condition and Temporal'!$B$6:$L$103,8,FALSE),IF(F45="Condition Assessment N/A",VLOOKUP(D45,'10. Condition and Temporal'!$B$6:$L$103,9,FALSE),IF(F45="N/A - Other",VLOOKUP(D45,'10. Condition and Temporal'!$B$6:$L$103,10,FALSE))))))) | AF45: =IF(AE45="","",VLOOKUP(AE45,'11. Lists'!$I$47:$K$80,3,FALSE)) | AG45: =IF(D45="","",VLOOKUP(D45,'9. All Habitats + Multipliers'!$C$4:$K$102,7,FALSE)) | AH45: =IF(AG45="","",VLOOKUP(AG45,'11. Lists'!$J$35:$K$38,2,FALSE))
L46: =IF(D46="","",IFERROR(IF(I46="","",((I46/1000)*(V46*X46))*(AH46*AF46)*AD46),"This intervention is not permitted within the SSM ▲")) | T46: =IF(D46="","",VLOOKUP(D46,'9. All Habitats + Multipliers'!$C$4:$K$102,5,FALSE)) | V46: =IF(T46="","",VLOOKUP(T46,'11. Lists'!$S$47:$U$50,2,FALSE)) | W46: =IF(F46="","",F46) | X46: =IF(W46="","",VLOOKUP(W46,'11. Lists'!$F$47:$G$51,2,FALSE)) | AB46: =IF(H46="","",H46) | AC46: =IF(AB46="","",VLOOKUP(AB46,'11. Lists'!$F$36:$H$38,2,FALSE)) | AD46: =IF(AB46="","",VLOOKUP(AB46,'11. Lists'!$F$36:$H$38,3,FALSE)) | AE46: =IF(F46="","",IF(F46="Moderate",VLOOKUP(D46,'10. Condition and Temporal'!$B$6:$L$103,6,FALSE),IF(F46="Good",VLOOKUP(D46,'10. Condition and Temporal'!$B$6:$L$103,7,FALSE),IF(F46="Poor",VLOOKUP(D46,'10. Condition and Temporal'!$B$6:$L$103,8,FALSE),IF(F46="Condition Assessment N/A",VLOOKUP(D46,'10. Condition and Temporal'!$B$6:$L$103,9,FALSE),IF(F46="N/A - Other",VLOOKUP(D46,'10. Condition and Temporal'!$B$6:$L$103,10,FALSE))))))) | AF46: =IF(AE46="","",VLOOKUP(AE46,'11. Lists'!$I$47:$K$80,3,FALSE)) | AG46: =IF(D46="","",VLOOKUP(D46,'9. All Habitats + Multipliers'!$C$4:$K$102,7,FALSE)) | AH46: =IF(AG46="","",VLOOKUP(AG46,'11. Lists'!$J$35:$K$38,2,FALSE))
L47: =IF(D47="","",IFERROR(IF(I47="","",((I47/1000)*(V47*X47))*(AH47*AF47)*AD47),"This intervention is not permitted within the SSM ▲")) | T47: =IF(D47="","",VLOOKUP(D47,'9. All Habitats + Multipliers'!$C$4:$K$102,5,FALSE)) | V47: =IF(T47="","",VLOOKUP(T47,'11. Lists'!$S$47:$U$50,2,FALSE)) | W47: =IF(F47="","",F47) | X47: =IF(W47="","",VLOOKUP(W47,'11. Lists'!$F$47:$G$51,2,FALSE)) | AB47: =IF(H47="","",H47) | AC47: =IF(AB47="","",VLOOKUP(AB47,'11. Lists'!$F$36:$H$38,2,FALSE)) | AD47: =IF(AB47="","",VLOOKUP(AB47,'11. Lists'!$F$36:$H$38,3,FALSE)) | AE47: =IF(F47="","",IF(F47="Moderate",VLOOKUP(D47,'10. Condition and Temporal'!$B$6:$L$103,6,FALSE),IF(F47="Good",VLOOKUP(D47,'10. Condition and Temporal'!$B$6:$L$103,7,FALSE),IF(F47="Poor",VLOOKUP(D47,'10. Condition and Temporal'!$B$6:$L$103,8,FALSE),IF(F47="Condition Assessment N/A",VLOOKUP(D47,'10. Condition and Temporal'!$B$6:$L$103,9,FALSE),IF(F47="N/A - Other",VLOOKUP(D47,'10. Condition and Temporal'!$B$6:$L$103,10,FALSE))))))) | AF47: =IF(AE47="","",VLOOKUP(AE47,'11. Lists'!$I$47:$K$80,3,FALSE)) | AG47: =IF(D47="","",VLOOKUP(D47,'9. All Habitats + Multipliers'!$C$4:$K$102,7,FALSE)) | AH47: =IF(AG47="","",VLOOKUP(AG47,'11. Lists'!$J$35:$K$38,2,FALSE))
L48: =IF(D48="","",IFERROR(IF(I48="","",((I48/1000)*(V48*X48))*(AH48*AF48)*AD48),"This intervention is not permitted within the SSM ▲")) | T48: =IF(D48="","",VLOOKUP(D48,'9. All Habitats + Multipliers'!$C$4:$K$102,5,FALSE)) | V48: =IF(T48="","",VLOOKUP(T48,'11. Lists'!$S$47:$U$50,2,FALSE)) | W48: =IF(F48="","",F48) | X48: =IF(W48="","",VLOOKUP(W48,'11. Lists'!$F$47:$G$51,2,FALSE)) | AB48: =IF(H48="","",H48) | AC48: =IF(AB48="","",VLOOKUP(AB48,'11. Lists'!$F$36:$H$38,2,FALSE)) | AD48: =IF(AB48="","",VLOOKUP(AB48,'11. Lists'!$F$36:$H$38,3,FALSE)) | AE48: =IF(F48="","",IF(F48="Moderate",VLOOKUP(D48,'10. Condition and Temporal'!$B$6:$L$103,6,FALSE),IF(F48="Good",VLOOKUP(D48,'10. Condition and Temporal'!$B$6:$L$103,7,FALSE),IF(F48="Poor",VLOOKUP(D48,'10. Condition and Temporal'!$B$6:$L$103,8,FALSE),IF(F48="Condition Assessment N/A",VLOOKUP(D48,'10. Condition and Temporal'!$B$6:$L$103,9,FALSE),IF(F48="N/A - Other",VLOOKUP(D48,'10. Condition and Temporal'!$B$6:$L$103,10,FALSE))))))) | AF48: =IF(AE48="","",VLOOKUP(AE48,'11. Lists'!$I$47:$K$80,3,FALSE)) | AG48: =IF(D48="","",VLOOKUP(D48,'9. All Habitats + Multipliers'!$C$4:$K$102,7,FALSE)) | AH48: =IF(AG48="","",VLOOKUP(AG48,'11. Lists'!$J$35:$K$38,2,FALSE))
L49: =IF(D49="","",IFERROR(IF(I49="","",((I49/1000)*(V49*X49))*(AH49*AF49)*AD49),"This intervention is not permitted within the SSM ▲")) | T49: =IF(D49="","",VLOOKUP(D49,'9. All Habitats + Multipliers'!$C$4:$K$102,5,FALSE)) | V49: =IF(T49="","",VLOOKUP(T49,'11. Lists'!$S$47:$U$50,2,FALSE)) | W49: =IF(F49="","",F49) | X49: =IF(W49="","",VLOOKUP(W49,'11. Lists'!$F$47:$G$51,2,FALSE)) | AB49: =IF(H49="","",H49) | AC49: =IF(AB49="","",VLOOKUP(AB49,'11. Lists'!$F$36:$H$38,2,FALSE)) | AD49: =IF(AB49="","",VLOOKUP(AB49,'11. Lists'!$F$36:$H$38,3,FALSE)) | AE49: =IF(F49="","",IF(F49="Moderate",VLOOKUP(D49,'10. Condition and Temporal'!$B$6:$L$103,6,FALSE),IF(F49="Good",VLOOKUP(D49,'10. Condition and Temporal'!$B$6:$L$103,7,FALSE),IF(F49="Poor",VLOOKUP(D49,'10. Condition and Temporal'!$B$6:$L$103,8,FALSE),IF(F49="Condition Assessment N/A",VLOOKUP(D49,'10. Condition and Temporal'!$B$6:$L$103,9,FALSE),IF(F49="N/A - Other",VLOOKUP(D49,'10. Condition and Temporal'!$B$6:$L$103,10,FALSE))))))) | AF49: =IF(AE49="","",VLOOKUP(AE49,'11. Lists'!$I$47:$K$80,3,FALSE)) | AG49: =IF(D49="","",VLOOKUP(D49,'9. All Habitats + Multipliers'!$C$4:$K$102,7,FALSE)) | AH49: =IF(AG49="","",VLOOKUP(AG49,'11. Lists'!$J$35:$K$38,2,FALSE))
L50: =IF(D50="","",IFERROR(IF(I50="","",((I50/1000)*(V50*X50))*(AH50*AF50)*AD50),"This intervention is not permitted within the SSM ▲")) | O50: Total new non-native hedgerow length = 220m. | T50: =IF(D50="","",VLOOKUP(D50,'9. All Habitats + Multipliers'!$C$4:$K$102,5,FALSE)) | V50: =IF(T50="","",VLOOKUP(T50,'11. Lists'!$S$47:$U$50,2,FALSE)) | W50: =IF(F50="","",F50) | X50: =IF(W50="","",VLOOKUP(W50,'11. Lists'!$F$47:$G$51,2,FALSE)) | AB50: =IF(H50="","",H50) | AC50: =IF(AB50="","",VLOOKUP(AB50,'11. Lists'!$F$36:$H$38,2,FALSE)) | AD50: =IF(AB50="","",VLOOKUP(AB50,'11. Lists'!$F$36:$H$38,3,FALSE)) | AE50: =IF(F50="","",IF(F50="Moderate",VLOOKUP(D50,'10. Condition and Temporal'!$B$6:$L$103,6,FALSE),IF(F50="Good",VLOOKUP(D50,'10. Condition and Temporal'!$B$6:$L$103,7,FALSE),IF(F50="Poor",VLOOKUP(D50,'10. Condition and Temporal'!$B$6:$L$103,8,FALSE),IF(F50="Condition Assessment N/A",VLOOKUP(D50,'10. Condition and Temporal'!$B$6:$L$103,9,FALSE),IF(F50="N/A - Other",VLOOKUP(D50,'10. Condition and Temporal'!$B$6:$L$103,10,FALSE))))))) | AF50: =IF(AE50="","",VLOOKUP(AE50,'11. Lists'!$I$47:$K$80,3,FALSE)) | AG50: =IF(D50="","",VLOOKUP(D50,'9. All Habitats + Multipliers'!$C$4:$K$102,7,FALSE)) | AH50: =IF(AG50="","",VLOOKUP(AG50,'11. Lists'!$J$35:$K$38,2,FALSE))
L51: =IF(D51="","",IFERROR(IF(I51="","",((I51/1000)*(V51*X51))*(AH51*AF51)*AD51),"This intervention is not permitted within the SSM ▲")) | T51: =IF(D51="","",VLOOKUP(D51,'9. All Habitats + Multipliers'!$C$4:$K$102,5,FALSE)) | V51: =IF(T51="","",VLOOKUP(T51,'11. Lists'!$S$47:$U$50,2,FALSE)) | W51: =IF(F51="","",F51) | X51: =IF(W51="","",VLOOKUP(W51,'11. Lists'!$F$47:$G$51,2,FALSE)) | AB51: =IF(H51="","",H51) | AC51: =IF(AB51="","",VLOOKUP(AB51,'11. Lists'!$F$36:$H$38,2,FALSE)) | AD51: =IF(AB51="","",VLOOKUP(AB51,'11. Lists'!$F$36:$H$38,3,FALSE)) | AE51: =IF(F51="","",IF(F51="Moderate",VLOOKUP(D51,'10. Condition and Temporal'!$B$6:$L$103,6,FALSE),IF(F51="Good",VLOOKUP(D51,'10. Condition and Temporal'!$B$6:$L$103,7,FALSE),IF(F51="Poor",VLOOKUP(D51,'10. Condition and Temporal'!$B$6:$L$103,8,FALSE),IF(F51="Condition Assessment N/A",VLOOKUP(D51,'10. Condition and Temporal'!$B$6:$L$103,9,FALSE),IF(F51="N/A - Other",VLOOKUP(D51,'10. Condition and Temporal'!$B$6:$L$103,10,FALSE))))))) | AF51: =IF(AE51="","",VLOOKUP(AE51,'11. Lists'!$I$47:$K$80,3,FALSE)) | AG51: =IF(D51="","",VLOOKUP(D51,'9. All Habitats + Multipliers'!$C$4:$K$102,7,FALSE)) | AH51: =IF(AG51="","",VLOOKUP(AG51,'11. Lists'!$J$35:$K$38,2,FALSE))
L52: =IF(D52="","",IFERROR(IF(I52="","",((I52/1000)*(V52*X52))*(AH52*AF52)*AD52),"This intervention is not permitted within the SSM ▲")) | T52: =IF(D52="","",VLOOKUP(D52,'9. All Habitats + Multipliers'!$C$4:$K$102,5,FALSE)) | V52: =IF(T52="","",VLOOKUP(T52,'11. Lists'!$S$47:$U$50,2,FALSE)) | W52: =IF(F52="","",F52) | X52: =IF(W52="","",VLOOKUP(W52,'11. Lists'!$F$47:$G$51,2,FALSE)) | AB52: =IF(H52="","",H52) | AC52: =IF(AB52="","",VLOOKUP(AB52,'11. Lists'!$F$36:$H$38,2,FALSE)) | AD52: =IF(AB52="","",VLOOKUP(AB52,'11. Lists'!$F$36:$H$38,3,FALSE)) | AE52: =IF(F52="","",IF(F52="Moderate",VLOOKUP(D52,'10. Condition and Temporal'!$B$6:$L$103,6,FALSE),IF(F52="Good",VLOOKUP(D52,'10. Condition and Temporal'!$B$6:$L$103,7,FALSE),IF(F52="Poor",VLOOKUP(D52,'10. Condition and Temporal'!$B$6:$L$103,8,FALSE),IF(F52="Condition Assessment N/A",VLOOKUP(D52,'10. Condition and Temporal'!$B$6:$L$103,9,FALSE),IF(F52="N/A - Other",VLOOKUP(D52,'10. Condition and Temporal'!$B$6:$L$103,10,FALSE))))))) | AF52: =IF(AE52="","",VLOOKUP(AE52,'11. Lists'!$I$47:$K$80,3,FALSE)) | AG52: =IF(D52="","",VLOOKUP(D52,'9. All Habitats + Multipliers'!$C$4:$K$102,7,FALSE)) | AH52: =IF(AG52="","",VLOOKUP(AG52,'11. Lists'!$J$35:$K$38,2,FALSE))
L53: =IF(D53="","",IFERROR(IF(I53="","",((I53/1000)*(V53*X53))*(AH53*AF53)*AD53),"This intervention is not permitted within the SSM ▲")) | T53: =IF(D53="","",VLOOKUP(D53,'9. All Habitats + Multipliers'!$C$4:$K$102,5,FALSE)) | V53: =IF(T53="","",VLOOKUP(T53,'11. Lists'!$S$47:$U$50,2,FALSE)) | W53: =IF(F53="","",F53) | X53: =IF(W53="","",VLOOKUP(W53,'11. Lists'!$F$47:$G$51,2,FALSE)) | AB53: =IF(H53="","",H53) | AC53: =IF(AB53="","",VLOOKUP(AB53,'11. Lists'!$F$36:$H$38,2,FALSE)) | AD53: =IF(AB53="","",VLOOKUP(AB53,'11. Lists'!$F$36:$H$38,3,FALSE)) | AE53: =IF(F53="","",IF(F53="Moderate",VLOOKUP(D53,'10. Condition and Temporal'!$B$6:$L$103,6,FALSE),IF(F53="Good",VLOOKUP(D53,'10. Condition and Temporal'!$B$6:$L$103,7,FALSE),IF(F53="Poor",VLOOKUP(D53,'10. Condition and Temporal'!$B$6:$L$103,8,FALSE),IF(F53="Condition Assessment N/A",VLOOKUP(D53,'10. Condition and Temporal'!$B$6:$L$103,9,FALSE),IF(F53="N/A - Other",VLOOKUP(D53,'10. Condition and Temporal'!$B$6:$L$103,10,FALSE))))))) | AF53: =IF(AE53="","",VLOOKUP(AE53,'11. Lists'!$I$47:$K$80,3,FALSE)) | AG53: =IF(D53="","",VLOOKUP(D53,'9. All Habitats + Multipliers'!$C$4:$K$102,7,FALSE)) | AH53: =IF(AG53="","",VLOOKUP(AG53,'11. Lists'!$J$35:$K$38,2,FALSE))
L54: =IF(D54="","",IFERROR(IF(I54="","",((I54/1000)*(V54*X54))*(AH54*AF54)*AD54),"This intervention is not permitted within the SSM ▲")) | O54: Total new non-native hedgerow length = 220m. | T54: =IF(D54="","",VLOOKUP(D54,'9. All Habitats + Multipliers'!$C$4:$K$102,5,FALSE)) | V54: =IF(T54="","",VLOOKUP(T54,'11. Lists'!$S$47:$U$50,2,FALSE)) | W54: =IF(F54="","",F54) | X54: =IF(W54="","",VLOOKUP(W54,'11. Lists'!$F$47:$G$51,2,FALSE)) | AB54: =IF(H54="","",H54) | AC54: =IF(AB54="","",VLOOKUP(AB54,'11. Lists'!$F$36:$H$38,2,FALSE)) | AD54: =IF(AB54="","",VLOOKUP(AB54,'11. Lists'!$F$36:$H$38,3,FALSE)) | AE54: =IF(F54="","",IF(F54="Moderate",VLOOKUP(D54,'10. Condition and Temporal'!$B$6:$L$103,6,FALSE),IF(F54="Good",VLOOKUP(D54,'10. Condition and Temporal'!$B$6:$L$103,7,FALSE),IF(F54="Poor",VLOOKUP(D54,'10. Condition and Temporal'!$B$6:$L$103,8,FALSE),IF(F54="Condition Assessment N/A",VLOOKUP(D54,'10. Condition and Temporal'!$B$6:$L$103,9,FALSE),IF(F54="N/A - Other",VLOOKUP(D54,'10. Condition and Temporal'!$B$6:$L$103,10,FALSE))))))) | AF54: =IF(AE54="","",VLOOKUP(AE54,'11. Lists'!$I$47:$K$80,3,FALSE)) | AG54: =IF(D54="","",VLOOKUP(D54,'9. All Habitats + Multipliers'!$C$4:$K$102,7,FALSE)) | AH54: =IF(AG54="","",VLOOKUP(AG54,'11. Lists'!$J$35:$K$38,2,FALSE))
L55: =IF(D55="","",IFERROR(IF(I55="","",((I55/1000)*(V55*X55))*(AH55*AF55)*AD55),"This intervention is not permitted within the SSM ▲")) | T55: =IF(D55="","",VLOOKUP(D55,'9. All Habitats + Multipliers'!$C$4:$K$102,5,FALSE)) | V55: =IF(T55="","",VLOOKUP(T55,'11. Lists'!$S$47:$U$50,2,FALSE)) | W55: =IF(F55="","",F55) | X55: =IF(W55="","",VLOOKUP(W55,'11. Lists'!$F$47:$G$51,2,FALSE)) | AB55: =IF(H55="","",H55) | AC55: =IF(AB55="","",VLOOKUP(AB55,'11. Lists'!$F$36:$H$38,2,FALSE)) | AD55: =IF(AB55="","",VLOOKUP(AB55,'11. Lists'!$F$36:$H$38,3,FALSE)) | AE55: =IF(F55="","",IF(F55="Moderate",VLOOKUP(D55,'10. Condition and Temporal'!$B$6:$L$103,6,FALSE),IF(F55="Good",VLOOKUP(D55,'10. Condition and Temporal'!$B$6:$L$103,7,FALSE),IF(F55="Poor",VLOOKUP(D55,'10. Condition and Temporal'!$B$6:$L$103,8,FALSE),IF(F55="Condition Assessment N/A",VLOOKUP(D55,'10. Condition and Temporal'!$B$6:$L$103,9,FALSE),IF(F55="N/A - Other",VLOOKUP(D55,'10. Condition and Temporal'!$B$6:$L$103,10,FALSE))))))) | AF55: =IF(AE55="","",VLOOKUP(AE55,'11. Lists'!$I$47:$K$80,3,FALSE)) | AG55: =IF(D55="","",VLOOKUP(D55,'9. All Habitats + Multipliers'!$C$4:$K$102,7,FALSE)) | AH55: =IF(AG55="","",VLOOKUP(AG55,'11. Lists'!$J$35:$K$38,2,FALSE))
L56: =IF(D56="","",IFERROR(IF(I56="","",((I56/1000)*(V56*X56))*(AH56*AF56)*AD56),"This intervention is not permitted within the SSM ▲")) | T56: =IF(D56="","",VLOOKUP(D56,'9. All Habitats + Multipliers'!$C$4:$K$102,5,FALSE)) | V56: =IF(T56="","",VLOOKUP(T56,'11. Lists'!$S$47:$U$50,2,FALSE)) | W56: =IF(F56="","",F56) | X56: =IF(W56="","",VLOOKUP(W56,'11. Lists'!$F$47:$G$51,2,FALSE)) | AB56: =IF(H56="","",H56) | AC56: =IF(AB56="","",VLOOKUP(AB56,'11. Lists'!$F$36:$H$38,2,FALSE)) | AD56: =IF(AB56="","",VLOOKUP(AB56,'11. Lists'!$F$36:$H$38,3,FALSE)) | AE56: =IF(F56="","",IF(F56="Moderate",VLOOKUP(D56,'10. Condition and Temporal'!$B$6:$L$103,6,FALSE),IF(F56="Good",VLOOKUP(D56,'10. Condition and Temporal'!$B$6:$L$103,7,FALSE),IF(F56="Poor",VLOOKUP(D56,'10. Condition and Temporal'!$B$6:$L$103,8,FALSE),IF(F56="Condition Assessment N/A",VLOOKUP(D56,'10. Condition and Temporal'!$B$6:$L$103,9,FALSE),IF(F56="N/A - Other",VLOOKUP(D56,'10. Condition and Temporal'!$B$6:$L$103,10,FALSE))))))) | AF56: =IF(AE56="","",VLOOKUP(AE56,'11. Lists'!$I$47:$K$80,3,FALSE)) | AG56: =IF(D56="","",VLOOKUP(D56,'9. All Habitats + Multipliers'!$C$4:$K$102,7,FALSE)) | AH56: =IF(AG56="","",VLOOKUP(AG56,'11. Lists'!$J$35:$K$38,2,FALSE))
L57: =IF(D57="","",IFERROR(IF(I57="","",((I57/1000)*(V57*X57))*(AH57*AF57)*AD57),"This intervention is not permitted within the SSM ▲")) | T57: =IF(D57="","",VLOOKUP(D57,'9. All Habitats + Multipliers'!$C$4:$K$102,5,FALSE)) | V57: =IF(T57="","",VLOOKUP(T57,'11. Lists'!$S$47:$U$50,2,FALSE)) | W57: =IF(F57="","",F57) | X57: =IF(W57="","",VLOOKUP(W57,'11. Lists'!$F$47:$G$51,2,FALSE)) | AB57: =IF(H57="","",H57) | AC57: =IF(AB57="","",VLOOKUP(AB57,'11. Lists'!$F$36:$H$38,2,FALSE)) | AD57: =IF(AB57="","",VLOOKUP(AB57,'11. Lists'!$F$36:$H$38,3,FALSE)) | AE57: =IF(F57="","",IF(F57="Moderate",VLOOKUP(D57,'10. Condition and Temporal'!$B$6:$L$103,6,FALSE),IF(F57="Good",VLOOKUP(D57,'10. Condition and Temporal'!$B$6:$L$103,7,FALSE),IF(F57="Poor",VLOOKUP(D57,'10. Condition and Temporal'!$B$6:$L$103,8,FALSE),IF(F57="Condition Assessment N/A",VLOOKUP(D57,'10. Condition and Temporal'!$B$6:$L$103,9,FALSE),IF(F57="N/A - Other",VLOOKUP(D57,'10. Condition and Temporal'!$B$6:$L$103,10,FALSE))))))) | AF57: =IF(AE57="","",VLOOKUP(AE57,'11. Lists'!$I$47:$K$80,3,FALSE)) | AG57: =IF(D57="","",VLOOKUP(D57,'9. All Habitats + Multipliers'!$C$4:$K$102,7,FALSE)) | AH57: =IF(AG57="","",VLOOKUP(AG57,'11. Lists'!$J$35:$K$38,2,FALSE))
L58: =IF(D58="","",IFERROR(IF(I58="","",((I58/1000)*(V58*X58))*(AH58*AF58)*AD58),"This intervention is not permitted within the SSM ▲")) | T58: =IF(D58="","",VLOOKUP(D58,'9. All Habitats + Multipliers'!$C$4:$K$102,5,FALSE)) | V58: =IF(T58="","",VLOOKUP(T58,'11. Lists'!$S$47:$U$50,2,FALSE)) | W58: =IF(F58="","",F58) | X58: =IF(W58="","",VLOOKUP(W58,'11. Lists'!$F$47:$G$51,2,FALSE)) | AB58: =IF(H58="","",H58) | AC58: =IF(AB58="","",VLOOKUP(AB58,'11. Lists'!$F$36:$H$38,2,FALSE)) | AD58: =IF(AB58="","",VLOOKUP(AB58,'11. Lists'!$F$36:$H$38,3,FALSE)) | AE58: =IF(F58="","",IF(F58="Moderate",VLOOKUP(D58,'10. Condition and Temporal'!$B$6:$L$103,6,FALSE),IF(F58="Good",VLOOKUP(D58,'10. Condition and Temporal'!$B$6:$L$103,7,FALSE),IF(F58="Poor",VLOOKUP(D58,'10. Condition and Temporal'!$B$6:$L$103,8,FALSE),IF(F58="Condition Assessment N/A",VLOOKUP(D58,'10. Condition and Temporal'!$B$6:$L$103,9,FALSE),IF(F58="N/A - Other",VLOOKUP(D58,'10. Condition and Temporal'!$B$6:$L$103,10,FALSE))))))) | AF58: =IF(AE58="","",VLOOKUP(AE58,'11. Lists'!$I$47:$K$80,3,FALSE)) | AG58: =IF(D58="","",VLOOKUP(D58,'9. All Habitats + Multipliers'!$C$4:$K$102,7,FALSE)) | AH58: =IF(AG58="","",VLOOKUP(AG58,'11. Lists'!$J$35:$K$38,2,FALSE))
I59: =SUM(I40:I58) -> 220 | L59: =SUM(L40:L58) -> 0.2123 | M59: =SUM(M40:N58) -> 0
H60: Error Check 1 | I60: =IF(I59<5000,"Lengths Acceptable ✓",IF(I59>=5000,"Length Exceeds Length Appropriate for Small Sites Metric ▲")) -> Lengths Acceptable ✓
BA61: Divider
B62: 1c. Habitats to be enhanced | BA62: ,
B64: Baseline ref | C64: Existing Habitat Type | E64: Enhanced Habitat type | H64: B. Strategic significance | I64: Length Enhanced (m) | J64: Enhanced Condition | L64: Total Units | M64: Net Improvement | O64: Comments | T64: Baseline Values | AE64: Distinctiveness change acceptable? | AF64: Enhanced multipliers | AQ64: Condition enhancement - Time to target condition/years | AR64: Enhanced multipliers | BA64: Number of options | BB64: =COUNTIF(BB66:BB85,"?*") -> 0 | BC64: =COUNTIF(BC66:BC85,"?*") -> 0 | BD64: =COUNTIF(BD66:BD85,"?*") -> 0 | BE64: =COUNTIF(BE66:BE85,"?*") -> 0 | BF64: =COUNTIF(BF66:BF85,"?*") -> 0 | BG64: =COUNTIF(BG66:BG85,"?*") -> 0 | BH64: =COUNTIF(BH66:BH85,"?*") -> 0 | BI64: =COUNTIF(BI66:BI85,"?*") -> 0 | ... BU64: =COUNTIF(BU66:BU85,"?*") -> 0
C65: Broad habitat type | D65: Existing habitat type | E65: Enhancement Type | F65: A. Enhanced habitat type | O65: User comments | P65: LPA comments | T65: Area enhanced | U65: Baseline distinctiveness band | V65: Baseline distinctiveness score | W65: Baseline condition category | X65: Baseline condition score | AB65: Baseline strategic significance category | AC65: Baseline strategic significance score | AD65: Baseline value of area enhanced | AF65: Area enhanced | AG65: Distinctiveness | AH65: Score | AI65: Condition | AJ65: Score | AN65: Strategic significance | AO65: Strategic significance | AP65: Strategic significance multiplier | AR65: Condition enhancement - Time to target multiplier | AS65: Distinctiveness enhancement - Time to target condition/years | AT65: Distinctiveness enhancement - Time to target multiplier | AU65: Difficulty of enhancement category | AV65: Difficulty of enhancement multiplier | AW65: Acceptable habitat types | AX65: Enhancement type | BA65: option number | BB65: 1 | BC65: 2 | BD65: 3 | BE65: 4 | BF65: 5 | BG65: 6 | BH65: 7 | BI65: 8 | BJ65: 9 | BK65: 10 | BL65: 11 | BM65: 12 | BN65: 13 | BO65: 14 | BP65: 15 | BQ65: 16 | BR65: 17 | BS65: 18 | BT65: 19 | BU65: 20 | BV65: List range | BW65: Column ref | BX65: list length
B66: 1 | C66: =IF(D66="","",C11) | D66: =IF(OR(K11="", K11=0),"",D11) | E66: =IF(AX66="","",AX66) | H66: =IF(D66="","",AB66) | I66: =IF(OR(K11="", K11=0),"",K11) | J66: =IFERROR(IF(F66="","",VLOOKUP(F66,'10. Condition and Temporal'!$B$6:$F$103,5,FALSE)), "Error ▲") | L66: =IFERROR(IF(D66="","",IF(AX66="Distinctiveness",(((((I66*AH66*AJ66)-(I66*V66*X66))*(AV66*AT66))+(I66*V66*X66))*AP66/1000),((((I66*AH66*AJ66)-(I66*V66*X66))*(AV66*AR66))+(I66*V66*X66))*AP66/1000)),"This intervention is not permitted within the SSM ▲") | M66: =IFERROR(IF(F66="","",L66-AD66), "Error ▲") | T66: =IF(D66="","",K11) | U66: =IF($D66="","",T11) | V66: =IF($D66="","",V11) | W66: =IF($D66="","",W11) | X66: =IF($D66="","",X11) | AB66: =IF($D66="","",AB11) | AC66: =IF($D66="","",AD11) | AD66: =IF(AC66="","",(T66*V66*X66)*AC66/1000) | AE66: =IF(AD66="","",IF(AH66<V66,"Not Acceptable","Acceptable")) | AF66: =IF(D66="","",I66) | AG66: =IF(D66="","",VLOOKUP(F66,'9. All Habitats + Multipliers'!$C$4:$K$102,5,FALSE)) | AH66: =IF(AG66="","",VLOOKUP(AG66,'11. Lists'!$S$47:$U$50,2,FALSE)) | AI66: =IF(D66="","",J66) | AJ66: =IF(AI66="","",VLOOKUP(AI66,'11. Lists'!$F$47:$G$51,2,FALSE)) | AN66: =IF(H66="","",H66) | AO66: =IF(AN66="","",VLOOKUP(AN66,'11. Lists'!$F$36:$H$38,2,FALSE)) | AP66: =IF(AN66="","",VLOOKUP(AN66,'11. Lists'!$F$36:$H$38,3,FALSE)) | AQ66: =IF(D66="","",IF(AX66="Distinctiveness","N/A",VLOOKUP(F66,'10. Condition and Temporal'!$B$6:$L$103,11,FALSE))) | AR66: =IF(AQ66="","",IF(AQ66="N/A","1",VLOOKUP(AQ66,'11. Lists'!$I$47:$K$80,3,FALSE))) | AS66: =IF(D66="","",IF(AX66="Condition","N/A",VLOOKUP(F66,'10. Condition and Temporal'!$B$6:$M$106,12,FALSE))) | AT66: =IF(AS66="","",IF(AS66="N/A","1",VLOOKUP(AS66,'11. Lists'!$I$47:$K$80,3,FALSE))) | AU66: =IF(D66="","",VLOOKUP(F66,'9. All Habitats + Multipliers'!$C$4:$K$102,8,FALSE)) | AV66: =IF(AU66="","",VLOOKUP(AU66,'11. Lists'!$J$35:$K$38,2,FALSE)) | AW66: =IF(D66="","",VLOOKUP(D66,'10. Condition and Temporal'!$B$6:$M$103,4,FALSE)) | AX66: =IF(F66="","",IF(D66=F66,"Condition","Distinctiveness")) | BA66: 1 | BB66: =TRIM(MID(SUBSTITUTE($AW$66,$BA$62,REPT(" ",LEN($AW$66))),($BA66-1)*LEN($AW$66)+1,LEN($AW$66))) | BC66: =TRIM(MID(SUBSTITUTE($AW$67,$BA$62,REPT(" ",LEN($AW$67))),($BA66-1)*LEN($AW$67)+1,LEN($AW$67))) | BD66: =TRIM(MID(SUBSTITUTE($AW$68,$BA$62,REPT(" ",LEN($AW$68))),($BA66-1)*LEN($AW$68)+1,LEN($AW$68))) | BE66: =TRIM(MID(SUBSTITUTE($AW$69,$BA$62,REPT(" ",LEN($AW$69))),($BA66-1)*LEN($AW$69)+1,LEN($AW$69))) | BF66: =TRIM(MID(SUBSTITUTE($AW$70,$BA$62,REPT(" ",LEN($AW$70))),($BA66-1)*LEN($AW$70)+1,LEN($AW$70))) | BG66: =TRIM(MID(SUBSTITUTE($AW$71,$BA$62,REPT(" ",LEN($AW$71))),($BA66-1)*LEN($AW$71)+1,LEN($AW$71))) | BH66: =TRIM(MID(SUBSTITUTE($AW$72,$BA$62,REPT(" ",LEN($AW$72))),($BA66-1)*LEN($AW$72)+1,LEN($AW$72))) | BI66: =TRIM(MID(SUBSTITUTE($AW$73,$BA$62,REPT(" ",LEN($AW$73))),($BA66-1)*LEN($AW$73)+1,LEN($AW$73))) | BJ66: =TRIM(MID(SUBSTITUTE($AW$74,$BA$62,REPT(" ",LEN($AW$74))),($BA66-1)*LEN($AW$74)+1,LEN($AW$74))) | BK66: =TRIM(MID(SUBSTITUTE($AW$75,$BA$62,REPT(" ",LEN($AW$75))),($BA66-1)*LEN($AW$75)+1,LEN($AW$75))) | BL66: =TRIM(MID(SUBSTITUTE($AW$76,$BA$62,REPT(" ",LEN($AW$76))),($BA66-1)*LEN($AW$76)+1,LEN($AW$76))) | BM66: =TRIM(MID(SUBSTITUTE($AW$77,$BA$62,REPT(" ",LEN($AW$77))),($BA66-1)*LEN($AW$77)+1,LEN($AW$77))) | BN66: =TRIM(MID(SUBSTITUTE($AW$78,$BA$62,REPT(" ",LEN($AW$78))),($BA66-1)*LEN($AW$78)+1,LEN($AW$78))) | BO66: =TRIM(MID(SUBSTITUTE($AW$79,$BA$62,REPT(" ",LEN($AW$79))),($BA66-1)*LEN($AW$79)+1,LEN($AW$79))) | BP66: =TRIM(MID(SUBSTITUTE($AW$80,$BA$62,REPT(" ",LEN($AW$80))),($BA66-1)*LEN($AW$80)+1,LEN($AW$80))) | BQ66: =TRIM(MID(SUBSTITUTE($AW$81,$BA$62,REPT(" ",LEN($AW$81))),($BA66-1)*LEN($AW$81)+1,LEN($AW$81))) | BR66: =TRIM(MID(SUBSTITUTE($AW$82,$BA$62,REPT(" ",LEN($AW$82))),($BA66-1)*LEN($AW$82)+1,LEN($AW$82))) | BS66: =TRIM(MID(SUBSTITUTE($AW$83,$BA$62,REPT(" ",LEN($AW$83))),($BA66-1)*LEN($AW$83)+1,LEN($AW$83))) | BT66: =TRIM(MID(SUBSTITUTE($AW$84,$BA$62,REPT(" ",LEN($AW$84))),($BA66-1)*LEN($AW$84)+1,LEN($AW$84))) | BU66: =TRIM(MID(SUBSTITUTE($AW$85,$BA$62,REPT(" ",LEN($AW$85))),($BA66-1)*LEN($AW$85)+1,LEN($AW$85))) | BV66: =IF(BX66=0,"",CONCATENATE(BW66,"66:",BW66,BX66+65)) | BW66: BB | BX66: =BB64 -> 0
B67: 2 | C67: =IF(D67="","",C12) | D67: =IF(OR(K12="", K12=0),"",D12) | E67: =IF(AX67="","",AX67) | H67: =IF(D67="","",AB67) | I67: =IF(OR(K12="", K12=0),"",K12) | J67: =IFERROR(IF(F67="","",VLOOKUP(F67,'10. Condition and Temporal'!$B$6:$F$103,5,FALSE)), "Error ▲") | L67: =IFERROR(IF(D67="","",IF(AX67="Distinctiveness",(((((I67*AH67*AJ67)-(I67*V67*X67))*(AV67*AT67))+(I67*V67*X67))*AP67/1000),((((I67*AH67*AJ67)-(I67*V67*X67))*(AV67*AR67))+(I67*V67*X67))*AP67/1000)),"This intervention is not permitted within the SSM ▲") | M67: =IFERROR(IF(F67="","",L67-AD67), "Error ▲") | T67: =IF(D67="","",K12) | U67: =IF($D67="","",T12) | V67: =IF($D67="","",V12) | W67: =IF($D67="","",W12) | X67: =IF($D67="","",X12) | AB67: =IF($D67="","",AB12) | AC67: =IF($D67="","",AD12) | AD67: =IF(AC67="","",(T67*V67*X67)*AC67/1000) | AE67: =IF(AD67="","",IF(AH67<V67,"Not Acceptable","Acceptable")) | AF67: =IF(D67="","",I67) | AG67: =IF(D67="","",VLOOKUP(F67,'9. All Habitats + Multipliers'!$C$4:$K$102,5,FALSE)) | AH67: =IF(AG67="","",VLOOKUP(AG67,'11. Lists'!$S$47:$U$50,2,FALSE)) | AI67: =IF(D67="","",J67) | AJ67: =IF(AI67="","",VLOOKUP(AI67,'11. Lists'!$F$47:$G$51,2,FALSE)) | AN67: =IF(H67="","",H67) | AO67: =IF(AN67="","",VLOOKUP(AN67,'11. Lists'!$F$36:$H$38,2,FALSE)) | AP67: =IF(AN67="","",VLOOKUP(AN67,'11. Lists'!$F$36:$H$38,3,FALSE)) | AQ67: =IF(D67="","",IF(AX67="Distinctiveness","N/A",VLOOKUP(F67,'10. Condition and Temporal'!$B$6:$L$103,11,FALSE))) | AR67: =IF(AQ67="","",IF(AQ67="N/A","1",VLOOKUP(AQ67,'11. Lists'!$I$47:$K$80,3,FALSE))) | AS67: =IF(D67="","",IF(AX67="Condition","N/A",VLOOKUP(F67,'10. Condition and Temporal'!$B$6:$M$106,12,FALSE))) | AT67: =IF(AS67="","",IF(AS67="N/A","1",VLOOKUP(AS67,'11. Lists'!$I$47:$K$80,3,FALSE))) | AU67: =IF(D67="","",VLOOKUP(F67,'9. All Habitats + Multipliers'!$C$4:$K$102,8,FALSE)) | AV67: =IF(AU67="","",VLOOKUP(AU67,'11. Lists'!$J$35:$K$38,2,FALSE)) | AW67: =IF(D67="","",VLOOKUP(D67,'10. Condition and Temporal'!$B$6:$M$103,4,FALSE)) | AX67: =IF(F67="","",IF(D67=F67,"Condition","Distinctiveness")) | BA67: 2 | BB67: =TRIM(MID(SUBSTITUTE($AW$66,$BA$62,REPT(" ",LEN($AW$66))),($BA67-1)*LEN($AW$66)+1,LEN($AW$66))) | BC67: =TRIM(MID(SUBSTITUTE($AW$67,$BA$62,REPT(" ",LEN($AW$67))),($BA67-1)*LEN($AW$67)+1,LEN($AW$67))) | BD67: =TRIM(MID(SUBSTITUTE($AW$68,$BA$62,REPT(" ",LEN($AW$68))),($BA67-1)*LEN($AW$68)+1,LEN($AW$68))) | BE67: =TRIM(MID(SUBSTITUTE($AW$69,$BA$62,REPT(" ",LEN($AW$69))),($BA67-1)*LEN($AW$69)+1,LEN($AW$69))) | BF67: =TRIM(MID(SUBSTITUTE($AW$70,$BA$62,REPT(" ",LEN($AW$70))),($BA67-1)*LEN($AW$70)+1,LEN($AW$70))) | BG67: =TRIM(MID(SUBSTITUTE($AW$71,$BA$62,REPT(" ",LEN($AW$71))),($BA67-1)*LEN($AW$71)+1,LEN($AW$71))) | BH67: =TRIM(MID(SUBSTITUTE($AW$72,$BA$62,REPT(" ",LEN($AW$72))),($BA67-1)*LEN($AW$72)+1,LEN($AW$72))) | BI67: =TRIM(MID(SUBSTITUTE($AW$73,$BA$62,REPT(" ",LEN($AW$73))),($BA67-1)*LEN($AW$73)+1,LEN($AW$73))) | BJ67: =TRIM(MID(SUBSTITUTE($AW$74,$BA$62,REPT(" ",LEN($AW$74))),($BA67-1)*LEN($AW$74)+1,LEN($AW$74))) | BK67: =TRIM(MID(SUBSTITUTE($AW$75,$BA$62,REPT(" ",LEN($AW$75))),($BA67-1)*LEN($AW$75)+1,LEN($AW$75))) | BL67: =TRIM(MID(SUBSTITUTE($AW$76,$BA$62,REPT(" ",LEN($AW$76))),($BA67-1)*LEN($AW$76)+1,LEN($AW$76))) | BM67: =TRIM(MID(SUBSTITUTE($AW$77,$BA$62,REPT(" ",LEN($AW$77))),($BA67-1)*LEN($AW$77)+1,LEN($AW$77))) | BN67: =TRIM(MID(SUBSTITUTE($AW$78,$BA$62,REPT(" ",LEN($AW$78))),($BA67-1)*LEN($AW$78)+1,LEN($AW$78))) | BO67: =TRIM(MID(SUBSTITUTE($AW$79,$BA$62,REPT(" ",LEN($AW$79))),($BA67-1)*LEN($AW$79)+1,LEN($AW$79))) | BP67: =TRIM(MID(SUBSTITUTE($AW$80,$BA$62,REPT(" ",LEN($AW$80))),($BA67-1)*LEN($AW$80)+1,LEN($AW$80))) | BQ67: =TRIM(MID(SUBSTITUTE($AW$81,$BA$62,REPT(" ",LEN($AW$81))),($BA67-1)*LEN($AW$81)+1,LEN($AW$81))) | BR67: =TRIM(MID(SUBSTITUTE($AW$82,$BA$62,REPT(" ",LEN($AW$82))),($BA67-1)*LEN($AW$82)+1,LEN($AW$82))) | BS67: =TRIM(MID(SUBSTITUTE($AW$83,$BA$62,REPT(" ",LEN($AW$83))),($BA67-1)*LEN($AW$83)+1,LEN($AW$83))) | BT67: =TRIM(MID(SUBSTITUTE($AW$84,$BA$62,REPT(" ",LEN($AW$84))),($BA67-1)*LEN($AW$84)+1,LEN($AW$84))) | BU67: =TRIM(MID(SUBSTITUTE($AW$85,$BA$62,REPT(" ",LEN($AW$85))),($BA67-1)*LEN($AW$85)+1,LEN($AW$85))) | BV67: =IF(BX67=0,"",CONCATENATE(BW67,"66:",BW67,BX67+65)) | BW67: BC | BX67: =BC64 -> 0
